Workbook

Sheet Список детей 1-2 года
A1: Список детей группы № 1 (1-2 года)
A3: № | B3: Фамилия, имя ребенка | C3: Дата рождения
A4: 1
A5: 2
A6: 3
A7: 4
A8: 5
A9: 6
A10: 7
A11: 8
A12: 9
A13: 10
A14: 11
A15: 12
... A33: 30

Sheet Позн.разв. 1-2 г Н.г 
A1: Стартовая диагностика | E1: ГРУППА МЛАДЕНЧЕСКОГО ВОЗРАСТА (1-2 года)
A2: Период проведения | E2: Начало уч. года (сентябрь) или начало посещения группы младенческого возраста
A3: *- не диагностируется в данном возрасте
A4: Сформированность показателя | E4: «2» показатель сформирован | J4: «1» показатель в стадии формирования | O4: «0» показатель не сформирован
A5: Средний уровень | E5: 1,8 - 2,0 норма-высокий | J5: 1,0 - 1,7 норма - средний | O5: 0,0 - 0,9 ниже нормы
A6: № | B6: Ф.И. ребенка | E6: ОБРАЗОВАТЕЛЬНАЯ ОБЛАСТЬ «ПОЗНАВАТЕЛЬНОЕ РАЗВИТИЕ» | T6: СРЕДНИЙ ПОКАЗАТЕЛЬ ПО РЕБЕНКУ
E7: Показатели возможных достижений (возрастные характеристики) к 1 году
E8: Сенсорные эталоны | H8: Познавательные действия | I8: Математические представления* | N8: Окружающий мир | R8: Природа
E9: Цвет, оттенки* | F9: Форма, геометрические фигуры* | G9: Величина* | I9: Количество и счет* | J9: Ориентировка во времени* | K9: Ориентировка в пространстве* | L9: Пространственно-количественные связи и отношения* | M9: Сравнение* | N9: Труд взрослых, профессии* | O9: Предметный мир | P9: Я- сам, человек* | Q9: Семья* | R9: Объекты живой природы | S9: Объекты неживой природы, природные явления
H10: Ребенок обнаруживает поисковую и познавательную активность по отношению к предметному окружению | O10: Ребенок проявляет интерес к окружающим предметам и действиям с ними | R10: Ребенок проявляет интерес к животным, птицам, рыбам, растениям | S10: Ребенок проявляет интерес к объектам неживой природы
A11: 1 | B11: ='Список детей 1-2 года'!B4 -> 0 | E11: * | F11: * | G11: * | I11: * | J11: * | K11: * | L11: * | M11: * | N11: * | P11: * | Q11: * | T11: =AVERAGE(E11:S11) -> #DIV/0!
A12: 2 | B12: ='Список детей 1-2 года'!B5 -> 0 | E12: * | F12: * | G12: * | I12: * | J12: * | K12: * | L12: * | M12: * | N12: * | P12: * | Q12: * | T12: =AVERAGE(E12:S12) -> #DIV/0!
A13: 3 | B13: ='Список детей 1-2 года'!B6 -> 0 | E13: * | F13: * | G13: * | I13: * | J13: * | K13: * | L13: * | M13: * | N13: * | P13: * | Q13: * | T13: =AVERAGE(E13:S13) -> #DIV/0!
A14: 4 | B14: ='Список детей 1-2 года'!B7 -> 0 | E14: * | F14: * | G14: * | I14: * | J14: * | K14: * | L14: * | M14: * | N14: * | P14: * | Q14: * | T14: =AVERAGE(E14:S14) -> #DIV/0!
A15: 5 | B15: ='Список детей 1-2 года'!B8 -> 0 | E15: * | F15: * | G15: * | I15: * | J15: * | K15: * | L15: * | M15: * | N15: * | P15: * | Q15: * | T15: =AVERAGE(E15:S15) -> #DIV/0!
A16: 6 | B16: ='Список детей 1-2 года'!B9 -> 0 | E16: * | F16: * | G16: * | I16: * | J16: * | K16: * | L16: * | M16: * | N16: * | P16: * | Q16: * | T16: =AVERAGE(E16:S16) -> #DIV/0!
A17: 7 | B17: ='Список детей 1-2 года'!B10 -> 0 | E17: * | F17: * | G17: * | I17: * | J17: * | K17: * | L17: * | M17: * | N17: * | P17: * | Q17: * | T17: =AVERAGE(E17:S17) -> #DIV/0!
A18: 8 | B18: ='Список детей 1-2 года'!B11 -> 0 | E18: * | F18: * | G18: * | I18: * | J18: * | K18: * | L18: * | M18: * | N18: * | P18: * | Q18: * | T18: =AVERAGE(E18:S18) -> #DIV/0!
A19: 9 | B19: ='Список детей 1-2 года'!B12 -> 0 | E19: * | F19: * | G19: * | I19: * | J19: * | K19: * | L19: * | M19: * | N19: * | P19: * | Q19: * | T19: =AVERAGE(E19:S19) -> #DIV/0!
A20: 10 | B20: ='Список детей 1-2 года'!B13 -> 0 | E20: * | F20: * | G20: * | I20: * | J20: * | K20: * | L20: * | M20: * | N20: * | P20: * | Q20: * | T20: =AVERAGE(E20:S20) -> #DIV/0!
A21: 11 | B21: ='Список детей 1-2 года'!B14 -> 0 | E21: * | F21: * | G21: * | I21: * | J21: * | K21: * | L21: * | M21: * | N21: * | P21: * | Q21: * | T21: =AVERAGE(E21:S21) -> #DIV/0!
A22: 12 | B22: ='Список детей 1-2 года'!B15 -> 0 | E22: * | F22: * | G22: * | I22: * | J22: * | K22: * | L22: * | M22: * | N22: * | P22: * | Q22: * | T22: =AVERAGE(E22:S22) -> #DIV/0!
... A40: 30 | B40: ='Список детей 1-2 года'!B33 -> 0 | E40: * | F40: * | G40: * | I40: * | J40: * | K40: * | L40: * | M40: * | N40: * | P40: * | Q40: * | T40: =AVERAGE(E40:S40) -> #DIV/0!
B41: средний показатель по критерию | H41: =AVERAGE(H11:H40) -> #DIV/0! | O41: =AVERAGE(O11:O40) -> #DIV/0! | R41: =AVERAGE(R11:R40) -> #DIV/0! | S41: =AVERAGE(S11:S40) -> #DIV/0!
B42: средний показатель по разделу | H42: =H41 -> #DIV/0! | O42: =O41 -> #DIV/0! | R42: =(R41+S41)/2 -> #DIV/0!
B43: СРЕДНИЙ ПОКАЗАТЕЛЬ ПО ГРУППЕ | T43: =AVERAGE(T11:T40) -> #DIV/0!
B44: Ф.И.О, должность специалиста(ов)____________________________________________________________________________________________________________________________________________________________________________________________________________________________________
B45: © Автор-составитель Кулекина И.А., СПб, 2023
B49: познавательные действия | E49: =H42 -> #DIV/0!
B50: окружающий мир | E50: =N42 -> 0
B51: природа | E51: =R42 -> #DIV/0!

Sheet Позн.разв. 1-2 г К.г  
A1: Стартовая диагностика | E1: ГРУППА МЛАДЕНЧЕСКОГО ВОЗРАСТА (1-2 года)
A2: Период проведения | E2: Конец уч. года (май)
A3: *- не диагностируется в данном возрасте
A4: Сформированность показателя | E4: «2» показатель сформирован | J4: «1» показатель в стадии формирования | O4: «0» показатель не сформирован
A5: Средний уровень | E5: 1,8 - 2,0 норма-высокий | J5: 1,0 - 1,7 норма - средний | O5: 0,0 - 0,9 ниже нормы
A6: № | B6: Ф.И. ребенка | E6: ОБРАЗОВАТЕЛЬНАЯ ОБЛАСТЬ «ПОЗНАВАТЕЛЬНОЕ РАЗВИТИЕ» | T6: СРЕДНИЙ ПОКАЗАТЕЛЬ ПО РЕБЕНКУ
E7: Показатели возможных достижений (возрастные характеристики) к 1 году
E8: Сенсорные эталоны | H8: Познавательные действия | I8: Математические представления* | N8: Окружающий мир | R8: Природа
E9: Цвет, оттенки* | F9: Форма, геометрические фигуры* | G9: Величина* | I9: Количество и счет* | J9: Ориентировка во времени* | K9: Ориентировка в пространстве* | L9: Пространственно-количественные связи и отношения* | M9: Сравнение* | N9: Труд взрослых, профессии* | O9: Предметный мир | P9: Я- сам, человек* | Q9: Семья* | R9: Объекты живой природы | S9: Объекты неживой природы, природные явления
H10: Ребенок обнаруживает поисковую и познавательную активность по отношению к предметному окружению | O10: Ребенок проявляет интерес к окружающим предметам и действиям с ними | R10: Ребенок проявляет интерес к животным, птицам, рыбам, растениям | S10: Ребенок проявляет интерес к объектам неживой природы
A11: 1 | B11: ='Список детей 1-2 года'!B4 -> 0 | E11: * | F11: * | G11: * | I11: * | J11: * | K11: * | L11: * | M11: * | N11: * | P11: * | Q11: * | T11: =AVERAGE(E11:S11) -> #DIV/0!
A12: 2 | B12: ='Список детей 1-2 года'!B5 -> 0 | E12: * | F12: * | G12: * | I12: * | J12: * | K12: * | L12: * | M12: * | N12: * | P12: * | Q12: * | T12: =AVERAGE(E12:S12) -> #DIV/0!
A13: 3 | B13: ='Список детей 1-2 года'!B6 -> 0 | E13: * | F13: * | G13: * | I13: * | J13: * | K13: * | L13: * | M13: * | N13: * | P13: * | Q13: * | T13: =AVERAGE(E13:S13) -> #DIV/0!
A14: 4 | B14: ='Список детей 1-2 года'!B7 -> 0 | E14: * | F14: * | G14: * | I14: * | J14: * | K14: * | L14: * | M14: * | N14: * | P14: * | Q14: * | T14: =AVERAGE(E14:S14) -> #DIV/0!
A15: 5 | B15: ='Список детей 1-2 года'!B8 -> 0 | E15: * | F15: * | G15: * | I15: * | J15: * | K15: * | L15: * | M15: * | N15: * | P15: * | Q15: * | T15: =AVERAGE(E15:S15) -> #DIV/0!
A16: 6 | B16: ='Список детей 1-2 года'!B9 -> 0 | E16: * | F16: * | G16: * | I16: * | J16: * | K16: * | L16: * | M16: * | N16: * | P16: * | Q16: * | T16: =AVERAGE(E16:S16) -> #DIV/0!
A17: 7 | B17: ='Список детей 1-2 года'!B10 -> 0 | E17: * | F17: * | G17: * | I17: * | J17: * | K17: * | L17: * | M17: * | N17: * | P17: * | Q17: * | T17: =AVERAGE(E17:S17) -> #DIV/0!
A18: 8 | B18: ='Список детей 1-2 года'!B11 -> 0 | E18: * | F18: * | G18: * | I18: * | J18: * | K18: * | L18: * | M18: * | N18: * | P18: * | Q18: * | T18: =AVERAGE(E18:S18) -> #DIV/0!
A19: 9 | B19: ='Список детей 1-2 года'!B12 -> 0 | E19: * | F19: * | G19: * | I19: * | J19: * | K19: * | L19: * | M19: * | N19: * | P19: * | Q19: * | T19: =AVERAGE(E19:S19) -> #DIV/0!
A20: 10 | B20: ='Список детей 1-2 года'!B13 -> 0 | E20: * | F20: * | G20: * | I20: * | J20: * | K20: * | L20: * | M20: * | N20: * | P20: * | Q20: * | T20: =AVERAGE(E20:S20) -> #DIV/0!
A21: 11 | B21: ='Список детей 1-2 года'!B14 -> 0 | E21: * | F21: * | G21: * | I21: * | J21: * | K21: * | L21: * | M21: * | N21: * | P21: * | Q21: * | T21: =AVERAGE(E21:S21) -> #DIV/0!
A22: 12 | B22: ='Список детей 1-2 года'!B15 -> 0 | E22: * | F22: * | G22: * | I22: * | J22: * | K22: * | L22: * | M22: * | N22: * | P22: * | Q22: * | T22: =AVERAGE(E22:S22) -> #DIV/0!
... A40: 30 | B40: ='Список детей 1-2 года'!B33 -> 0 | E40: * | F40: * | G40: * | I40: * | J40: * | K40: * | L40: * | M40: * | N40: * | P40: * | Q40: * | T40: =AVERAGE(E40:S40) -> #DIV/0!
B41: средний показатель по критерию | H41: =AVERAGE(H11:H40) -> #DIV/0! | O41: =AVERAGE(O11:O40) -> #DIV/0! | R41: =AVERAGE(R11:R40) -> #DIV/0! | S41: =AVERAGE(S11:S40) -> #DIV/0!
B42: средний показатель по разделу | H42: =H41 -> #DIV/0! | N42: =O41 -> #DIV/0! | R42: =(R41+S41)/2 -> #DIV/0!
B43: СРЕДНИЙ ПОКАЗАТЕЛЬ ПО ГРУППЕ | T43: =AVERAGE(T11:T40) -> #DIV/0!
B44: Ф.И.О, должность специалиста(ов)____________________________________________________________________________________________________________________________________________________________________________________________________________________________________
B45: © Автор-составитель Кулекина И.А., СПб, 2023
B49: познавательные действия | E49: =H42 -> #DIV/0!
B50: окружающий мир | E50: =N42 -> #DIV/0!
B51: природа | E51: =R42 -> #DIV/0!

Sheet Динамика позн.разв
A1: Обобщение результатов педагогической диагностики по ОО "Познавательное развитие" (дети 1-2 лет)
B3: познавательное развитие | C3: окружающий мир | D3: природа | E3: средний показатель по группе
A4: начало года | B4: ='Позн.разв. 1-2 г Н.г '!E49 -> #DIV/0! | C4: ='Позн.разв. 1-2 г Н.г '!E50 -> 0 | D4: ='Позн.разв. 1-2 г Н.г '!E51 -> #DIV/0! | E4: ='Позн.разв. 1-2 г Н.г '!T43 -> #DIV/0!
A5: конец года | B5: ='Позн.разв. 1-2 г К.г '!E49 -> #DIV/0! | C5: ='Позн.разв. 1-2 г К.г '!E50 -> #DIV/0! | D5: ='Позн.разв. 1-2 г К.г '!E51 -> #DIV/0! | E5: ='Позн.разв. 1-2 г К.г '!T43 -> #DIV/0!

Sheet Реч.разв. 1-2 г. Н.г.
A1: Стартовая диагностика | E1: ГРУППА МЛАДЕНЧЕСКОГО ВОЗРАСТА (1-2 года)
A2: Период проведения | E2: Начало уч. года (сентябрь) или начало посещения группы младенческого возраста
A3: *- не диагностируется в данном возрасте
A4: Сформированность показателя | E4: «2» показатель сформирован | H4: «1» показатель в стадии формирования | K4: «0» показатель не сформирован
A5: Средний уровень | E5: 1,8 - 2,0 норма-высокий | H5: 1,0 - 1,7 норма - средний | K5: 0,0 - 0,9 ниже нормы
A6: № | B6: Ф.И. ребенка | E6: ОБРАЗОВАТЕЛЬНАЯ ОБЛАСТЬ «РЕЧЕВОЕ РАЗВИТИЕ» | N6: СРЕДНИЙ ПОКАЗАТЕЛЬ ПО РЕБЕНКУ
E7: Показатели возможных достижений (возрастные характеристики) к 1 году
E8: Общее речевое развитие | H8: Формирование словаря | I8: Звуковая культура речи* | J8: Грамматический строй* | K8: Связная речь* | L8: ЧХЛ* | M8: Подготовка к обучению грамоте*
E9: Ребенок понимает речь взрослого | F9: Ребенок откликается на свое имя | G9: Ребенок показывает окружающие предметы по заданию педагога | H9: Ребенок произносит несколько простых, облегченных слов (мама, папа, баба, деда и т.д.), некоторые несут смысловую нагрузку
A11: 1 | B11: ='Список детей 1-2 года'!B4 -> 0 | I11: * | J11: * | K11: * | L11: * | M11: * | N11: =AVERAGE(E11:M11) -> #DIV/0!
A12: 2 | B12: ='Список детей 1-2 года'!B5 -> 0 | I12: * | J12: * | K12: * | L12: * | M12: * | N12: =AVERAGE(E12:M12) -> #DIV/0!
A13: 3 | B13: ='Список детей 1-2 года'!B6 -> 0 | I13: * | J13: * | K13: * | L13: * | M13: * | N13: =AVERAGE(E13:M13) -> #DIV/0!
A14: 4 | B14: ='Список детей 1-2 года'!B7 -> 0 | I14: * | J14: * | K14: * | L14: * | M14: * | N14: =AVERAGE(E14:M14) -> #DIV/0!
A15: 5 | B15: ='Список детей 1-2 года'!B8 -> 0 | I15: * | J15: * | K15: * | L15: * | M15: * | N15: =AVERAGE(E15:M15) -> #DIV/0!
A16: 6 | B16: ='Список детей 1-2 года'!B9 -> 0 | I16: * | J16: * | K16: * | L16: * | M16: * | N16: =AVERAGE(E16:M16) -> #DIV/0!
A17: 7 | B17: ='Список детей 1-2 года'!B10 -> 0 | I17: * | J17: * | K17: * | L17: * | M17: * | N17: =AVERAGE(E17:M17) -> #DIV/0!
A18: 8 | B18: ='Список детей 1-2 года'!B11 -> 0 | I18: * | J18: * | K18: * | L18: * | M18: * | N18: =AVERAGE(E18:M18) -> #DIV/0!
A19: 9 | B19: ='Список детей 1-2 года'!B12 -> 0 | I19: * | J19: * | K19: * | L19: * | M19: * | N19: =AVERAGE(E19:M19) -> #DIV/0!
A20: 10 | B20: ='Список детей 1-2 года'!B13 -> 0 | I20: * | J20: * | K20: * | L20: * | M20: * | N20: =AVERAGE(E20:M20) -> #DIV/0!
A21: 11 | B21: ='Список детей 1-2 года'!B14 -> 0 | I21: * | J21: * | K21: * | L21: * | M21: * | N21: =AVERAGE(E21:M21) -> #DIV/0!
A22: 12 | B22: ='Список детей 1-2 года'!B15 -> 0 | I22: * | J22: * | K22: * | L22: * | M22: * | N22: =AVERAGE(E22:M22) -> #DIV/0!
... A40: 30 | B40: ='Список детей 1-2 года'!B33 -> 0 | I40: * | J40: * | K40: * | L40: * | M40: * | N40: =AVERAGE(E40:M40) -> #DIV/0!
B41: средний показатель по критерию | E41: =AVERAGE(E11:E40) -> #DIV/0! | F41: =AVERAGE(F11:F40) -> #DIV/0! | G41: =AVERAGE(G11:G40) -> #DIV/0! | H41: =AVERAGE(H11:H40) -> #DIV/0!
B42: средний показатель по разделу | E42: =(E41+F41+G41)/3 -> #DIV/0! | H42: =H41 -> #DIV/0!
B43: СРЕДНИЙ ПОКАЗАТЕЛЬ ПО ГРУППЕ | N43: =AVERAGE(N11:N40) -> #DIV/0!
B44: Ф.И.О, должность специалиста(ов)____________________________________________________________________________________________________________________________________________________________________________________________________________________________________
B45: © Автор-составитель Кулекина И.А., СПб, 2023
B48: общее речевое развитие | E48: =E42 -> #DIV/0!
B49: формирование словаря | E49: =H42 -> #DIV/0!

Sheet Реч.разв. 1-2 г. К.г.
A1: Стартовая диагностика | E1: ГРУППА МЛАДЕНЧЕСКОГО ВОЗРАСТА (1-2 года)
A2: Период проведения | E2: Конец уч. года (май)
A3: *- не диагностируется в данном возрасте
A4: Сформированность показателя | E4: «2» показатель сформирован | H4: «1» показатель в стадии формирования | K4: «0» показатель не сформирован
A5: Средний уровень | E5: 1,8 - 2,0 норма-высокий | H5: 1,0 - 1,7 норма - средний | K5: 0,0 - 0,9 ниже нормы
A6: № | B6: Ф.И. ребенка | E6: ОБРАЗОВАТЕЛЬНАЯ ОБЛАСТЬ «РЕЧЕВОЕ РАЗВИТИЕ» | N6: СРЕДНИЙ ПОКАЗАТЕЛЬ ПО РЕБЕНКУ
E7: Показатели возможных достижений (возрастные характеристики) к 1 году
E8: Общее речевое развитие | H8: Формирование словаря | I8: Звуковая культура речи* | J8: Грамматический строй* | K8: Связная речь* | L8: ЧХЛ* | M8: Подготовка к обучению грамоте*
E9: Ребенок понимает речь взрослого | F9: Ребенок откликается на свое имя | G9: Ребенок показывает окружающие предметы по заданию педагога | H9: Ребенок произносит несколько простых, облегченных слов (мама, папа, баба, деда и т.д.), некоторые несут смысловую нагрузку
A11: 1 | B11: ='Список детей 1-2 года'!B4 -> 0 | I11: * | J11: * | K11: * | L11: * | M11: * | N11: =AVERAGE(E11:M11) -> #DIV/0!
A12: 2 | B12: ='Список детей 1-2 года'!B5 -> 0 | I12: * | J12: * | K12: * | L12: * | M12: * | N12: =AVERAGE(E12:M12) -> #DIV/0!
A13: 3 | B13: ='Список детей 1-2 года'!B6 -> 0 | I13: * | J13: * | K13: * | L13: * | M13: * | N13: =AVERAGE(E13:M13) -> #DIV/0!
A14: 4 | B14: ='Список детей 1-2 года'!B7 -> 0 | I14: * | J14: * | K14: * | L14: * | M14: * | N14: =AVERAGE(E14:M14) -> #DIV/0!
A15: 5 | B15: ='Список детей 1-2 года'!B8 -> 0 | I15: * | J15: * | K15: * | L15: * | M15: * | N15: =AVERAGE(E15:M15) -> #DIV/0!
A16: 6 | B16: ='Список детей 1-2 года'!B9 -> 0 | I16: * | J16: * | K16: * | L16: * | M16: * | N16: =AVERAGE(E16:M16) -> #DIV/0!
A17: 7 | B17: ='Список детей 1-2 года'!B10 -> 0 | I17: * | J17: * | K17: * | L17: * | M17: * | N17: =AVERAGE(E17:M17) -> #DIV/0!
A18: 8 | B18: ='Список детей 1-2 года'!B11 -> 0 | I18: * | J18: * | K18: * | L18: * | M18: * | N18: =AVERAGE(E18:M18) -> #DIV/0!
A19: 9 | B19: ='Список детей 1-2 года'!B12 -> 0 | I19: * | J19: * | K19: * | L19: * | M19: * | N19: =AVERAGE(E19:M19) -> #DIV/0!
A20: 10 | B20: ='Список детей 1-2 года'!B13 -> 0 | I20: * | J20: * | K20: * | L20: * | M20: * | N20: =AVERAGE(E20:M20) -> #DIV/0!
A21: 11 | B21: ='Список детей 1-2 года'!B14 -> 0 | I21: * | J21: * | K21: * | L21: * | M21: * | N21: =AVERAGE(E21:M21) -> #DIV/0!
A22: 12 | B22: ='Список детей 1-2 года'!B15 -> 0 | I22: * | J22: * | K22: * | L22: * | M22: * | N22: =AVERAGE(E22:M22) -> #DIV/0!
... A40: 30 | B40: ='Список детей 1-2 года'!B33 -> 0 | I40: * | J40: * | K40: * | L40: * | M40: * | N40: =AVERAGE(E40:M40) -> #DIV/0!
B41: средний показатель по критерию | E41: =AVERAGE(E11:E40) -> #DIV/0! | F41: =AVERAGE(F11:F40) -> #DIV/0! | G41: =AVERAGE(G11:G40) -> #DIV/0! | H41: =AVERAGE(H11:H40) -> #DIV/0!
B42: средний показатель по разделу | E42: =(E41+F41+G41)/3 -> #DIV/0! | H42: =H41 -> #DIV/0!
B43: СРЕДНИЙ ПОКАЗАТЕЛЬ ПО ГРУППЕ | N43: =AVERAGE(N11:N40) -> #DIV/0!
B44: Ф.И.О, должность специалиста(ов)____________________________________________________________________________________________________________________________________________________________________________________________________________________________________
B45: © Автор-составитель Кулекина И.А., СПб, 2023
B48: общее речевое развитие | E48: =E42 -> #DIV/0!
B49: формирование словаря | E49: =H42 -> #DIV/0!

Sheet Динамика реч.разв 
A1: Обобщение результатов педагогической диагностики по ОО "Речевое развитие" (дети 1-2 лет)
B3: общее речевое развитие | C3: формирование словаря | D3: средний показатель по группе
A4: начало года | B4: ='Реч.разв. 1-2 г. Н.г.'!E48 -> #DIV/0! | C4: ='Реч.разв. 1-2 г. Н.г.'!E49 -> #DIV/0! | D4: ='Реч.разв. 1-2 г. Н.г.'!N43 -> #DIV/0!
A5: конец года | B5: ='Реч.разв. 1-2 г. К.г.'!E48 -> #DIV/0! | C5: ='Реч.разв. 1-2 г. К.г.'!E49 -> #DIV/0! | D5: ='Реч.разв. 1-2 г. К.г.'!N43 -> #DIV/0!

Sheet Худ.-эст. 1-2 г. Н.г
A1: Стартовая диагностика | E1: ГРУППА МЛАДЕНЧЕСКОГО ВОЗРАСТА (1-2 года)
A2: Период проведения | E2: Начало уч. года (сентябрь) или начало посещения группы младенческого возраста
A3: *- не диагностируется в данном возрасте
A4: Сформированность показателя | E4: «2» показатель сформирован | H4: «1» показатель в стадии формирования | L4: «0» показатель не сформирован
A5: Средний уровень | E5: 1,8 - 2,0 норма-высокий | H5: 1,0 - 1,7 норма - средний | L5: 0,0 - 0,9 ниже нормы
A6: № | B6: Ф.И. ребенка | E6: ОБРАЗОВАТЕЛЬНАЯ ОБЛАСТЬ «ХУДОЖЕСТВЕННО-ЭСТЕТИЧЕСКОЕ РАЗВИТИЕ» | T6: СРЕДНИЙ ПОКАЗАТЕЛЬ ПО РЕБЕНКУ
E7: Показатели возможных достижений (возрастные характеристики) к 1 году
E8: Музыкальная деятельность | L8: Изобразительная деятельность* | Q8: Приобщение к искусству* | R8: Конструктивная деятельность* | S8: Театрализованная деятельность*
E9: Слушание | F9: Пение | G9: Музыкально-ритмические движения | H9: Песенное творчество* | I9: Игра на детских музыкальных инструментах | K9: Танцевально-игровое творчество* | L9: Рисование* | M9: Лепка * | N9: Аппликация* | O9: Народное ДПИ* | P9: Прикладное творчество*
E10: Ребенок эмоционально реагирует на музыку | F10: Ребенок эмоционально реагирует на пение | G10: Ребенок хлопает в ладоши, притоптывает, слегка приседает, сгибает и разгибает ноги в коленях | I10: Ребенок звенит погремушкой, колокольчиком, бубном, ударяет в барабан | J10: Ребенок прислушивается к звучанию
A12: 1 | B12: ='Список детей 1-2 года'!B4 -> 0 | H12: * | K12: * | L12: * | M12: * | N12: * | O12: * | P12: * | Q12: * | R12: * | S12: * | T12: =AVERAGE(E12:S12) -> #DIV/0!
A13: 2 | B13: ='Список детей 1-2 года'!B5 -> 0 | H13: * | K13: * | L13: * | M13: * | N13: * | O13: * | P13: * | Q13: * | R13: * | S13: * | T13: =AVERAGE(E13:S13) -> #DIV/0!
A14: 3 | B14: ='Список детей 1-2 года'!B6 -> 0 | H14: * | K14: * | L14: * | M14: * | N14: * | O14: * | P14: * | Q14: * | R14: * | S14: * | T14: =AVERAGE(E14:S14) -> #DIV/0!
A15: 4 | B15: ='Список детей 1-2 года'!B7 -> 0 | H15: * | K15: * | L15: * | M15: * | N15: * | O15: * | P15: * | Q15: * | R15: * | S15: * | T15: =AVERAGE(E15:S15) -> #DIV/0!
A16: 5 | B16: ='Список детей 1-2 года'!B8 -> 0 | H16: * | K16: * | L16: * | M16: * | N16: * | O16: * | P16: * | Q16: * | R16: * | S16: * | T16: =AVERAGE(E16:S16) -> #DIV/0!
A17: 6 | B17: ='Список детей 1-2 года'!B9 -> 0 | H17: * | K17: * | L17: * | M17: * | N17: * | O17: * | P17: * | Q17: * | R17: * | S17: * | T17: =AVERAGE(E17:S17) -> #DIV/0!
A18: 7 | B18: ='Список детей 1-2 года'!B10 -> 0 | H18: * | K18: * | L18: * | M18: * | N18: * | O18: * | P18: * | Q18: * | R18: * | S18: * | T18: =AVERAGE(E18:S18) -> #DIV/0!
A19: 8 | B19: ='Список детей 1-2 года'!B11 -> 0 | H19: * | K19: * | L19: * | M19: * | N19: * | O19: * | P19: * | Q19: * | R19: * | S19: * | T19: =AVERAGE(E19:S19) -> #DIV/0!
A20: 9 | B20: ='Список детей 1-2 года'!B12 -> 0 | H20: * | K20: * | L20: * | M20: * | N20: * | O20: * | P20: * | Q20: * | R20: * | S20: * | T20: =AVERAGE(E20:S20) -> #DIV/0!
A21: 10 | B21: ='Список детей 1-2 года'!B13 -> 0 | H21: * | K21: * | L21: * | M21: * | N21: * | O21: * | P21: * | Q21: * | R21: * | S21: * | T21: =AVERAGE(E21:S21) -> #DIV/0!
A22: 11 | B22: ='Список детей 1-2 года'!B14 -> 0 | H22: * | K22: * | L22: * | M22: * | N22: * | O22: * | P22: * | Q22: * | R22: * | S22: * | T22: =AVERAGE(E22:S22) -> #DIV/0!
A23: 12 | B23: ='Список детей 1-2 года'!B15 -> 0 | H23: * | K23: * | L23: * | M23: * | N23: * | O23: * | P23: * | Q23: * | R23: * | S23: * | T23: =AVERAGE(E23:S23) -> #DIV/0!
... A41: 30 | B41: ='Список детей 1-2 года'!B33 -> 0 | H41: * | K41: * | L41: * | M41: * | N41: * | O41: * | P41: * | Q41: * | R41: * | S41: * | T41: =AVERAGE(E41:S41) -> #DIV/0!
B42: средний показатель по критерию | E42: =AVERAGE(E12:E41) -> #DIV/0! | F42: =AVERAGE(F12:F41) -> #DIV/0! | G42: =AVERAGE(G12:G41) -> #DIV/0! | I42: =AVERAGE(I12:I41) -> #DIV/0! | J42: =AVERAGE(J12:J41) -> #DIV/0!
B43: средний показатель по разделу | E43: =(E42+F42+G42+I42+J42)/5 -> #DIV/0!
B44: СРЕДНИЙ ПОКАЗАТЕЛЬ ПО ГРУППЕ | T44: =AVERAGE(T12:T41) -> #DIV/0!
B45: Ф.И.О, должность специалиста(ов)____________________________________________________________________________________________________________________________________________________________________________________________________________________________________
B46: © Автор-составитель Кулекина И.А., СПб, 2023
B49: музыкальная деятельность | E49: =E43 -> #DIV/0!

Sheet Худ.-эст.1-2 г.К.г.
A1: Стартовая диагностика | E1: ГРУППА МЛАДЕНЧЕСКОГО ВОЗРАСТА (1-2 года)
A2: Период проведения | E2: Конец уч. года (май)
A3: *- не диагностируется в данном возрасте
A4: Сформированность показателя | E4: «2» показатель сформирован | H4: «1» показатель в стадии формирования | L4: «0» показатель не сформирован
A5: Средний уровень | E5: 1,8 - 2,0 норма-высокий | H5: 1,0 - 1,7 норма - средний | L5: 0,0 - 0,9 ниже нормы
A6: № | B6: Ф.И. ребенка | E6: ОБРАЗОВАТЕЛЬНАЯ ОБЛАСТЬ «ХУДОЖЕСТВЕННО-ЭСТЕТИЧЕСКОЕ РАЗВИТИЕ» | T6: СРЕДНИЙ ПОКАЗАТЕЛЬ ПО РЕБЕНКУ
E7: Показатели возможных достижений (возрастные характеристики) к 1 году
E8: Музыкальная деятельность | L8: Изобразительная деятельность* | Q8: Приобщение к искусству* | R8: Конструктивная деятельность* | S8: Театрализованная деятельность*
E9: Слушание | F9: Пение | G9: Музыкально-ритмические движения | H9: Песенное творчество* | I9: Игра на детских музыкальных инструментах | K9: Танцевально-игровое творчество* | L9: Рисование* | M9: Лепка * | N9: Аппликация* | O9: Народное ДПИ* | P9: Прикладное творчество*
E10: Ребенок эмоционально реагирует на музыку | F10: Ребенок эмоционально реагирует на пение | G10: Ребенок хлопает в ладоши, притоптывает, слегка приседает, сгибает и разгибает ноги в коленях | I10: Ребенок звенит погремушкой, колокольчиком, бубном, ударяет в барабан | J10: Ребенок прислушивается к звучанию
A12: 1 | B12: ='Список детей 1-2 года'!B4 -> 0 | H12: * | K12: * | L12: * | M12: * | N12: * | O12: * | P12: * | Q12: * | R12: * | S12: * | T12: =AVERAGE(E12:S12) -> #DIV/0!
A13: 2 | B13: ='Список детей 1-2 года'!B5 -> 0 | H13: * | K13: * | L13: * | M13: * | N13: * | O13: * | P13: * | Q13: * | R13: * | S13: * | T13: =AVERAGE(E13:S13) -> #DIV/0!
A14: 3 | B14: ='Список детей 1-2 года'!B6 -> 0 | H14: * | K14: * | L14: * | M14: * | N14: * | O14: * | P14: * | Q14: * | R14: * | S14: * | T14: =AVERAGE(E14:S14) -> #DIV/0!
A15: 4 | B15: ='Список детей 1-2 года'!B7 -> 0 | H15: * | K15: * | L15: * | M15: * | N15: * | O15: * | P15: * | Q15: * | R15: * | S15: * | T15: =AVERAGE(E15:S15) -> #DIV/0!
A16: 5 | B16: ='Список детей 1-2 года'!B8 -> 0 | H16: * | K16: * | L16: * | M16: * | N16: * | O16: * | P16: * | Q16: * | R16: * | S16: * | T16: =AVERAGE(E16:S16) -> #DIV/0!
A17: 6 | B17: ='Список детей 1-2 года'!B9 -> 0 | H17: * | K17: * | L17: * | M17: * | N17: * | O17: * | P17: * | Q17: * | R17: * | S17: * | T17: =AVERAGE(E17:S17) -> #DIV/0!
A18: 7 | B18: ='Список детей 1-2 года'!B10 -> 0 | H18: * | K18: * | L18: * | M18: * | N18: * | O18: * | P18: * | Q18: * | R18: * | S18: * | T18: =AVERAGE(E18:S18) -> #DIV/0!
A19: 8 | B19: ='Список детей 1-2 года'!B11 -> 0 | H19: * | K19: * | L19: * | M19: * | N19: * | O19: * | P19: * | Q19: * | R19: * | S19: * | T19: =AVERAGE(E19:S19) -> #DIV/0!
A20: 9 | B20: ='Список детей 1-2 года'!B12 -> 0 | H20: * | K20: * | L20: * | M20: * | N20: * | O20: * | P20: * | Q20: * | R20: * | S20: * | T20: =AVERAGE(E20:S20) -> #DIV/0!
A21: 10 | B21: ='Список детей 1-2 года'!B13 -> 0 | H21: * | K21: * | L21: * | M21: * | N21: * | O21: * | P21: * | Q21: * | R21: * | S21: * | T21: =AVERAGE(E21:S21) -> #DIV/0!
A22: 11 | B22: ='Список детей 1-2 года'!B14 -> 0 | H22: * | K22: * | L22: * | M22: * | N22: * | O22: * | P22: * | Q22: * | R22: * | S22: * | T22: =AVERAGE(E22:S22) -> #DIV/0!
A23: 12 | B23: ='Список детей 1-2 года'!B15 -> 0 | H23: * | K23: * | L23: * | M23: * | N23: * | O23: * | P23: * | Q23: * | R23: * | S23: * | T23: =AVERAGE(E23:S23) -> #DIV/0!
... A41: 30 | B41: ='Список детей 1-2 года'!B33 -> 0 | H41: * | K41: * | L41: * | M41: * | N41: * | O41: * | P41: * | Q41: * | R41: * | S41: * | T41: =AVERAGE(E41:S41) -> #DIV/0!
B42: средний показатель по критерию | E42: =AVERAGE(E12:E41) -> #DIV/0! | F42: =AVERAGE(F12:F41) -> #DIV/0! | G42: =AVERAGE(G12:G41) -> #DIV/0! | I42: =AVERAGE(I12:I41) -> #DIV/0! | J42: =AVERAGE(J12:J41) -> #DIV/0!
B43: средний показатель по разделу | E43: =(E42+F42+G42+I42+J42)/5 -> #DIV/0!
B44: СРЕДНИЙ ПОКАЗАТЕЛЬ ПО ГРУППЕ | T44: =AVERAGE(T12:T41) -> #DIV/0!
B45: Ф.И.О, должность специалиста(ов)____________________________________________________________________________________________________________________________________________________________________________________________________________________________________
B46: © Автор-составитель Кулекина И.А., СПб, 2023
B49: музыкальная деятельность | E49: =E43 -> #DIV/0!

Sheet Динамика худ-эст.разв  
A1: Обобщение результатов педагогической диагностики по ОО "Художественно-эстетическое развитие" (дети 1-2 лет)
B3: музыкальная деятельность | C3: средний показатель по группе
A4: начало года | B4: ='Худ.-эст. 1-2 г. Н.г'!E49 -> #DIV/0! | C4: ='Худ.-эст. 1-2 г. Н.г'!T44 -> #DIV/0!
A5: конец года | B5: ='Худ.-эст.1-2 г.К.г.'!E49 -> #DIV/0! | C5: ='Худ.-эст.1-2 г.К.г.'!T44 -> #DIV/0!

Sheet Соц.ком. 1-2 г. Н.г.
A1: Стартовая диагностика | E1: ГРУППА МЛАДЕНЧЕСКОГО ВОЗРАСТА (1-2 года)
A2: Период проведения | E2: Начало уч. года (сентябрь) или начало посещения группы младенческого возраста
A3: *- не диагностируется в данном возрасте
A4: Сформированность показателя | E4: «2» показатель сформирован | H4: «1» показатель в стадии формирования | L4: «0» показатель не сформирован
A5: Средний уровень | E5: 1,8 - 2,0 норма-высокий | H5: 1,0 - 1,7 норма - средний | L5: 0,0 - 0,9 ниже нормы
A6: № | B6: Ф.И. ребенка | E6: ОБРАЗОВАТЕЛЬНАЯ ОБЛАСТЬ «СОЦИАЛЬНО-КОММУНИКАТИВНОЕ РАЗВИТИЕ» | O6: СРЕДНИЙ ПОКАЗАТЕЛЬ ПО РЕБЕНКУ
E7: Показатели возможных достижений (возрастные характеристики) к 1 году
E8: Сфера социальных отношений | L8: Область формирования основ гражданственности и патриотизма* | M8: Сфера трудового воспитания* | N8: Область формирования основ безопасного поведения*
E9: Отношение к самому себе | F9: Отношение к сверстникам* | G9: Отношение к взрослым | H9: Эмоции* | I9: Поведение | J9: Семья | K9: Игровое поведение
E10: Ребенок откликается на свое имя | G10: Ребенок эмоционально реагирует на внимание взрослого, проявляет радость в ответ на общение со взрослым | I10: Ребенок выполняет простые просьбы взрослого, понимает и адекватно реагирует на слова, регулирующие поведение (можно/нельзя) | J10: Ребенок положительно реагирует на знакомых людей, имена близких родственников | K10: Ребенок активно действует с игрушками, подражая действиям взрослых (катает машинку, кормит собачку, качает куклу)
A11: 1 | B11: ='Список детей 1-2 года'!B4 -> 0 | F11: * | H11: * | L11: * | M11: * | N11: * | O11: =AVERAGE(E11:N11) -> #DIV/0!
A12: 2 | B12: ='Список детей 1-2 года'!B5 -> 0 | F12: * | H12: * | L12: * | M12: * | N12: * | O12: =AVERAGE(E12:N12) -> #DIV/0!
A13: 3 | B13: ='Список детей 1-2 года'!B6 -> 0 | F13: * | H13: * | L13: * | M13: * | N13: * | O13: =AVERAGE(E13:N13) -> #DIV/0!
A14: 4 | B14: ='Список детей 1-2 года'!B7 -> 0 | F14: * | H14: * | L14: * | M14: * | N14: * | O14: =AVERAGE(E14:N14) -> #DIV/0!
A15: 5 | B15: ='Список детей 1-2 года'!B8 -> 0 | F15: * | H15: * | L15: * | M15: * | N15: * | O15: =AVERAGE(E15:N15) -> #DIV/0!
A16: 6 | B16: ='Список детей 1-2 года'!B9 -> 0 | F16: * | H16: * | L16: * | M16: * | N16: * | O16: =AVERAGE(E16:N16) -> #DIV/0!
A17: 7 | B17: ='Список детей 1-2 года'!B10 -> 0 | F17: * | H17: * | L17: * | M17: * | N17: * | O17: =AVERAGE(E17:N17) -> #DIV/0!
A18: 8 | B18: ='Список детей 1-2 года'!B11 -> 0 | F18: * | H18: * | L18: * | M18: * | N18: * | O18: =AVERAGE(E18:N18) -> #DIV/0!
A19: 9 | B19: ='Список детей 1-2 года'!B12 -> 0 | F19: * | H19: * | L19: * | M19: * | N19: * | O19: =AVERAGE(E19:N19) -> #DIV/0!
A20: 10 | B20: ='Список детей 1-2 года'!B13 -> 0 | F20: * | H20: * | L20: * | M20: * | N20: * | O20: =AVERAGE(E20:N20) -> #DIV/0!
A21: 11 | B21: ='Список детей 1-2 года'!B14 -> 0 | F21: * | H21: * | L21: * | M21: * | N21: * | O21: =AVERAGE(E21:N21) -> #DIV/0!
A22: 12 | B22: ='Список детей 1-2 года'!B15 -> 0 | F22: * | H22: * | L22: * | M22: * | N22: * | O22: =AVERAGE(E22:N22) -> #DIV/0!
... A40: 30 | B40: ='Список детей 1-2 года'!B33 -> 0 | F40: * | H40: * | L40: * | M40: * | N40: * | O40: =AVERAGE(E40:N40) -> #DIV/0!
B41: средний показатель по критерию | E41: =AVERAGE(E11:E40) -> #DIV/0! | G41: =AVERAGE(G11:G40) -> #DIV/0! | I41: =AVERAGE(I11:I40) -> #DIV/0! | J41: =AVERAGE(J11:J40) -> #DIV/0! | K41: =AVERAGE(K11:K40) -> #DIV/0!
B42: средний показатель по разделу | E42: =(E41+G41+I41+J41+K41)/5 -> #DIV/0!
B43: СРЕДНИЙ ПОКАЗАТЕЛЬ ПО ГРУППЕ | O43: =AVERAGE(O11:O40) -> #DIV/0!
B44: Ф.И.О, должность специалиста(ов)____________________________________________________________________________________________________________________________________________________________________________________________________________________________________
B45: © Автор-составитель Кулекина И.А., СПб, 2023
B48: сфера социальных отношений | E48: =E42 -> #DIV/0!

Sheet Соц.ком. 1-2 г. К.г. 
A1: Стартовая диагностика | E1: ГРУППА МЛАДЕНЧЕСКОГО ВОЗРАСТА (1-2 года)
A2: Период проведения | E2: Конец уч. года (май)
A3: *- не диагностируется в данном возрасте
A4: Сформированность показателя | E4: «2» показатель сформирован | H4: «1» показатель в стадии формирования | L4: «0» показатель не сформирован
A5: Средний уровень | E5: 1,8 - 2,0 норма-высокий | H5: 1,0 - 1,7 норма - средний | L5: 0,0 - 0,9 ниже нормы
A6: № | B6: Ф.И. ребенка | E6: ОБРАЗОВАТЕЛЬНАЯ ОБЛАСТЬ «СОЦИАЛЬНО-КОММУНИКАТИВНОЕ РАЗВИТИЕ» | O6: СРЕДНИЙ ПОКАЗАТЕЛЬ ПО РЕБЕНКУ
E7: Показатели возможных достижений (возрастные характеристики) к 1 году
E8: Сфера социальных отношений | L8: Область формирования основ гражданственности и патриотизма* | M8: Сфера трудового воспитания* | N8: Область формирования основ безопасного поведения*
E9: Отношение к самому себе | F9: Отношение к сверстникам* | G9: Отношение к взрослым | H9: Эмоции* | I9: Поведение | J9: Семья | K9: Игровое поведение
E10: Ребенок откликается на свое имя | G10: Ребенок эмоционально реагирует на внимание взрослого, проявляет радость в ответ на общение со взрослым | I10: Ребенок выполняет простые просьбы взрослого, понимает и адекватно реагирует на слова, регулирующие поведение (можно/нельзя) | J10: Ребенок положительно реагирует на знакомых людей, имена близких родственников | K10: Ребенок активно действует с игрушками, подражая действиям взрослых (катает машинку, кормит собачку, качает куклу)
A11: 1 | B11: ='Список детей 1-2 года'!B4 -> 0 | F11: * | H11: * | L11: * | M11: * | N11: * | O11: =AVERAGE(E11:N11) -> #DIV/0!
A12: 2 | B12: ='Список детей 1-2 года'!B5 -> 0 | F12: * | H12: * | L12: * | M12: * | N12: * | O12: =AVERAGE(E12:N12) -> #DIV/0!
A13: 3 | B13: ='Список детей 1-2 года'!B6 -> 0 | F13: * | H13: * | L13: * | M13: * | N13: * | O13: =AVERAGE(E13:N13) -> #DIV/0!
A14: 4 | B14: ='Список детей 1-2 года'!B7 -> 0 | F14: * | H14: * | L14: * | M14: * | N14: * | O14: =AVERAGE(E14:N14) -> #DIV/0!
A15: 5 | B15: ='Список детей 1-2 года'!B8 -> 0 | F15: * | H15: * | L15: * | M15: * | N15: * | O15: =AVERAGE(E15:N15) -> #DIV/0!
A16: 6 | B16: ='Список детей 1-2 года'!B9 -> 0 | F16: * | H16: * | L16: * | M16: * | N16: * | O16: =AVERAGE(E16:N16) -> #DIV/0!
A17: 7 | B17: ='Список детей 1-2 года'!B10 -> 0 | F17: * | H17: * | L17: * | M17: * | N17: * | O17: =AVERAGE(E17:N17) -> #DIV/0!
A18: 8 | B18: ='Список детей 1-2 года'!B11 -> 0 | F18: * | H18: * | L18: * | M18: * | N18: * | O18: =AVERAGE(E18:N18) -> #DIV/0!
A19: 9 | B19: ='Список детей 1-2 года'!B12 -> 0 | F19: * | H19: * | L19: * | M19: * | N19: * | O19: =AVERAGE(E19:N19) -> #DIV/0!
A20: 10 | B20: ='Список детей 1-2 года'!B13 -> 0 | F20: * | H20: * | L20: * | M20: * | N20: * | O20: =AVERAGE(E20:N20) -> #DIV/0!
A21: 11 | B21: ='Список детей 1-2 года'!B14 -> 0 | F21: * | H21: * | L21: * | M21: * | N21: * | O21: =AVERAGE(E21:N21) -> #DIV/0!
A22: 12 | B22: ='Список детей 1-2 года'!B15 -> 0 | F22: * | H22: * | L22: * | M22: * | N22: * | O22: =AVERAGE(E22:N22) -> #DIV/0!
... A40: 30 | B40: ='Список детей 1-2 года'!B33 -> 0 | F40: * | H40: * | L40: * | M40: * | N40: * | O40: =AVERAGE(E40:N40) -> #DIV/0!
B41: средний показатель по критерию | E41: =AVERAGE(E11:E40) -> #DIV/0! | G41: =AVERAGE(G11:G40) -> #DIV/0! | I41: =AVERAGE(I11:I40) -> #DIV/0! | J41: =AVERAGE(J11:J40) -> #DIV/0! | K41: =AVERAGE(K11:K40) -> #DIV/0!
B42: средний показатель по разделу | E42: =(E41+G41+I41+J41+K41)/5 -> #DIV/0!
B43: СРЕДНИЙ ПОКАЗАТЕЛЬ ПО ГРУППЕ | O43: =AVERAGE(O11:O40) -> #DIV/0!
B44: Ф.И.О, должность специалиста(ов)____________________________________________________________________________________________________________________________________________________________________________________________________________________________________
B45: © Автор-составитель Кулекина И.А., СПб, 2023
B48: сфера социальных отношений | E48: =E42 -> #DIV/0!

Sheet Динамика соц-ком развитие
A1: Обобщение результатов педагогической диагностики по ОО "Социально-коммуникативное развитие" (дети 1-2 лет)
B3: сфера социальных отношений | C3: средний показатель по группе
A4: начало года | B4: ='Соц.ком. 1-2 г. Н.г.'!E48 -> #DIV/0! | C4: ='Соц.ком. 1-2 г. Н.г.'!O43 -> #DIV/0!
A5: конец года | B5: ='Соц.ком. 1-2 г. К.г. '!E48 -> #DIV/0! | C5: ='Соц.ком. 1-2 г. К.г. '!O43 -> #DIV/0!

Sheet Физ.разв. 1-2 г.Н.г.
A1: Стартовая диагностика | E1: ГРУППА МЛАДЕНЧЕСКОГО ВОЗРАСТА (1-2 года)
A2: Период проведения | E2: Начало уч. года (сентябрь) или начало посещения группы младенческого возраста
A3: *- не диагностируется в данном возрасте
A4: Сформированность показателя | E4: «2» показатель сформирован | G4: «1» показатель в стадии формирования | L4: «0» показатель не сформирован
A5: Средний уровень | E5: 1,8 - 2,0 норма-высокий | G5: 1,0 - 1,7 норма - средний | L5: 0,0 - 0,9 ниже нормы
A6: № | B6: Ф.И. ребенка | E6: ОБРАЗОВАТЕЛЬНАЯ ОБЛАСТЬ «ФИЗИЧЕСКОЕ РАЗВИТИЕ» | V6: СРЕДНИЙ ПОКАЗАТЕЛЬ ПО РЕБЕНКУ
E7: Показатели возможных достижений (возрастные характеристики) к 1 году
E8: Крупная моторика. ОВД, ОРУ | L8: Мелкая моторика | N8: КГН | R8: ЗОЖ | S8: Подвижные игры | T8: Спортивные игры* | U8: Спортивные упражнения*
E9: Бросание, катание, ловля, метание | F9: Ползанье, лазанье | G9: Ходьба | H9: Бег* | I9: Прыжки* | J9: Равновесие* | K9: Строевые упражнения* | L9: Координация рук и глаз | M9: Графические навыки* | N9: Навыки соблюдения чистоты тела (правила личной гигиены) | O9: Навыки культуры еды (прием пищи) * | P9: Навыки поддержания порядка (правила поведения в быту) * | Q9: Навыки ухода за собой (одевание, раздевание) *
E10: Ребенок проявляет двигательную активность в освоении пространственной среды, используя движения хватания, бросания | F10: Ребенок проявляет двигательную активность в освоении пространственной среды, используя движения ползанья, лазанья | G10: Ребенок начинает осваивать самостоятельную ходьбу. Ребенок при поддержке поднимается, приседает на корточки. | L10: Ребенок манипулирует предметами (поднимает, переносит, ставит один предмет на другой) | N10: Ребенок положительно реагирует на прием пищи и гигиенические процедуры | R10: Ребенок эмоционально откликается при проведении комплекса гимнастики и закаливания | S10: Ребенок эмоционально откликается на игровые действия
A11: 1 | B11: ='Список детей 1-2 года'!B4 -> 0 | H11: * | I11: * | J11: * | K11: * | M11: * | O11: * | P11: * | Q11: * | T11: * | U11: * | V11: =AVERAGE(E11:U11) -> #DIV/0!
A12: 2 | B12: ='Список детей 1-2 года'!B5 -> 0 | H12: * | I12: * | J12: * | K12: * | M12: * | O12: * | P12: * | Q12: * | T12: * | U12: * | V12: =AVERAGE(E12:U12) -> #DIV/0!
A13: 3 | B13: ='Список детей 1-2 года'!B6 -> 0 | H13: * | I13: * | J13: * | K13: * | M13: * | O13: * | P13: * | Q13: * | T13: * | U13: * | V13: =AVERAGE(E13:U13) -> #DIV/0!
A14: 4 | B14: ='Список детей 1-2 года'!B7 -> 0 | H14: * | I14: * | J14: * | K14: * | M14: * | O14: * | P14: * | Q14: * | T14: * | U14: * | V14: =AVERAGE(E14:U14) -> #DIV/0!
A15: 5 | B15: ='Список детей 1-2 года'!B8 -> 0 | H15: * | I15: * | J15: * | K15: * | M15: * | O15: * | P15: * | Q15: * | T15: * | U15: * | V15: =AVERAGE(E15:U15) -> #DIV/0!
A16: 6 | B16: ='Список детей 1-2 года'!B9 -> 0 | H16: * | I16: * | J16: * | K16: * | M16: * | O16: * | P16: * | Q16: * | T16: * | U16: * | V16: =AVERAGE(E16:U16) -> #DIV/0!
A17: 7 | B17: ='Список детей 1-2 года'!B10 -> 0 | H17: * | I17: * | J17: * | K17: * | M17: * | O17: * | P17: * | Q17: * | T17: * | U17: * | V17: =AVERAGE(E17:U17) -> #DIV/0!
A18: 8 | B18: ='Список детей 1-2 года'!B11 -> 0 | H18: * | I18: * | J18: * | K18: * | M18: * | O18: * | P18: * | Q18: * | T18: * | U18: * | V18: =AVERAGE(E18:U18) -> #DIV/0!
A19: 9 | B19: ='Список детей 1-2 года'!B12 -> 0 | H19: * | I19: * | J19: * | K19: * | M19: * | O19: * | P19: * | Q19: * | T19: * | U19: * | V19: =AVERAGE(E19:U19) -> #DIV/0!
A20: 10 | B20: ='Список детей 1-2 года'!B13 -> 0 | H20: * | I20: * | J20: * | K20: * | M20: * | O20: * | P20: * | Q20: * | T20: * | U20: * | V20: =AVERAGE(E20:U20) -> #DIV/0!
A21: 11 | B21: ='Список детей 1-2 года'!B14 -> 0 | H21: * | I21: * | J21: * | K21: * | M21: * | O21: * | P21: * | Q21: * | T21: * | U21: * | V21: =AVERAGE(E21:U21) -> #DIV/0!
A22: 12 | B22: ='Список детей 1-2 года'!B15 -> 0 | H22: * | I22: * | J22: * | K22: * | M22: * | O22: * | P22: * | Q22: * | T22: * | U22: * | V22: =AVERAGE(E22:U22) -> #DIV/0!
... A40: 30 | B40: ='Список детей 1-2 года'!B33 -> 0 | H40: * | I40: * | J40: * | K40: * | M40: * | O40: * | P40: * | Q40: * | T40: * | U40: * | V40: =AVERAGE(E40:U40) -> #DIV/0!
B41: среднее значение по критерию | E41: =AVERAGE(E11:E40) -> #DIV/0! | F41: =AVERAGE(F11:F40) -> #DIV/0! | G41: =AVERAGE(G11:G40) -> #DIV/0! | L41: =AVERAGE(L11:L40) -> #DIV/0! | N41: =AVERAGE(N11:N40) -> #DIV/0! | R41: =AVERAGE(R11:R40) -> #DIV/0! | S41: =AVERAGE(S11:S40) -> #DIV/0!
B42: среднее значение по разделу | E42: =(E41+F41+G41)/3 -> #DIV/0! | L42: =L41 -> #DIV/0! | N42: =N41 -> #DIV/0! | R42: =R41 -> #DIV/0! | S42: =S41 -> #DIV/0!
B43: СРЕДНИЙ ПОКАЗАТЕЛЬ ПО ГРУППЕ | V43: =AVERAGE(V11:V40) -> #DIV/0!
B44: Ф.И.О, должность специалиста(ов)____________________________________________________________________________________________________________________________________________________________________________________________________________________________________
B45: © Автор-составитель Кулекина И.А., СПб, 2023
B48: Крупная моторика. ОВД.ОРУ | E48: =E42 -> #DIV/0!
B49: Мелкая моторика | E49: =L42 -> #DIV/0!
B50: КГН | E50: =N42 -> #DIV/0!
B51: ЗОЖ | E51: =R42 -> #DIV/0!
B52: Подвижные игры | E52: =S42 -> #DIV/0!

Sheet Физ.разв. 1-2 г.К.г.
A1: Стартовая диагностика | E1: ГРУППА МЛАДЕНЧЕСКОГО ВОЗРАСТА (1-2 года)
A2: Период проведения | E2: Конец уч. года (май)
A3: *- не диагностируется в данном возрасте
A4: Сформированность показателя | E4: «2» показатель сформирован | G4: «1» показатель в стадии формирования | L4: «0» показатель не сформирован
A5: Средний уровень | E5: 1,8 - 2,0 норма-высокий | G5: 1,0 - 1,7 норма - средний | L5: 0,0 - 0,9 ниже нормы
A6: № | B6: Ф.И. ребенка | E6: ОБРАЗОВАТЕЛЬНАЯ ОБЛАСТЬ «ФИЗИЧЕСКОЕ РАЗВИТИЕ» | V6: СРЕДНИЙ ПОКАЗАТЕЛЬ ПО РЕБЕНКУ
E7: Показатели возможных достижений (возрастные характеристики) к 1 году
E8: Крупная моторика. ОВД, ОРУ | L8: Мелкая моторика | N8: КГН | R8: ЗОЖ | S8: Подвижные игры | T8: Спортивные игры* | U8: Спортивные упражнения*
E9: Бросание, катание, ловля, метание | F9: Ползанье, лазанье | G9: Ходьба | H9: Бег* | I9: Прыжки* | J9: Равновесие* | K9: Строевые упражнения* | L9: Координация рук и глаз | M9: Графические навыки* | N9: Навыки соблюдения чистоты тела (правила личной гигиены) | O9: Навыки культуры еды (прием пищи) * | P9: Навыки поддержания порядка (правила поведения в быту) * | Q9: Навыки ухода за собой (одевание, раздевание) *
E10: Ребенок проявляет двигательную активность в освоении пространственной среды, используя движения хватания, бросания | F10: Ребенок проявляет двигательную активность в освоении пространственной среды, используя движения ползанья, лазанья | G10: Ребенок начинает осваивать самостоятельную ходьбу. Ребенок при поддержке поднимается, приседает на корточки. | L10: Ребенок манипулирует предметами (поднимает, переносит, ставит один предмет на другой) | N10: Ребенок положительно реагирует на прием пищи и гигиенические процедуры | R10: Ребенок эмоционально откликается при проведении комплекса гимнастики и закаливания | S10: Ребенок эмоционально откликается на игровые действия
A11: 1 | B11: ='Список детей 1-2 года'!B4 -> 0 | H11: * | I11: * | J11: * | K11: * | M11: * | O11: * | P11: * | Q11: * | T11: * | U11: * | V11: =AVERAGE(E11:U11) -> #DIV/0!
A12: 2 | B12: ='Список детей 1-2 года'!B5 -> 0 | H12: * | I12: * | J12: * | K12: * | M12: * | O12: * | P12: * | Q12: * | T12: * | U12: * | V12: =AVERAGE(E12:U12) -> #DIV/0!
A13: 3 | B13: ='Список детей 1-2 года'!B6 -> 0 | H13: * | I13: * | J13: * | K13: * | M13: * | O13: * | P13: * | Q13: * | T13: * | U13: * | V13: =AVERAGE(E13:U13) -> #DIV/0!
A14: 4 | B14: ='Список детей 1-2 года'!B7 -> 0 | H14: * | I14: * | J14: * | K14: * | M14: * | O14: * | P14: * | Q14: * | T14: * | U14: * | V14: =AVERAGE(E14:U14) -> #DIV/0!
A15: 5 | B15: ='Список детей 1-2 года'!B8 -> 0 | H15: * | I15: * | J15: * | K15: * | M15: * | O15: * | P15: * | Q15: * | T15: * | U15: * | V15: =AVERAGE(E15:U15) -> #DIV/0!
A16: 6 | B16: ='Список детей 1-2 года'!B9 -> 0 | H16: * | I16: * | J16: * | K16: * | M16: * | O16: * | P16: * | Q16: * | T16: * | U16: * | V16: =AVERAGE(E16:U16) -> #DIV/0!
A17: 7 | B17: ='Список детей 1-2 года'!B10 -> 0 | H17: * | I17: * | J17: * | K17: * | M17: * | O17: * | P17: * | Q17: * | T17: * | U17: * | V17: =AVERAGE(E17:U17) -> #DIV/0!
A18: 8 | B18: ='Список детей 1-2 года'!B11 -> 0 | H18: * | I18: * | J18: * | K18: * | M18: * | O18: * | P18: * | Q18: * | T18: * | U18: * | V18: =AVERAGE(E18:U18) -> #DIV/0!
A19: 9 | B19: ='Список детей 1-2 года'!B12 -> 0 | H19: * | I19: * | J19: * | K19: * | M19: * | O19: * | P19: * | Q19: * | T19: * | U19: * | V19: =AVERAGE(E19:U19) -> #DIV/0!
A20: 10 | B20: ='Список детей 1-2 года'!B13 -> 0 | H20: * | I20: * | J20: * | K20: * | M20: * | O20: * | P20: * | Q20: * | T20: * | U20: * | V20: =AVERAGE(E20:U20) -> #DIV/0!
A21: 11 | B21: ='Список детей 1-2 года'!B14 -> 0 | H21: * | I21: * | J21: * | K21: * | M21: * | O21: * | P21: * | Q21: * | T21: * | U21: * | V21: =AVERAGE(E21:U21) -> #DIV/0!
A22: 12 | B22: ='Список детей 1-2 года'!B15 -> 0 | H22: * | I22: * | J22: * | K22: * | M22: * | O22: * | P22: * | Q22: * | T22: * | U22: * | V22: =AVERAGE(E22:U22) -> #DIV/0!
... A40: 30 | B40: ='Список детей 1-2 года'!B33 -> 0 | H40: * | I40: * | J40: * | K40: * | M40: * | O40: * | P40: * | Q40: * | T40: * | U40: * | V40: =AVERAGE(E40:U40) -> #DIV/0!
B41: среднее значение по критерию | E41: =AVERAGE(E11:E40) -> #DIV/0! | F41: =AVERAGE(F11:F40) -> #DIV/0! | G41: =AVERAGE(G11:G40) -> #DIV/0! | L41: =AVERAGE(L11:L40) -> #DIV/0! | N41: =AVERAGE(N11:N40) -> #DIV/0! | R41: =AVERAGE(R11:R40) -> #DIV/0! | S41: =AVERAGE(S11:S40) -> #DIV/0!
B42: среднее значение по разделу | E42: =(E41+F41+G41)/3 -> #DIV/0! | L42: =L41 -> #DIV/0! | N42: =N41 -> #DIV/0! | R42: =R41 -> #DIV/0! | S42: =S41 -> #DIV/0!
B43: СРЕДНИЙ ПОКАЗАТЕЛЬ ПО ГРУППЕ | V43: =AVERAGE(V11:V40) -> #DIV/0!
B44: Ф.И.О, должность специалиста(ов)____________________________________________________________________________________________________________________________________________________________________________________________________________________________________
B45: © Автор-составитель Кулекина И.А., СПб, 2023
B48: Крупная моторика. ОВД.ОРУ | E48: =E42 -> #DIV/0!
B49: Мелкая моторика | E49: =L42 -> #DIV/0!
B50: КГН | E50: =N42 -> #DIV/0!
B51: ЗОЖ | E51: =R42 -> #DIV/0!
B52: Подвижные игры | E52: =S42 -> #DIV/0!

Sheet Динамика физического развития
A1: Обобщение результатов педагогической диагностики по ОО "Физическое развитие" (дети 1-2 лет)
B3: Крупная моторика. ОВД.ОРУ | C3: Мелкая моторика | D3: КГН | E3: ЗОЖ | F3: подвижные игры | G3: средний показатель по группе
A4: начало года | B4: ='Физ.разв. 1-2 г.Н.г.'!E48 -> #DIV/0! | C4: ='Физ.разв. 1-2 г.Н.г.'!E49 -> #DIV/0! | D4: ='Физ.разв. 1-2 г.Н.г.'!E50 -> #DIV/0! | E4: ='Физ.разв. 1-2 г.Н.г.'!E51 -> #DIV/0! | F4: ='Физ.разв. 1-2 г.Н.г.'!E52 -> #DIV/0! | G4: ='Физ.разв. 1-2 г.Н.г.'!V43 -> #DIV/0!
A5: конец года | B5: ='Физ.разв. 1-2 г.К.г.'!E48 -> #DIV/0! | C5: ='Физ.разв. 1-2 г.К.г.'!E49 -> #DIV/0! | D5: ='Физ.разв. 1-2 г.К.г.'!E50 -> #DIV/0! | E5: ='Физ.разв. 1-2 г.К.г.'!E51 -> #DIV/0! | F5: ='Физ.разв. 1-2 г.К.г.'!E52 -> #DIV/0! | G5: ='Физ.разв. 1-2 г.К.г.'!V43 -> #DIV/0!

Sheet 1
A2: ='Список детей 1-2 года'!B4 -> 0 | B2: Познавательное развитие | F2: Речевое развитие | J2: Художественно-эстетическое развитие (Музыкальная деятельность) | O2: Социльно-коммуникативное развитие | T2: Физическое развитие
B3: Познавательные действия | C3: окружающий мир | D3: Природа | F3: Общее речевое развитие | I3: Формирование словаря | J3: Слушание | K3: Пение | L3: Музыкально-ритмические движения | M3: Игра на детских музыкальных инструментах | O3: Сфера социальных отношений | T3: Крупная моторика. ОВД, ОРУ | W3: Мелкая моторика | X3: КГН | Y3: ЗОЖ | Z3: Подвижные игры
C4: Предметный мир | D4: Объекты живой природы | E4: Объекты неживой природы, природные явления | F4: Ребенок понимает речь взрослого | G4: Ребенок откликается на свое имя | H4: Ребенок показывает окружающие предметы по заданию педагога | I4: Ребенок произносит несколько простых, облегченных слов (мама, папа, баба, деда и т.д.), некоторые несут смысловую нагрузку | J4: Ребенок эмоционально реагирует на музыку | K4: Ребенок эмоционально реагирует на пение | L4: Ребенок хлопает в ладоши, притоптывает, слегка приседает, сгибает и разгибает ноги в коленях | M4: Ребенок звенит погремушкой, колокольчиком, бубном, ударяет в барабан | N4: Ребенок прислушивается к звучанию | O4: Отношение к самому себе | P4: Отношение к взрослым | Q4: Поведение | R4: Семья | S4: Игровое поведение | T4: Бросание, катание, ловля, метание | U4: Ползанье, лазанье | V4: Ходьба | W4: Координация рук и глаз | X4: Навыки соблюдения чистоты тела (правила личной гигиены)
B5: Ребенок обнаруживает поисковую и познавательную активность по отношению к предметному окружению | C5: Ребенок проявляет интерес к окружающим предметам и действиям с ними | D5: Ребенок проявляет интерес к животным, птицам, рыбам, растениям | E5: Ребенок проявляет интерес к объектам неживой природы | O5: Ребенок откликается на свое имя | P5: Ребенок эмоционально реагирует на внимание взрослого, проявляет радость в ответ на общение со взрослым | Q5: Ребенок выполняет простые просьбы взрослого, понимает и адекватно реагирует на слова, регулирующие поведение (можно/нельзя) | R5: Ребенок положительно реагирует на знакомых людей, имена близких родственников | S5: Ребенок активно действует с игрушками, подражая действиям взрослых (катает машинку, кормит собачку, качает куклу) | T5: Ребенок проявляет двигательную активность в освоении пространственной среды, используя движения хватания, бросания | U5: Ребенок проявляет двигательную активность в освоении пространственной среды, используя движения ползанья, лазанья | V5: Ребенок начинает осваивать самостоятельную ходьбу. Ребенок при поддержке поднимается, приседает на корточки. | W5: Ребенок манипулирует предметами (поднимает, переносит, ставит один предмет на другой) | X5: Ребенок положительно реагирует на прием пищи и гигиенические процедуры | Y5: Ребенок эмоционально откликается при проведении комплекса гимнастики и закаливания | Z5: Ребенок эмоционально откликается на игровые действия
A6: начало года | B6: ='Позн.разв. 1-2 г Н.г '!H11 -> 0 | C6: ='Позн.разв. 1-2 г Н.г '!O11 -> 0 | D6: ='Позн.разв. 1-2 г Н.г '!R11 -> 0 | E6: ='Позн.разв. 1-2 г Н.г '!S11 -> 0 | F6: ='Реч.разв. 1-2 г. Н.г.'!E11 -> 0 | G6: ='Реч.разв. 1-2 г. Н.г.'!F11 -> 0 | H6: ='Реч.разв. 1-2 г. Н.г.'!G11 -> 0 | I6: ='Реч.разв. 1-2 г. Н.г.'!H11 -> 0 | J6: ='Худ.-эст. 1-2 г. Н.г'!E12 -> 0 | K6: ='Худ.-эст. 1-2 г. Н.г'!F12 -> 0 | L6: ='Худ.-эст. 1-2 г. Н.г'!G12 -> 0 | M6: ='Худ.-эст. 1-2 г. Н.г'!I12 -> 0 | N6: ='Худ.-эст. 1-2 г. Н.г'!J12 -> 0 | O6: ='Соц.ком. 1-2 г. Н.г.'!E11 -> 0 | P6: ='Соц.ком. 1-2 г. Н.г.'!G11 -> 0 | Q6: ='Соц.ком. 1-2 г. Н.г.'!I11 -> 0 | R6: ='Соц.ком. 1-2 г. Н.г.'!J11 -> 0 | S6: ='Соц.ком. 1-2 г. Н.г.'!K11 -> 0 | T6: ='Физ.разв. 1-2 г.Н.г.'!E11 -> 0 | U6: ='Физ.разв. 1-2 г.Н.г.'!F11 -> 0 | V6: ='Физ.разв. 1-2 г.Н.г.'!G11 -> 0 | W6: ='Физ.разв. 1-2 г.Н.г.'!L11 -> 0 | X6: ='Физ.разв. 1-2 г.Н.г.'!N11 -> 0 | Y6: ='Физ.разв. 1-2 г.Н.г.'!R11 -> 0 | Z6: ='Физ.разв. 1-2 г.Н.г.'!S11 -> 0
A7: конец года | B7: ='Позн.разв. 1-2 г К.г '!$H$11 -> 0 | C7: ='Позн.разв. 1-2 г К.г '!$O$11 -> 0 | D7: ='Позн.разв. 1-2 г К.г '!$R$11 -> 0 | E7: ='Позн.разв. 1-2 г К.г '!$S$11 -> 0 | F7: ='Реч.разв. 1-2 г. К.г.'!E11 -> 0 | G7: ='Реч.разв. 1-2 г. К.г.'!F11 -> 0 | H7: ='Реч.разв. 1-2 г. К.г.'!G11 -> 0 | I7: ='Реч.разв. 1-2 г. К.г.'!H11 -> 0 | J7: ='Худ.-эст.1-2 г.К.г.'!E12 -> 0 | K7: ='Худ.-эст. 1-2 г. Н.г'!F12 -> 0 | L7: ='Худ.-эст. 1-2 г. Н.г'!G12 -> 0 | M7: ='Худ.-эст. 1-2 г. Н.г'!I12 -> 0 | N7: ='Худ.-эст. 1-2 г. Н.г'!J12 -> 0 | O7: ='Соц.ком. 1-2 г. К.г. '!E11 -> 0 | P7: ='Соц.ком. 1-2 г. К.г. '!G11 -> 0 | Q7: ='Соц.ком. 1-2 г. К.г. '!I11 -> 0 | R7: ='Соц.ком. 1-2 г. К.г. '!J11 -> 0 | S7: ='Соц.ком. 1-2 г. К.г. '!K11 -> 0 | T7: ='Физ.разв. 1-2 г.К.г.'!E11 -> 0 | U7: ='Физ.разв. 1-2 г.К.г.'!F11 -> 0 | V7: ='Физ.разв. 1-2 г.К.г.'!G11 -> 0 | W7: ='Физ.разв. 1-2 г.К.г.'!L11 -> 0 | X7: ='Физ.разв. 1-2 г.К.г.'!N11 -> 0 | Y7: ='Физ.разв. 1-2 г.К.г.'!R11 -> 0 | Z7: ='Физ.разв. 1-2 г.К.г.'!S11 -> 0

Sheet 2
A2: ='Список детей 1-2 года'!B5 -> 0 | B2: Познавательное развитие | F2: Речевое развитие | J2: Художественно-эстетическое развитие (Музыкальная деятельность) | O2: Социльно-коммуникативное развитие | T2: Физическое развитие
B3: Познавательные действия | C3: окружающий мир | D3: Природа | F3: Общее речевое развитие | I3: Формирование словаря | J3: Слушание | K3: Пение | L3: Музыкально-ритмические движения | M3: Игра на детских музыкальных инструментах | O3: Сфера социальных отношений | T3: Крупная моторика. ОВД, ОРУ | W3: Мелкая моторика | X3: КГН | Y3: ЗОЖ | Z3: Подвижные игры
C4: Предметный мир | D4: Объекты живой природы | E4: Объекты неживой природы, природные явления | F4: Ребенок понимает речь взрослого | G4: Ребенок откликается на свое имя | H4: Ребенок показывает окружающие предметы по заданию педагога | I4: Ребенок произносит несколько простых, облегченных слов (мама, папа, баба, деда и т.д.), некоторые несут смысловую нагрузку | J4: Ребенок эмоционально реагирует на музыку | K4: Ребенок эмоционально реагирует на пение | L4: Ребенок хлопает в ладоши, притоптывает, слегка приседает, сгибает и разгибает ноги в коленях | M4: Ребенок звенит погремушкой, колокольчиком, бубном, ударяет в барабан | N4: Ребенок прислушивается к звучанию | O4: Отношение к самому себе | P4: Отношение к взрослым | Q4: Поведение | R4: Семья | S4: Игровое поведение | T4: Бросание, катание, ловля, метание | U4: Ползанье, лазанье | V4: Ходьба | W4: Координация рук и глаз | X4: Навыки соблюдения чистоты тела (правила личной гигиены)
B5: Ребенок обнаруживает поисковую и познавательную активность по отношению к предметному окружению | C5: Ребенок проявляет интерес к окружающим предметам и действиям с ними | D5: Ребенок проявляет интерес к животным, птицам, рыбам, растениям | E5: Ребенок проявляет интерес к объектам неживой природы | O5: Ребенок откликается на свое имя | P5: Ребенок эмоционально реагирует на внимание взрослого, проявляет радость в ответ на общение со взрослым | Q5: Ребенок выполняет простые просьбы взрослого, понимает и адекватно реагирует на слова, регулирующие поведение (можно/нельзя) | R5: Ребенок положительно реагирует на знакомых людей, имена близких родственников | S5: Ребенок активно действует с игрушками, подражая действиям взрослых (катает машинку, кормит собачку, качает куклу) | T5: Ребенок проявляет двигательную активность в освоении пространственной среды, используя движения хватания, бросания | U5: Ребенок проявляет двигательную активность в освоении пространственной среды, используя движения ползанья, лазанья | V5: Ребенок начинает осваивать самостоятельную ходьбу. Ребенок при поддержке поднимается, приседает на корточки. | W5: Ребенок манипулирует предметами (поднимает, переносит, ставит один предмет на другой) | X5: Ребенок положительно реагирует на прием пищи и гигиенические процедуры | Y5: Ребенок эмоционально откликается при проведении комплекса гимнастики и закаливания | Z5: Ребенок эмоционально откликается на игровые действия
A6: начало года | B6: ='Позн.разв. 1-2 г Н.г '!H12 -> 0 | C6: ='Позн.разв. 1-2 г Н.г '!O12 -> 0 | D6: ='Позн.разв. 1-2 г Н.г '!R12 -> 0 | E6: ='Позн.разв. 1-2 г Н.г '!S12 -> 0 | F6: ='Реч.разв. 1-2 г. Н.г.'!E12 -> 0 | G6: ='Реч.разв. 1-2 г. Н.г.'!F12 -> 0 | H6: ='Реч.разв. 1-2 г. Н.г.'!G12 -> 0 | I6: ='Реч.разв. 1-2 г. Н.г.'!H12 -> 0 | J6: ='Худ.-эст. 1-2 г. Н.г'!E13 -> 0 | K6: ='Худ.-эст. 1-2 г. Н.г'!F13 -> 0 | L6: ='Худ.-эст. 1-2 г. Н.г'!G13 -> 0 | M6: ='Худ.-эст. 1-2 г. Н.г'!I13 -> 0 | N6: ='Худ.-эст. 1-2 г. Н.г'!J13 -> 0 | O6: ='Соц.ком. 1-2 г. Н.г.'!E12 -> 0 | P6: ='Соц.ком. 1-2 г. Н.г.'!G12 -> 0 | Q6: ='Соц.ком. 1-2 г. Н.г.'!I12 -> 0 | R6: ='Соц.ком. 1-2 г. Н.г.'!J12 -> 0 | S6: ='Соц.ком. 1-2 г. Н.г.'!K12 -> 0 | T6: ='Физ.разв. 1-2 г.Н.г.'!E12 -> 0 | U6: ='Физ.разв. 1-2 г.Н.г.'!F12 -> 0 | V6: ='Физ.разв. 1-2 г.Н.г.'!G12 -> 0 | W6: ='Физ.разв. 1-2 г.Н.г.'!L12 -> 0 | X6: ='Физ.разв. 1-2 г.Н.г.'!N12 -> 0 | Y6: ='Физ.разв. 1-2 г.Н.г.'!R12 -> 0 | Z6: ='Физ.разв. 1-2 г.Н.г.'!S12 -> 0
A7: конец года | B7: ='Позн.разв. 1-2 г К.г '!$H$12 -> 0 | C7: ='Позн.разв. 1-2 г К.г '!$O$12 -> 0 | D7: ='Позн.разв. 1-2 г К.г '!$R$12 -> 0 | E7: ='Позн.разв. 1-2 г К.г '!$S$12 -> 0 | F7: ='Реч.разв. 1-2 г. К.г.'!E12 -> 0 | G7: ='Реч.разв. 1-2 г. К.г.'!F12 -> 0 | H7: ='Реч.разв. 1-2 г. К.г.'!G12 -> 0 | I7: ='Реч.разв. 1-2 г. К.г.'!H12 -> 0 | J7: ='Худ.-эст.1-2 г.К.г.'!E13 -> 0 | K7: ='Худ.-эст.1-2 г.К.г.'!F13 -> 0 | L7: ='Худ.-эст.1-2 г.К.г.'!G13 -> 0 | M7: ='Худ.-эст.1-2 г.К.г.'!I13 -> 0 | N7: ='Худ.-эст.1-2 г.К.г.'!J13 -> 0 | O7: ='Соц.ком. 1-2 г. К.г. '!E12 -> 0 | P7: ='Соц.ком. 1-2 г. К.г. '!G12 -> 0 | Q7: ='Соц.ком. 1-2 г. К.г. '!I12 -> 0 | R7: ='Соц.ком. 1-2 г. К.г. '!J12 -> 0 | S7: ='Соц.ком. 1-2 г. К.г. '!K12 -> 0 | T7: ='Физ.разв. 1-2 г.К.г.'!E12 -> 0 | U7: ='Физ.разв. 1-2 г.К.г.'!F12 -> 0 | V7: ='Физ.разв. 1-2 г.К.г.'!G12 -> 0 | W7: ='Физ.разв. 1-2 г.К.г.'!L12 -> 0 | X7: ='Физ.разв. 1-2 г.К.г.'!N12 -> 0 | Y7: ='Физ.разв. 1-2 г.К.г.'!R12 -> 0 | Z7: ='Физ.разв. 1-2 г.К.г.'!S12 -> 0

Sheet 3
A2: ='Список детей 1-2 года'!B6 -> 0 | B2: Познавательное развитие | F2: Речевое развитие | J2: Художественно-эстетическое развитие (Музыкальная деятельность) | P2: Социльно-коммуникативное развитие | W2: Физическое развитие
B3: Познавательные действия | C3: окружающий мир | D3: Природа | F3: Общее речевое развитие | I3: Формирование словаря | J3: Слушание | K3: Пение | L3: Музыкально-ритмические движения | N3: Игра на детских музыкальных инструментах | P3: Сфера социальных отношений | W3: Крупная моторика. ОВД, ОРУ | Z3: Мелкая моторика | AA3: КГН | AB3: ЗОЖ | AC3: Подвижные игры
C4: Предметный мир | D4: Объекты живой природы | E4: Объекты неживой природы, природные явления | F4: Ребенок понимает речь взрослого | G4: Ребенок откликается на свое имя | H4: Ребенок показывает окружающие предметы по заданию педагога | I4: Ребенок произносит несколько простых, облегченных слов (мама, папа, баба, деда и т.д.), некоторые несут смысловую нагрузку | J4: Ребенок эмоционально реагирует на музыку | K4: Ребенок эмоционально реагирует на пение | L4: Ребенок хлопает в ладоши, притоптывает, слегка приседает, сгибает и разгибает ноги в коленях | N4: Ребенок звенит погремушкой, колокольчиком, бубном, ударяет в барабан | O4: Ребенок прислушивается к звучанию | P4: Отношение к самому себе | R4: Отношение к взрослым | T4: Поведение | U4: Семья | V4: Игровое поведение | W4: Бросание, катание, ловля, метание | X4: Ползанье, лазанье | Y4: Ходьба | Z4: Координация рук и глаз | AA4: Навыки соблюдения чистоты тела (правила личной гигиены)
B5: Ребенок обнаруживает поисковую и познавательную активность по отношению к предметному окружению | C5: Ребенок проявляет интерес к окружающим предметам и действиям с ними | D5: Ребенок проявляет интерес к животным, птицам, рыбам, растениям | E5: Ребенок проявляет интерес к объектам неживой природы | P5: Ребенок откликается на свое имя | R5: Ребенок эмоционально реагирует на внимание взрослого, проявляет радость в ответ на общение со взрослым | T5: Ребенок выполняет простые просьбы взрослого, понимает и адекватно реагирует на слова, регулирующие поведение (можно/нельзя) | U5: Ребенок положительно реагирует на знакомых людей, имена близких родственников | V5: Ребенок активно действует с игрушками, подражая действиям взрослых (катает машинку, кормит собачку, качает куклу) | W5: Ребенок проявляет двигательную активность в освоении пространственной среды, используя движения хватания, бросания | X5: Ребенок проявляет двигательную активность в освоении пространственной среды, используя движения ползанья, лазанья | Y5: Ребенок начинает осваивать самостоятельную ходьбу. Ребенок при поддержке поднимается, приседает на корточки. | Z5: Ребенок манипулирует предметами (поднимает, переносит, ставит один предмет на другой) | AA5: Ребенок положительно реагирует на прием пищи и гигиенические процедуры | AB5: Ребенок эмоционально откликается при проведении комплекса гимнастики и закаливания | AC5: Ребенок эмоционально откликается на игровые действия
