Workbook

Sheet Список детей 1-2 года
A1: Список детей группы № 1 (1-2 года)
A3: № | B3: Фамилия, имя ребенка | C3: Дата рождения
A4: 1
A5: 2
A6: 3
A7: 4
A8: 5
A9: 6
A10: 7
A11: 8
A12: 9
A13: 10
A14: 11
A15: 12
... A33: 30

Sheet Позн.разв. 1-2 г Н.г 
A1: Стартовая диагностика | E1: ГРУППА МЛАДЕНЧЕСКОГО ВОЗРАСТА (1-2 года)
A2: Период проведения | E2: Начало уч. года (сентябрь) или начало посещения группы младенческого возраста
A3: *- не диагностируется в данном возрасте
A4: Сформированность показателя | E4: «2» показатель сформирован | J4: «1» показатель в стадии формирования | O4: «0» показатель не сформирован
A5: Средний уровень | E5: 1,8 - 2,0 норма-высокий | J5: 1,0 - 1,7 норма - средний | O5: 0,0 - 0,9 ниже нормы
A6: № | B6: Ф.И. ребенка | E6: ОБРАЗОВАТЕЛЬНАЯ ОБЛАСТЬ «ПОЗНАВАТЕЛЬНОЕ РАЗВИТИЕ» | T6: СРЕДНИЙ ПОКАЗАТЕЛЬ ПО РЕБЕНКУ
E7: Показатели возможных достижений (возрастные характеристики) к 1 году
E8: Сенсорные эталоны | H8: Познавательные действия | I8: Математические представления* | N8: Окружающий мир | R8: Природа
E9: Цвет, оттенки* | F9: Форма, геометрические фигуры* | G9: Величина* | I9: Количество и счет* | J9: Ориентировка во времени* | K9: Ориентировка в пространстве* | L9: Пространственно-количественные связи и отношения* | M9: Сравнение* | N9: Труд взрослых, профессии* | O9: Предметный мир | P9: Я- сам, человек* | Q9: Семья* | R9: Объекты живой природы | S9: Объекты неживой природы, природные явления
H10: Ребенок обнаруживает поисковую и познавательную активность по отношению к предметному окружению | O10: Ребенок проявляет интерес к окружающим предметам и действиям с ними | R10: Ребенок проявляет интерес к животным, птицам, рыбам, растениям | S10: Ребенок проявляет интерес к объектам неживой природы
A11: 1 | B11: ='Список детей 1-2 года'!B4 -> 0 | E11: * | F11: * | G11: * | I11: * | J11: * | K11: * | L11: * | M11: * | N11: * | P11: * | Q11: * | T11: =AVERAGE(E11:S11) -> #DIV/0!
A12: 2 | B12: ='Список детей 1-2 года'!B5 -> 0 | E12: * | F12: * | G12: * | I12: * | J12: * | K12: * | L12: * | M12: * | N12: * | P12: * | Q12: * | T12: =AVERAGE(E12:S12) -> #DIV/0!
A13: 3 | B13: ='Список детей 1-2 года'!B6 -> 0 | E13: * | F13: * | G13: * | I13: * | J13: * | K13: * | L13: * | M13: * | N13: * | P13: * | Q13: * | T13: =AVERAGE(E13:S13) -> #DIV/0!
A14: 4 | B14: ='Список детей 1-2 года'!B7 -> 0 | E14: * | F14: * | G14: * | I14: * | J14: * | K14: * | L14: * | M14: * | N14: * | P14: * | Q14: * | T14: =AVERAGE(E14:S14) -> #DIV/0!
A15: 5 | B15: ='Список детей 1-2 года'!B8 -> 0 | E15: * | F15: * | G15: * | I15: * | J15: * | K15: * | L15: * | M15: * | N15: * | P15: * | Q15: * | T15: =AVERAGE(E15:S15) -> #DIV/0!
A16: 6 | B16: ='Список детей 1-2 года'!B9 -> 0 | E16: * | F16: * | G16: * | I16: * | J16: * | K16: * | L16: * | M16: * | N16: * | P16: * | Q16: * | T16: =AVERAGE(E16:S16) -> #DIV/0!
A17: 7 | B17: ='Список детей 1-2 года'!B10 -> 0 | E17: * | F17: * | G17: * | I17: * | J17: * | K17: * | L17: * | M17: * | N17: * | P17: * | Q17: * | T17: =AVERAGE(E17:S17) -> #DIV/0!
A18: 8 | B18: ='Список детей 1-2 года'!B11 -> 0 | E18: * | F18: * | G18: * | I18: * | J18: * | K18: * | L18: * | M18: * | N18: * | P18: * | Q18: * | T18: =AVERAGE(E18:S18) -> #DIV/0!
A19: 9 | B19: ='Список детей 1-2 года'!B12 -> 0 | E19: * | F19: * | G19: * | I19: * | J19: * | K19: * | L19: * | M19: * | N19: * | P19: * | Q19: * | T19: =AVERAGE(E19:S19) -> #DIV/0!
A20: 10 | B20: ='Список детей 1-2 года'!B13 -> 0 | E20: * | F20: * | G20: * | I20: * | J20: * | K20: * | L20: * | M20: * | N20: * | P20: * | Q20: * | T20: =AVERAGE(E20:S20) -> #DIV/0!
A21: 11 | B21: ='Список детей 1-2 года'!B14 -> 0 | E21: * | F21: * | G21: * | I21: * | J21: * | K21: * | L21: * | M21: * | N21: * | P21: * | Q21: * | T21: =AVERAGE(E21:S21) -> #DIV/0!
A22: 12 | B22: ='Список детей 1-2 года'!B15 -> 0 | E22: * | F22: * | G22: * | I22: * | J22: * | K22: * | L22: * | M22: * | N22: * | P22: * | Q22: * | T22: =AVERAGE(E22:S22) -> #DIV/0!
... A40: 30 | B40: ='Список детей 1-2 года'!B33 -> 0 | E40: * | F40: * | G40: * | I40: * | J40: * | K40: * | L40: * | M40: * | N40: * | P40: * | Q40: * | T40: =AVERAGE(E40:S40) -> #DIV/0!
B41: средний показатель по критерию | H41: =AVERAGE(H11:H40) -> #DIV/0! | O41: =AVERAGE(O11:O40) -> #DIV/0! | R41: =AVERAGE(R11:R40) -> #DIV/0! | S41: =AVERAGE(S11:S40) -> #DIV/0!
B42: средний показатель по разделу | H42: =H41 -> #DIV/0! | O42: =O41 -> #DIV/0! | R42: =(R41+S41)/2 -> #DIV/0!
B43: СРЕДНИЙ ПОКАЗАТЕЛЬ ПО ГРУППЕ | T43: =AVERAGE(T11:T40) -> #DIV/0!
B44: Ф.И.О, должность специалиста(ов)____________________________________________________________________________________________________________________________________________________________________________________________________________________________________
B45: © Автор-составитель Кулекина И.А., СПб, 2023
B49: познавательные действия | E49: =H42 -> #DIV/0!
B50: окружающий мир | E50: =N42 -> 0
B51: природа | E51: =R42 -> #DIV/0!

Sheet Позн.разв. 1-2 г К.г  
A1: Стартовая диагностика | E1: ГРУППА МЛАДЕНЧЕСКОГО ВОЗРАСТА (1-2 года)
A2: Период проведения | E2: Конец уч. года (май)
A3: *- не диагностируется в данном возрасте
A4: Сформированность показателя | E4: «2» показатель сформирован | J4: «1» показатель в стадии формирования | O4: «0» показатель не сформирован
A5: Средний уровень | E5: 1,8 - 2,0 норма-высокий | J5: 1,0 - 1,7 норма - средний | O5: 0,0 - 0,9 ниже нормы
A6: № | B6: Ф.И. ребенка | E6: ОБРАЗОВАТЕЛЬНАЯ ОБЛАСТЬ «ПОЗНАВАТЕЛЬНОЕ РАЗВИТИЕ» | T6: СРЕДНИЙ ПОКАЗАТЕЛЬ ПО РЕБЕНКУ
E7: Показатели возможных достижений (возрастные характеристики) к 1 году
E8: Сенсорные эталоны | H8: Познавательные действия | I8: Математические представления* | N8: Окружающий мир | R8: Природа
E9: Цвет, оттенки* | F9: Форма, геометрические фигуры* | G9: Величина* | I9: Количество и счет* | J9: Ориентировка во времени* | K9: Ориентировка в пространстве* | L9: Пространственно-количественные связи и отношения* | M9: Сравнение* | N9: Труд взрослых, профессии* | O9: Предметный мир | P9: Я- сам, человек* | Q9: Семья* | R9: Объекты живой природы | S9: Объекты неживой природы, природные явления
H10: Ребенок обнаруживает поисковую и познавательную активность по отношению к предметному окружению | O10: Ребенок проявляет интерес к окружающим предметам и действиям с ними | R10: Ребенок проявляет интерес к животным, птицам, рыбам, растениям | S10: Ребенок проявляет интерес к объектам неживой природы
A11: 1 | B11: ='Список детей 1-2 года'!B4 -> 0 | E11: * | F11: * | G11: * | I11: * | J11: * | K11: * | L11: * | M11: * | N11: * | P11: * | Q11: * | T11: =AVERAGE(E11:S11) -> #DIV/0!
A12: 2 | B12: ='Список детей 1-2 года'!B5 -> 0 | E12: * | F12: * | G12: * | I12: * | J12: * | K12: * | L12: * | M12: * | N12: * | P12: * | Q12: * | T12: =AVERAGE(E12:S12) -> #DIV/0!
A13: 3 | B13: ='Список детей 1-2 года'!B6 -> 0 | E13: * | F13: * | G13: * | I13: * | J13: * | K13: * | L13: * | M13: * | N13: * | P13: * | Q13: * | T13: =AVERAGE(E13:S13) -> #DIV/0!
A14: 4 | B14: ='Список детей 1-2 года'!B7 -> 0 | E14: * | F14: * | G14: * | I14: * | J14: * | K14: * | L14: * | M14: * | N14: * | P14: * | Q14: * | T14: =AVERAGE(E14:S14) -> #DIV/0!
A15: 5 | B15: ='Список детей 1-2 года'!B8 -> 0 | E15: * | F15: * | G15: * | I15: * | J15: * | K15: * | L15: * | M15: * | N15: * | P15: * | Q15: * | T15: =AVERAGE(E15:S15) -> #DIV/0!
A16: 6 | B16: ='Список детей 1-2 года'!B9 -> 0 | E16: * | F16: * | G16: * | I16: * | J16: * | K16: * | L16: * | M16: * | N16: * | P16: * | Q16: * | T16: =AVERAGE(E16:S16) -> #DIV/0!
A17: 7 | B17: ='Список детей 1-2 года'!B10 -> 0 | E17: * | F17: * | G17: * | I17: * | J17: * | K17: * | L17: * | M17: * | N17: * | P17: * | Q17: * | T17: =AVERAGE(E17:S17) -> #DIV/0!
A18: 8 | B18: ='Список детей 1-2 года'!B11 -> 0 | E18: * | F18: * | G18: * | I18: * | J18: * | K18: * | L18: * | M18: * | N18: * | P18: * | Q18: * | T18: =AVERAGE(E18:S18) -> #DIV/0!
A19: 9 | B19: ='Список детей 1-2 года'!B12 -> 0 | E19: * | F19: * | G19: * | I19: * | J19: * | K19: * | L19: * | M19: * | N19: * | P19: * | Q19: * | T19: =AVERAGE(E19:S19) -> #DIV/0!
A20: 10 | B20: ='Список детей 1-2 года'!B13 -> 0 | E20: * | F20: * | G20: * | I20: * | J20: * | K20: * | L20: * | M20: * | N20: * | P20: * | Q20: * | T20: =AVERAGE(E20:S20) -> #DIV/0!
A21: 11 | B21: ='Список детей 1-2 года'!B14 -> 0 | E21: * | F21: * | G21: * | I21: * | J21: * | K21: * | L21: * | M21: * | N21: * | P21: * | Q21: * | T21: =AVERAGE(E21:S21) -> #DIV/0!
A22: 12 | B22: ='Список детей 1-2 года'!B15 -> 0 | E22: * | F22: * | G22: * | I22: * | J22: * | K22: * | L22: * | M22: * | N22: * | P22: * | Q22: * | T22: =AVERAGE(E22:S22) -> #DIV/0!
... A40: 30 | B40: ='Список детей 1-2 года'!B33 -> 0 | E40: * | F40: * | G40: * | I40: * | J40: * | K40: * | L40: * | M40: * | N40: * | P40: * | Q40: * | T40: =AVERAGE(E40:S40) -> #DIV/0!
B41: средний показатель по критерию | H41: =AVERAGE(H11:H40) -> #DIV/0! | O41: =AVERAGE(O11:O40) -> #DIV/0! | R41: =AVERAGE(R11:R40) -> #DIV/0! | S41: =AVERAGE(S11:S40) -> #DIV/0!
B42: средний показатель по разделу | H42: =H41 -> #DIV/0! | N42: =O41 -> #DIV/0! | R42: =(R41+S41)/2 -> #DIV/0!
B43: СРЕДНИЙ ПОКАЗАТЕЛЬ ПО ГРУППЕ | T43: =AVERAGE(T11:T40) -> #DIV/0!
B44: Ф.И.О, должность специалиста(ов)____________________________________________________________________________________________________________________________________________________________________________________________________________________________________
B45: © Автор-составитель Кулекина И.А., СПб, 2023
B49: познавательные действия | E49: =H42 -> #DIV/0!
B50: окружающий мир | E50: =N42 -> #DIV/0!
B51: природа | E51: =R42 -> #DIV/0!

Sheet Динамика позн.разв
A1: Обобщение результатов педагогической диагностики по ОО "Познавательное развитие" (дети 1-2 лет)
B3: познавательное развитие | C3: окружающий мир | D3: природа | E3: средний показатель по группе
A4: начало года | B4: ='Позн.разв. 1-2 г Н.г '!E49 -> #DIV/0! | C4: ='Позн.разв. 1-2 г Н.г '!E50 -> 0 | D4: ='Позн.разв. 1-2 г Н.г '!E51 -> #DIV/0! | E4: ='Позн.разв. 1-2 г Н.г '!T43 -> #DIV/0!
A5: конец года | B5: ='Позн.разв. 1-2 г К.г '!E49 -> #DIV/0! | C5: ='Позн.разв. 1-2 г К.г '!E50 -> #DIV/0! | D5: ='Позн.разв. 1-2 г К.г '!E51 -> #DIV/0! | E5: ='Позн.разв. 1-2 г К.г '!T43 -> #DIV/0!

Sheet Реч.разв. 1-2 г. Н.г.
A1: Стартовая диагностика | E1: ГРУППА МЛАДЕНЧЕСКОГО ВОЗРАСТА (1-2 года)
A2: Период проведения | E2: Начало уч. года (сентябрь) или начало посещения группы младенческого возраста
A3: *- не диагностируется в данном возрасте
A4: Сформированность показателя | E4: «2» показатель сформирован | H4: «1» показатель в стадии формирования | K4: «0» показатель не сформирован
A5: Средний уровень | E5: 1,8 - 2,0 норма-высокий | H5: 1,0 - 1,7 норма - средний | K5: 0,0 - 0,9 ниже нормы
A6: № | B6: Ф.И. ребенка | E6: ОБРАЗОВАТЕЛЬНАЯ ОБЛАСТЬ «РЕЧЕВОЕ РАЗВИТИЕ» | N6: СРЕДНИЙ ПОКАЗАТЕЛЬ ПО РЕБЕНКУ
E7: Показатели возможных достижений (возрастные характеристики) к 1 году
E8: Общее речевое развитие | H8: Формирование словаря | I8: Звуковая культура речи* | J8: Грамматический строй* | K8: Связная речь* | L8: ЧХЛ* | M8: Подготовка к обучению грамоте*
E9: Ребенок понимает речь взрослого | F9: Ребенок откликается на свое имя | G9: Ребенок показывает окружающие предметы по заданию педагога | H9: Ребенок произносит несколько простых, облегченных слов (мама, папа, баба, деда и т.д.), некоторые несут смысловую нагрузку
A11: 1 | B11: ='Список детей 1-2 года'!B4 -> 0 | I11: * | J11: * | K11: * | L11: * | M11: * | N11: =AVERAGE(E11:M11) -> #DIV/0!
A12: 2 | B12: ='Список детей 1-2 года'!B5 -> 0 | I12: * | J12: * | K12: * | L12: * | M12: * | N12: =AVERAGE(E12:M12) -> #DIV/0!
A13: 3 | B13: ='Список детей 1-2 года'!B6 -> 0 | I13: * | J13: * | K13: * | L13: * | M13: * | N13: =AVERAGE(E13:M13) -> #DIV/0!
A14: 4 | B14: ='Список детей 1-2 года'!B7 -> 0 | I14: * | J14: * | K14: * | L14: * | M14: * | N14: =AVERAGE(E14:M14) -> #DIV/0!
A15: 5 | B15: ='Список детей 1-2 года'!B8 -> 0 | I15: * | J15: * | K15: * | L15: * | M15: * | N15: =AVERAGE(E15:M15) -> #DIV/0!
A16: 6 | B16: ='Список детей 1-2 года'!B9 -> 0 | I16: * | J16: * | K16: * | L16: * | M16: * | N16: =AVERAGE(E16:M16) -> #DIV/0!
A17: 7 | B17: ='Список детей 1-2 года'!B10 -> 0 | I17: * | J17: * | K17: * | L17: * | M17: * | N17: =AVERAGE(E17:M17) -> #DIV/0!
A18: 8 | B18: ='Список детей 1-2 года'!B11 -> 0 | I18: * | J18: * | K18: * | L18: * | M18: * | N18: =AVERAGE(E18:M18) -> #DIV/0!
A19: 9 | B19: ='Список детей 1-2 года'!B12 -> 0 | I19: * | J19: * | K19: * | L19: * | M19: * | N19: =AVERAGE(E19:M19) -> #DIV/0!
A20: 10 | B20: ='Список детей 1-2 года'!B13 -> 0 | I20: * | J20: * | K20: * | L20: * | M20: * | N20: =AVERAGE(E20:M20) -> #DIV/0!
A21: 11 | B21: ='Список детей 1-2 года'!B14 -> 0 | I21: * | J21: * | K21: * | L21: * | M21: * | N21: =AVERAGE(E21:M21) -> #DIV/0!
A22: 12 | B22: ='Список детей 1-2 года'!B15 -> 0 | I22: * | J22: * | K22: * | L22: * | M22: * | N22: =AVERAGE(E22:M22) -> #DIV/0!
... A40: 30 | B40: ='Список детей 1-2 года'!B33 -> 0 | I40: * | J40: * | K40: * | L40: * | M40: * | N40: =AVERAGE(E40:M40) -> #DIV/0!
B41: средний показатель по критерию | E41: =AVERAGE(E11:E40) -> #DIV/0! | F41: =AVERAGE(F11:F40) -> #DIV/0! | G41: =AVERAGE(G11:G40) -> #DIV/0! | H41: =AVERAGE(H11:H40) -> #DIV/0!
B42: средний показатель по разделу | E42: =(E41+F41+G41)/3 -> #DIV/0! | H42: =H41 -> #DIV/0!
B43: СРЕДНИЙ ПОКАЗАТЕЛЬ ПО ГРУППЕ | N43: =AVERAGE(N11:N40) -> #DIV/0!
B44: Ф.И.О, должность специалиста(ов)____________________________________________________________________________________________________________________________________________________________________________________________________________________________________
B45: © Автор-составитель Кулекина И.А., СПб, 2023
B48: общее речевое развитие | E48: =E42 -> #DIV/0!
B49: формирование словаря | E49: =H42 -> #DIV/0!

Sheet Реч.разв. 1-2 г. К.г.
A1: Стартовая диагностика | E1: ГРУППА МЛАДЕНЧЕСКОГО ВОЗРАСТА (1-2 года)
A2: Период проведения | E2: Конец уч. года (май)
A3: *- не диагностируется в данном возрасте
A4: Сформированность показателя | E4: «2» показатель сформирован | H4: «1» показатель в стадии формирования | K4: «0» показатель не сформирован
A5: Средний уровень | E5: 1,8 - 2,0 норма-высокий | H5: 1,0 - 1,7 норма - средний | K5: 0,0 - 0,9 ниже нормы
A6: № | B6: Ф.И. ребенка | E6: ОБРАЗОВАТЕЛЬНАЯ ОБЛАСТЬ «РЕЧЕВОЕ РАЗВИТИЕ» | N6: СРЕДНИЙ ПОКАЗАТЕЛЬ ПО РЕБЕНКУ
E7: Показатели возможных достижений (возрастные характеристики) к 1 году
E8: Общее речевое развитие | H8: Формирование словаря | I8: Звуковая культура речи* | J8: Грамматический строй* | K8: Связная речь* | L8: ЧХЛ* | M8: Подготовка к обучению грамоте*
E9: Ребенок понимает речь взрослого | F9: Ребенок откликается на свое имя | G9: Ребенок показывает окружающие предметы по заданию педагога | H9: Ребенок произносит несколько простых, облегченных слов (мама, папа, баба, деда и т.д.), некоторые несут смысловую нагрузку
A11: 1 | B11: ='Список детей 1-2 года'!B4 -> 0 | I11: * | J11: * | K11: * | L11: * | M11: * | N11: =AVERAGE(E11:M11) -> #DIV/0!
A12: 2 | B12: ='Список детей 1-2 года'!B5 -> 0 | I12: * | J12: * | K12: * | L12: * | M12: * | N12: =AVERAGE(E12:M12) -> #DIV/0!
A13: 3 | B13: ='Список детей 1-2 года'!B6 -> 0 | I13: * | J13: * | K13: * | L13: * | M13: * | N13: =AVERAGE(E13:M13) -> #DIV/0!
A14: 4 | B14: ='Список детей 1-2 года'!B7 -> 0 | I14: * | J14: * | K14: * | L14: * | M14: * | N14: =AVERAGE(E14:M14) -> #DIV/0!
A15: 5 | B15: ='Список детей 1-2 года'!B8 -> 0 | I15: * | J15: * | K15: * | L15: * | M15: * | N15: =AVERAGE(E15:M15) -> #DIV/0!
A16: 6 | B16: ='Список детей 1-2 года'!B9 -> 0 | I16: * | J16: * | K16: * | L16: * | M16: * | N16: =AVERAGE(E16:M16) -> #DIV/0!
A17: 7 | B17: ='Список детей 1-2 года'!B10 -> 0 | I17: * | J17: * | K17: * | L17: * | M17: * | N17: =AVERAGE(E17:M17) -> #DIV/0!
A18: 8 | B18: ='Список детей 1-2 года'!B11 -> 0 | I18: * | J18: * | K18: * | L18: * | M18: * | N18: =AVERAGE(E18:M18) -> #DIV/0!
A19: 9 | B19: ='Список детей 1-2 года'!B12 -> 0 | I19: * | J19: * | K19: * | L19: * | M19: * | N19: =AVERAGE(E19:M19) -> #DIV/0!
A20: 10 | B20: ='Список детей 1-2 года'!B13 -> 0 | I20: * | J20: * | K20: * | L20: * | M20: * | N20: =AVERAGE(E20:M20) -> #DIV/0!
A21: 11 | B21: ='Список детей 1-2 года'!B14 -> 0 | I21: * | J21: * | K21: * | L21: * | M21: * | N21: =AVERAGE(E21:M21) -> #DIV/0!
A22: 12 | B22: ='Список детей 1-2 года'!B15 -> 0 | I22: * | J22: * | K22: * | L22: * | M22: * | N22: =AVERAGE(E22:M22) -> #DIV/0!
... A40: 30 | B40: ='Список детей 1-2 года'!B33 -> 0 | I40: * | J40: * | K40: * | L40: * | M40: * | N40: =AVERAGE(E40:M40) -> #DIV/0!
B41: средний показатель по критерию | E41: =AVERAGE(E11:E40) -> #DIV/0! | F41: =AVERAGE(F11:F40) -> #DIV/0! | G41: =AVERAGE(G11:G40) -> #DIV/0! | H41: =AVERAGE(H11:H40) -> #DIV/0!
B42: средний показатель по разделу | E42: =(E41+F41+G41)/3 -> #DIV/0! | H42: =H41 -> #DIV/0!
B43: СРЕДНИЙ ПОКАЗАТЕЛЬ ПО ГРУППЕ | N43: =AVERAGE(N11:N40) -> #DIV/0!
B44: Ф.И.О, должность специалиста(ов)____________________________________________________________________________________________________________________________________________________________________________________________________________________________________
B45: © Автор-составитель Кулекина И.А., СПб, 2023
B48: общее речевое развитие | E48: =E42 -> #DIV/0!
B49: формирование словаря | E49: =H42 -> #DIV/0!

Sheet Динамика реч.разв 
A1: Обобщение результатов педагогической диагностики по ОО "Речевое развитие" (дети 1-2 лет)
B3: общее речевое развитие | C3: формирование словаря | D3: средний показатель по группе
A4: начало года | B4: ='Реч.разв. 1-2 г. Н.г.'!E48 -> #DIV/0! | C4: ='Реч.разв. 1-2 г. Н.г.'!E49 -> #DIV/0! | D4: ='Реч.разв. 1-2 г. Н.г.'!N43 -> #DIV/0!
A5: конец года | B5: ='Реч.разв. 1-2 г. К.г.'!E48 -> #DIV/0! | C5: ='Реч.разв. 1-2 г. К.г.'!E49 -> #DIV/0! | D5: ='Реч.разв. 1-2 г. К.г.'!N43 -> #DIV/0!

Sheet Худ.-эст. 1-2 г. Н.г
A1: Стартовая диагностика | E1: ГРУППА МЛАДЕНЧЕСКОГО ВОЗРАСТА (1-2 года)
A2: Период проведения | E2: Начало уч. года (сентябрь) или начало посещения группы младенческого возраста
A3: *- не диагностируется в данном возрасте
A4: Сформированность показателя | E4: «2» показатель сформирован | H4: «1» показатель в стадии формирования | L4: «0» показатель не сформирован
A5: Средний уровень | E5: 1,8 - 2,0 норма-высокий | H5: 1,0 - 1,7 норма - средний | L5: 0,0 - 0,9 ниже нормы
A6: № | B6: Ф.И. ребенка | E6: ОБРАЗОВАТЕЛЬНАЯ ОБЛАСТЬ «ХУДОЖЕСТВЕННО-ЭСТЕТИЧЕСКОЕ РАЗВИТИЕ» | T6: СРЕДНИЙ ПОКАЗАТЕЛЬ ПО РЕБЕНКУ
E7: Показатели возможных достижений (возрастные характеристики) к 1 году
E8: Музыкальная деятельность | L8: Изобразительная деятельность* | Q8: Приобщение к искусству* | R8: Конструктивная деятельность* | S8: Театрализованная деятельность*
E9: Слушание | F9: Пение | G9: Музыкально-ритмические движения | H9: Песенное творчество* | I9: Игра на детских музыкальных инструментах | K9: Танцевально-игровое творчество* | L9: Рисование* | M9: Лепка * | N9: Аппликация* | O9: Народное ДПИ* | P9: Прикладное творчество*
E10: Ребенок эмоционально реагирует на музыку | F10: Ребенок эмоционально реагирует на пение | G10: Ребенок хлопает в ладоши, притоптывает, слегка приседает, сгибает и разгибает ноги в коленях | I10: Ребенок звенит погремушкой, колокольчиком, бубном, ударяет в барабан | J10: Ребенок прислушивается к звучанию
A12: 1 | B12: ='Список детей 1-2 года'!B4 -> 0 | H12: * | K12: * | L12: * | M12: * | N12: * | O12: * | P12: * | Q12: * | R12: * | S12: * | T12: =AVERAGE(E12:S12) -> #DIV/0!
A13: 2 | B13: ='Список детей 1-2 года'!B5 -> 0 | H13: * | K13: * | L13: * | M13: * | N13: * | O13: * | P13: * | Q13: * | R13: * | S13: * | T13: =AVERAGE(E13:S13) -> #DIV/0!
A14: 3 | B14: ='Список детей 1-2 года'!B6 -> 0 | H14: * | K14: * | L14: * | M14: * | N14: * | O14: * | P14: * | Q14: * | R14: * | S14: * | T14: =AVERAGE(E14:S14) -> #DIV/0!
A15: 4 | B15: ='Список детей 1-2 года'!B7 -> 0 | H15: * | K15: * | L15: * | M15: * | N15: * | O15: * | P15: * | Q15: * | R15: * | S15: * | T15: =AVERAGE(E15:S15) -> #DIV/0!
A16: 5 | B16: ='Список детей 1-2 года'!B8 -> 0 | H16: * | K16: * | L16: * | M16: * | N16: * | O16: * | P16: * | Q16: * | R16: * | S16: * | T16: =AVERAGE(E16:S16) -> #DIV/0!
A17: 6 | B17: ='Список детей 1-2 года'!B9 -> 0 | H17: * | K17: * | L17: * | M17: * | N17: * | O17: * | P17: * | Q17: * | R17: * | S17: * | T17: =AVERAGE(E17:S17) -> #DIV/0!
A18: 7 | B18: ='Список детей 1-2 года'!B10 -> 0 | H18: * | K18: * | L18: * | M18: * | N18: * | O18: * | P18: * | Q18: * | R18: * | S18: * | T18: =AVERAGE(E18:S18) -> #DIV/0!
A19: 8 | B19: ='Список детей 1-2 года'!B11 -> 0 | H19: * | K19: * | L19: * | M19: * | N19: * | O19: * | P19: * | Q19: * | R19: * | S19: * | T19: =AVERAGE(E19:S19) -> #DIV/0!
A20: 9 | B20: ='Список детей 1-2 года'!B12 -> 0 | H20: * | K20: * | L20: * | M20: * | N20: * | O20: * | P20: * | Q20: * | R20: * | S20: * | T20: =AVERAGE(E20:S20) -> #DIV/0!
A21: 10 | B21: ='Список детей 1-2 года'!B13 -> 0 | H21: * | K21: * | L21: * | M21: * | N21: * | O21: * | P21: * | Q21: * | R21: * | S21: * | T21: =AVERAGE(E21:S21) -> #DIV/0!
A22: 11 | B22: ='Список детей 1-2 года'!B14 -> 0 | H22: * | K22: * | L22: * | M22: * | N22: * | O22: * | P22: * | Q22: * | R22: * | S22: * | T22: =AVERAGE(E22:S22) -> #DIV/0!
A23: 12 | B23: ='Список детей 1-2 года'!B15 -> 0 | H23: * | K23: * | L23: * | M23: * | N23: * | O23: * | P23: * | Q23: * | R23: * | S23: * | T23: =AVERAGE(E23:S23) -> #DIV/0!
... A41: 30 | B41: ='Список детей 1-2 года'!B33 -> 0 | H41: * | K41: * | L41: * | M41: * | N41: * | O41: * | P41: * | Q41: * | R41: * | S41: * | T41: =AVERAGE(E41:S41) -> #DIV/0!
B42: средний показатель по критерию | E42: =AVERAGE(E12:E41) -> #DIV/0! | F42: =AVERAGE(F12:F41) -> #DIV/0! | G42: =AVERAGE(G12:G41) -> #DIV/0! | I42: =AVERAGE(I12:I41) -> #DIV/0! | J42: =AVERAGE(J12:J41) -> #DIV/0!
B43: средний показатель по разделу | E43: =(E42+F42+G42+I42+J42)/5 -> #DIV/0!
B44: СРЕДНИЙ ПОКАЗАТЕЛЬ ПО ГРУППЕ | T44: =AVERAGE(T12:T41) -> #DIV/0!
B45: Ф.И.О, должность специалиста(ов)____________________________________________________________________________________________________________________________________________________________________________________________________________________________________
B46: © Автор-составитель Кулекина И.А., СПб, 2023
B49: музыкальная деятельность | E49: =E43 -> #DIV/0!

Sheet Худ.-эст.1-2 г.К.г.
A1: Стартовая диагностика | E1: ГРУППА МЛАДЕНЧЕСКОГО ВОЗРАСТА (1-2 года)
A2: Период проведения | E2: Конец уч. года (май)
A3: *- не диагностируется в данном возрасте
A4: Сформированность показателя | E4: «2» показатель сформирован | H4: «1» показатель в стадии формирования | L4: «0» показатель не сформирован
A5: Средний уровень | E5: 1,8 - 2,0 норма-высокий | H5: 1,0 - 1,7 норма - средний | L5: 0,0 - 0,9 ниже нормы
A6: № | B6: Ф.И. ребенка | E6: ОБРАЗОВАТЕЛЬНАЯ ОБЛАСТЬ «ХУДОЖЕСТВЕННО-ЭСТЕТИЧЕСКОЕ РАЗВИТИЕ» | T6: СРЕДНИЙ ПОКАЗАТЕЛЬ ПО РЕБЕНКУ
E7: Показатели возможных достижений (возрастные характеристики) к 1 году
E8: Музыкальная деятельность | L8: Изобразительная деятельность* | Q8: Приобщение к искусству* | R8: Конструктивная деятельность* | S8: Театрализованная деятельность*
E9: Слушание | F9: Пение | G9: Музыкально-ритмические движения | H9: Песенное творчество* | I9: Игра на детских музыкальных инструментах | K9: Танцевально-игровое творчество* | L9: Рисование* | M9: Лепка * | N9: Аппликация* | O9: Народное ДПИ* | P9: Прикладное творчество*
E10: Ребенок эмоционально реагирует на музыку | F10: Ребенок эмоционально реагирует на пение | G10: Ребенок хлопает в ладоши, притоптывает, слегка приседает, сгибает и разгибает ноги в коленях | I10: Ребенок звенит погремушкой, колокольчиком, бубном, ударяет в барабан | J10: Ребенок прислушивается к звучанию
A12: 1 | B12: ='Список детей 1-2 года'!B4 -> 0 | H12: * | K12: * | L12: * | M12: * | N12: * | O12: * | P12: * | Q12: * | R12: * | S12: * | T12: =AVERAGE(E12:S12) -> #DIV/0!
A13: 2 | B13: ='Список детей 1-2 года'!B5 -> 0 | H13: * | K13: * | L13: * | M13: * | N13: * | O13: * | P13: * | Q13: * | R13: * | S13: * | T13: =AVERAGE(E13:S13) -> #DIV/0!
A14: 3 | B14: ='Список детей 1-2 года'!B6 -> 0 | H14: * | K14: * | L14: * | M14: * | N14: * | O14: * | P14: * | Q14: * | R14: * | S14: * | T14: =AVERAGE(E14:S14) -> #DIV/0!
A15: 4 | B15: ='Список детей 1-2 года'!B7 -> 0 | H15: * | K15: * | L15: * | M15: * | N15: * | O15: * | P15: * | Q15: * | R15: * | S15: * | T15: =AVERAGE(E15:S15) -> #DIV/0!
A16: 5 | B16: ='Список детей 1-2 года'!B8 -> 0 | H16: * | K16: * | L16: * | M16: * | N16: * | O16: * | P16: * | Q16: * | R16: * | S16: * | T16: =AVERAGE(E16:S16) -> #DIV/0!
A17: 6 | B17: ='Список детей 1-2 года'!B9 -> 0 | H17: * | K17: * | L17: * | M17: * | N17: * | O17: * | P17: * | Q17: * | R17: * | S17: * | T17: =AVERAGE(E17:S17) -> #DIV/0!
A18: 7 | B18: ='Список детей 1-2 года'!B10 -> 0 | H18: * | K18: * | L18: * | M18: * | N18: * | O18: * | P18: * | Q18: * | R18: * | S18: * | T18: =AVERAGE(E18:S18) -> #DIV/0!
A19: 8 | B19: ='Список детей 1-2 года'!B11 -> 0 | H19: * | K19: * | L19: * | M19: * | N19: * | O19: * | P19: * | Q19: * | R19: * | S19: * | T19: =AVERAGE(E19:S19) -> #DIV/0!
A20: 9 | B20: ='Список детей 1-2 года'!B12 -> 0 | H20: * | K20: * | L20: * | M20: * | N20: * | O20: * | P20: * | Q20: * | R20: * | S20: * | T20: =AVERAGE(E20:S20) -> #DIV/0!
A21: 10 | B21: ='Список детей 1-2 года'!B13 -> 0 | H21: * | K21: * | L21: * | M21: * | N21: * | O21: * | P21: * | Q21: * | R21: * | S21: * | T21: =AVERAGE(E21:S21) -> #DIV/0!
A22: 11 | B22: ='Список детей 1-2 года'!B14 -> 0 | H22: * | K22: * | L22: * | M22: * | N22: * | O22: * | P22: * | Q22: * | R22: * | S22: * | T22: =AVERAGE(E22:S22) -> #DIV/0!
A23: 12 | B23: ='Список детей 1-2 года'!B15 -> 0 | H23: * | K23: * | L23: * | M23: * | N23: * | O23: * | P23: * | Q23: * | R23: * | S23: * | T23: =AVERAGE(E23:S23) -> #DIV/0!
... A41: 30 | B41: ='Список детей 1-2 года'!B33 -> 0 | H41: * | K41: * | L41: * | M41: * | N41: * | O41: * | P41: * | Q41: * | R41: * | S41: * | T41: =AVERAGE(E41:S41) -> #DIV/0!
B42: средний показатель по критерию | E42: =AVERAGE(E12:E41) -> #DIV/0! | F42: =AVERAGE(F12:F41) -> #DIV/0! | G42: =AVERAGE(G12:G41) -> #DIV/0! | I42: =AVERAGE(I12:I41) -> #DIV/0! | J42: =AVERAGE(J12:J41) -> #DIV/0!
B43: средний показатель по разделу | E43: =(E42+F42+G42+I42+J42)/5 -> #DIV/0!
B44: СРЕДНИЙ ПОКАЗАТЕЛЬ ПО ГРУППЕ | T44: =AVERAGE(T12:T41) -> #DIV/0!
B45: Ф.И.О, должность специалиста(ов)____________________________________________________________________________________________________________________________________________________________________________________________________________________________________
B46: © Автор-составитель Кулекина И.А., СПб, 2023
B49: музыкальная деятельность | E49: =E43 -> #DIV/0!

Sheet Динамика худ-эст.разв  
A1: Обобщение результатов педагогической диагностики по ОО "Художественно-эстетическое развитие" (дети 1-2 лет)
B3: музыкальная деятельность | C3: средний показатель по группе
A4: начало года | B4: ='Худ.-эст. 1-2 г. Н.г'!E49 -> #DIV/0! | C4: ='Худ.-эст. 1-2 г. Н.г'!T44 -> #DIV/0!
A5: конец года | B5: ='Худ.-эст.1-2 г.К.г.'!E49 -> #DIV/0! | C5: ='Худ.-эст.1-2 г.К.г.'!T44 -> #DIV/0!

Sheet Соц.ком. 1-2 г. Н.г.
A1: Стартовая диагностика | E1: ГРУППА МЛАДЕНЧЕСКОГО ВОЗРАСТА (1-2 года)
A2: Период проведения | E2: Начало уч. года (сентябрь) или начало посещения группы младенческого возраста
A3: *- не диагностируется в данном возрасте
A4: Сформированность показателя | E4: «2» показатель сформирован | H4: «1» показатель в стадии формирования | L4: «0» показатель не сформирован
A5: Средний уровень | E5: 1,8 - 2,0 норма-высокий | H5: 1,0 - 1,7 норма - средний | L5: 0,0 - 0,9 ниже нормы
A6: № | B6: Ф.И. ребенка | E6: ОБРАЗОВАТЕЛЬНАЯ ОБЛАСТЬ «СОЦИАЛЬНО-КОММУНИКАТИВНОЕ РАЗВИТИЕ» | O6: СРЕДНИЙ ПОКАЗАТЕЛЬ ПО РЕБЕНКУ
E7: Показатели возможных достижений (возрастные характеристики) к 1 году
E8: Сфера социальных отношений | L8: Область формирования основ гражданственности и патриотизма* | M8: Сфера трудового воспитания* | N8: Область формирования основ безопасного поведения*
E9: Отношение к самому себе | F9: Отношение к сверстникам* | G9: Отношение к взрослым | H9: Эмоции* | I9: Поведение | J9: Семья | K9: Игровое поведение
E10: Ребенок откликается на свое имя | G10: Ребенок эмоционально реагирует на внимание взрослого, проявляет радость в ответ на общение со взрослым | I10: Ребенок выполняет простые просьбы взрослого, понимает и адекватно реагирует на слова, регулирующие поведение (можно/нельзя) | J10: Ребенок положительно реагирует на знакомых людей, имена близких родственников | K10: Ребенок активно действует с игрушками, подражая действиям взрослых (катает машинку, кормит собачку, качает куклу)
A11: 1 | B11: ='Список детей 1-2 года'!B4 -> 0 | F11: * | H11: * | L11: * | M11: * | N11: * | O11: =AVERAGE(E11:N11) -> #DIV/0!
A12: 2 | B12: ='Список детей 1-2 года'!B5 -> 0 | F12: * | H12: * | L12: * | M12: * | N12: * | O12: =AVERAGE(E12:N12) -> #DIV/0!
A13: 3 | B13: ='Список детей 1-2 года'!B6 -> 0 | F13: * | H13: * | L13: * | M13: * | N13: * | O13: =AVERAGE(E13:N13) -> #DIV/0!
A14: 4 | B14: ='Список детей 1-2 года'!B7 -> 0 | F14: * | H14: * | L14: * | M14: * | N14: * | O14: =AVERAGE(E14:N14) -> #DIV/0!
A15: 5 | B15: ='Список детей 1-2 года'!B8 -> 0 | F15: * | H15: * | L15: * | M15: * | N15: * | O15: =AVERAGE(E15:N15) -> #DIV/0!
A16: 6 | B16: ='Список детей 1-2 года'!B9 -> 0 | F16: * | H16: * | L16: * | M16: * | N16: * | O16: =AVERAGE(E16:N16) -> #DIV/0!
A17: 7 | B17: ='Список детей 1-2 года'!B10 -> 0 | F17: * | H17: * | L17: * | M17: * | N17: * | O17: =AVERAGE(E17:N17) -> #DIV/0!
A18: 8 | B18: ='Список детей 1-2 года'!B11 -> 0 | F18: * | H18: * | L18: * | M18: * | N18: * | O18: =AVERAGE(E18:N18) -> #DIV/0!
A19: 9 | B19: ='Список детей 1-2 года'!B12 -> 0 | F19: * | H19: * | L19: * | M19: * | N19: * | O19: =AVERAGE(E19:N19) -> #DIV/0!
A20: 10 | B20: ='Список детей 1-2 года'!B13 -> 0 | F20: * | H20: * | L20: * | M20: * | N20: * | O20: =AVERAGE(E20:N20) -> #DIV/0!
A21: 11 | B21: ='Список детей 1-2 года'!B14 -> 0 | F21: * | H21: * | L21: * | M21: * | N21: * | O21: =AVERAGE(E21:N21) -> #DIV/0!
A22: 12 | B22: ='Список детей 1-2 года'!B15 -> 0 | F22: * | H22: * | L22: * | M22: * | N22: * | O22: =AVERAGE(E22:N22) -> #DIV/0!
... A40: 30 | B40: ='Список детей 1-2 года'!B33 -> 0 | F40: * | H40: * | L40: * | M40: * | N40: * | O40: =AVERAGE(E40:N40) -> #DIV/0!
B41: средний показатель по критерию | E41: =AVERAGE(E11:E40) -> #DIV/0! | G41: =AVERAGE(G11:G40) -> #DIV/0! | I41: =AVERAGE(I11:I40) -> #DIV/0! | J41: =AVERAGE(J11:J40) -> #DIV/0! | K41: =AVERAGE(K11:K40) -> #DIV/0!
B42: средний показатель по разделу | E42: =(E41+G41+I41+J41+K41)/5 -> #DIV/0!
B43: СРЕДНИЙ ПОКАЗАТЕЛЬ ПО ГРУППЕ | O43: =AVERAGE(O11:O40) -> #DIV/0!
B44: Ф.И.О, должность специалиста(ов)____________________________________________________________________________________________________________________________________________________________________________________________________________________________________
B45: © Автор-составитель Кулекина И.А., СПб, 2023
B48: сфера социальных отношений | E48: =E42 -> #DIV/0!

Sheet Соц.ком. 1-2 г. К.г. 
A1: Стартовая диагностика | E1: ГРУППА МЛАДЕНЧЕСКОГО ВОЗРАСТА (1-2 года)
A2: Период проведения | E2: Конец уч. года (май)
A3: *- не диагностируется в данном возрасте
A4: Сформированность показателя | E4: «2» показатель сформирован | H4: «1» показатель в стадии формирования | L4: «0» показатель не сформирован
A5: Средний уровень | E5: 1,8 - 2,0 норма-высокий | H5: 1,0 - 1,7 норма - средний | L5: 0,0 - 0,9 ниже нормы
A6: № | B6: Ф.И. ребенка | E6: ОБРАЗОВАТЕЛЬНАЯ ОБЛАСТЬ «СОЦИАЛЬНО-КОММУНИКАТИВНОЕ РАЗВИТИЕ» | O6: СРЕДНИЙ ПОКАЗАТЕЛЬ ПО РЕБЕНКУ
E7: Показатели возможных достижений (возрастные характеристики) к 1 году
E8: Сфера социальных отношений | L8: Область формирования основ гражданственности и патриотизма* | M8: Сфера трудового воспитания* | N8: Область формирования основ безопасного поведения*
E9: Отношение к самому себе | F9: Отношение к сверстникам* | G9: Отношение к взрослым | H9: Эмоции* | I9: Поведение | J9: Семья | K9: Игровое поведение
E10: Ребенок откликается на свое имя | G10: Ребенок эмоционально реагирует на внимание взрослого, проявляет радость в ответ на общение со взрослым | I10: Ребенок выполняет простые просьбы взрослого, понимает и адекватно реагирует на слова, регулирующие поведение (можно/нельзя) | J10: Ребенок положительно реагирует на знакомых людей, имена близких родственников | K10: Ребенок активно действует с игрушками, подражая действиям взрослых (катает машинку, кормит собачку, качает куклу)
A11: 1 | B11: ='Список детей 1-2 года'!B4 -> 0 | F11: * | H11: * | L11: * | M11: * | N11: * | O11: =AVERAGE(E11:N11) -> #DIV/0!
A12: 2 | B12: ='Список детей 1-2 года'!B5 -> 0 | F12: * | H12: * | L12: * | M12: * | N12: * | O12: =AVERAGE(E12:N12) -> #DIV/0!
A13: 3 | B13: ='Список детей 1-2 года'!B6 -> 0 | F13: * | H13: * | L13: * | M13: * | N13: * | O13: =AVERAGE(E13:N13) -> #DIV/0!
A14: 4 | B14: ='Список детей 1-2 года'!B7 -> 0 | F14: * | H14: * | L14: * | M14: * | N14: * | O14: =AVERAGE(E14:N14) -> #DIV/0!
A15: 5 | B15: ='Список детей 1-2 года'!B8 -> 0 | F15: * | H15: * | L15: * | M15: * | N15: * | O15: =AVERAGE(E15:N15) -> #DIV/0!
A16: 6 | B16: ='Список детей 1-2 года'!B9 -> 0 | F16: * | H16: * | L16: * | M16: * | N16: * | O16: =AVERAGE(E16:N16) -> #DIV/0!
A17: 7 | B17: ='Список детей 1-2 года'!B10 -> 0 | F17: * | H17: * | L17: * | M17: * | N17: * | O17: =AVERAGE(E17:N17) -> #DIV/0!
A18: 8 | B18: ='Список детей 1-2 года'!B11 -> 0 | F18: * | H18: * | L18: * | M18: * | N18: * | O18: =AVERAGE(E18:N18) -> #DIV/0!
A19: 9 | B19: ='Список детей 1-2 года'!B12 -> 0 | F19: * | H19: * | L19: * | M19: * | N19: * | O19: =AVERAGE(E19:N19) -> #DIV/0!
A20: 10 | B20: ='Список детей 1-2 года'!B13 -> 0 | F20: * | H20: * | L20: * | M20: * | N20: * | O20: =AVERAGE(E20:N20) -> #DIV/0!
A21: 11 | B21: ='Список детей 1-2 года'!B14 -> 0 | F21: * | H21: * | L21: * | M21: * | N21: * | O21: =AVERAGE(E21:N21) -> #DIV/0!
A22: 12 | B22: ='Список детей 1-2 года'!B15 -> 0 | F22: * | H22: * | L22: * | M22: * | N22: * | O22: =AVERAGE(E22:N22) -> #DIV/0!
... A40: 30 | B40: ='Список детей 1-2 года'!B33 -> 0 | F40: * | H40: * | L40: * | M40: * | N40: * | O40: =AVERAGE(E40:N40) -> #DIV/0!
B41: средний показатель по критерию | E41: =AVERAGE(E11:E40) -> #DIV/0! | G41: =AVERAGE(G11:G40) -> #DIV/0! | I41: =AVERAGE(I11:I40) -> #DIV/0! | J41: =AVERAGE(J11:J40) -> #DIV/0! | K41: =AVERAGE(K11:K40) -> #DIV/0!
B42: средний показатель по разделу | E42: =(E41+G41+I41+J41+K41)/5 -> #DIV/0!
B43: СРЕДНИЙ ПОКАЗАТЕЛЬ ПО ГРУППЕ | O43: =AVERAGE(O11:O40) -> #DIV/0!
B44: Ф.И.О, должность специалиста(ов)____________________________________________________________________________________________________________________________________________________________________________________________________________________________________
B45: © Автор-составитель Кулекина И.А., СПб, 2023
B48: сфера социальных отношений | E48: =E42 -> #DIV/0!

Sheet Динамика соц-ком развитие
A1: Обобщение результатов педагогической диагностики по ОО "Социально-коммуникативное развитие" (дети 1-2 лет)
B3: сфера социальных отношений | C3: средний показатель по группе
A4: начало года | B4: ='Соц.ком. 1-2 г. Н.г.'!E48 -> #DIV/0! | C4: ='Соц.ком. 1-2 г. Н.г.'!O43 -> #DIV/0!
A5: конец года | B5: ='Соц.ком. 1-2 г. К.г. '!E48 -> #DIV/0! | C5: ='Соц.ком. 1-2 г. К.г. '!O43 -> #DIV/0!

Sheet Физ.разв. 1-2 г.Н.г.
A1: Стартовая диагностика | E1: ГРУППА МЛАДЕНЧЕСКОГО ВОЗРАСТА (1-2 года)
A2: Период проведения | E2: Начало уч. года (сентябрь) или начало посещения группы младенческого возраста
A3: *- не диагностируется в данном возрасте
A4: Сформированность показателя | E4: «2» показатель сформирован | G4: «1» показатель в стадии формирования | L4: «0» показатель не сформирован
A5: Средний уровень | E5: 1,8 - 2,0 норма-высокий | G5: 1,0 - 1,7 норма - средний | L5: 0,0 - 0,9 ниже нормы
A6: № | B6: Ф.И. ребенка | E6: ОБРАЗОВАТЕЛЬНАЯ ОБЛАСТЬ «ФИЗИЧЕСКОЕ РАЗВИТИЕ» | V6: СРЕДНИЙ ПОКАЗАТЕЛЬ ПО РЕБЕНКУ
E7: Показатели возможных достижений (возрастные характеристики) к 1 году
E8: Крупная моторика. ОВД, ОРУ | L8: Мелкая моторика | N8: КГН | R8: ЗОЖ | S8: Подвижные игры | T8: Спортивные игры* | U8: Спортивные упражнения*
E9: Бросание, катание, ловля, метание | F9: Ползанье, лазанье | G9: Ходьба | H9: Бег* | I9: Прыжки* | J9: Равновесие* | K9: Строевые упражнения* | L9: Координация рук и глаз | M9: Графические навыки* | N9: Навыки соблюдения чистоты тела (правила личной гигиены) | O9: Навыки культуры еды (прием пищи) * | P9: Навыки поддержания порядка (правила поведения в быту) * | Q9: Навыки ухода за собой (одевание, раздевание) *
E10: Ребенок проявляет двигательную активность в освоении пространственной среды, используя движения хватания, бросания | F10: Ребенок проявляет двигательную активность в освоении пространственной среды, используя движения ползанья, лазанья | G10: Ребенок начинает осваивать самостоятельную ходьбу. Ребенок при поддержке поднимается, приседает на корточки. | L10: Ребенок манипулирует предметами (поднимает, переносит, ставит один предмет на другой) | N10: Ребенок положительно реагирует на прием пищи и гигиенические процедуры | R10: Ребенок эмоционально откликается при проведении комплекса гимнастики и закаливания | S10: Ребенок эмоционально откликается на игровые действия
A11: 1 | B11: ='Список детей 1-2 года'!B4 -> 0 | H11: * | I11: * | J11: * | K11: * | M11: * | O11: * | P11: * | Q11: * | T11: * | U11: * | V11: =AVERAGE(E11:U11) -> #DIV/0!
A12: 2 | B12: ='Список детей 1-2 года'!B5 -> 0 | H12: * | I12: * | J12: * | K12: * | M12: * | O12: * | P12: * | Q12: * | T12: * | U12: * | V12: =AVERAGE(E12:U12) -> #DIV/0!
A13: 3 | B13: ='Список детей 1-2 года'!B6 -> 0 | H13: * | I13: * | J13: * | K13: * | M13: * | O13: * | P13: * | Q13: * | T13: * | U13: * | V13: =AVERAGE(E13:U13) -> #DIV/0!
A14: 4 | B14: ='Список детей 1-2 года'!B7 -> 0 | H14: * | I14: * | J14: * | K14: * | M14: * | O14: * | P14: * | Q14: * | T14: * | U14: * | V14: =AVERAGE(E14:U14) -> #DIV/0!
A15: 5 | B15: ='Список детей 1-2 года'!B8 -> 0 | H15: * | I15: * | J15: * | K15: * | M15: * | O15: * | P15: * | Q15: * | T15: * | U15: * | V15: =AVERAGE(E15:U15) -> #DIV/0!
A16: 6 | B16: ='Список детей 1-2 года'!B9 -> 0 | H16: * | I16: * | J16: * | K16: * | M16: * | O16: * | P16: * | Q16: * | T16: * | U16: * | V16: =AVERAGE(E16:U16) -> #DIV/0!
A17: 7 | B17: ='Список детей 1-2 года'!B10 -> 0 | H17: * | I17: * | J17: * | K17: * | M17: * | O17: * | P17: * | Q17: * | T17: * | U17: * | V17: =AVERAGE(E17:U17) -> #DIV/0!
A18: 8 | B18: ='Список детей 1-2 года'!B11 -> 0 | H18: * | I18: * | J18: * | K18: * | M18: * | O18: * | P18: * | Q18: * | T18: * | U18: * | V18: =AVERAGE(E18:U18) -> #DIV/0!
A19: 9 | B19: ='Список детей 1-2 года'!B12 -> 0 | H19: * | I19: * | J19: * | K19: * | M19: * | O19: * | P19: * | Q19: * | T19: * | U19: * | V19: =AVERAGE(E19:U19) -> #DIV/0!
A20: 10 | B20: ='Список детей 1-2 года'!B13 -> 0 | H20: * | I20: * | J20: * | K20: * | M20: * | O20: * | P20: * | Q20: * | T20: * | U20: * | V20: =AVERAGE(E20:U20) -> #DIV/0!
A21: 11 | B21: ='Список детей 1-2 года'!B14 -> 0 | H21: * | I21: * | J21: * | K21: * | M21: * | O21: * | P21: * | Q21: * | T21: * | U21: * | V21: =AVERAGE(E21:U21) -> #DIV/0!
A22: 12 | B22: ='Список детей 1-2 года'!B15 -> 0 | H22: * | I22: * | J22: * | K22: * | M22: * | O22: * | P22: * | Q22: * | T22: * | U22: * | V22: =AVERAGE(E22:U22) -> #DIV/0!
... A40: 30 | B40: ='Список детей 1-2 года'!B33 -> 0 | H40: * | I40: * | J40: * | K40: * | M40: * | O40: * | P40: * | Q40: * | T40: * | U40: * | V40: =AVERAGE(E40:U40) -> #DIV/0!
B41: среднее значение по критерию | E41: =AVERAGE(E11:E40) -> #DIV/0! | F41: =AVERAGE(F11:F40) -> #DIV/0! | G41: =AVERAGE(G11:G40) -> #DIV/0! | L41: =AVERAGE(L11:L40) -> #DIV/0! | N41: =AVERAGE(N11:N40) -> #DIV/0! | R41: =AVERAGE(R11:R40) -> #DIV/0! | S41: =AVERAGE(S11:S40) -> #DIV/0!
B42: среднее значение по разделу | E42: =(E41+F41+G41)/3 -> #DIV/0! | L42: =L41 -> #DIV/0! | N42: =N41 -> #DIV/0! | R42: =R41 -> #DIV/0! | S42: =S41 -> #DIV/0!
B43: СРЕДНИЙ ПОКАЗАТЕЛЬ ПО ГРУППЕ | V43: =AVERAGE(V11:V40) -> #DIV/0!
B44: Ф.И.О, должность специалиста(ов)____________________________________________________________________________________________________________________________________________________________________________________________________________________________________
B45: © Автор-составитель Кулекина И.А., СПб, 2023
B48: Крупная моторика. ОВД.ОРУ | E48: =E42 -> #DIV/0!
B49: Мелкая моторика | E49: =L42 -> #DIV/0!
B50: КГН | E50: =N42 -> #DIV/0!
B51: ЗОЖ | E51: =R42 -> #DIV/0!
B52: Подвижные игры | E52: =S42 -> #DIV/0!

Sheet Физ.разв. 1-2 г.К.г.
A1: Стартовая диагностика | E1: ГРУППА МЛАДЕНЧЕСКОГО ВОЗРАСТА (1-2 года)
A2: Период проведения | E2: Конец уч. года (май)
A3: *- не диагностируется в данном возрасте
A4: Сформированность показателя | E4: «2» показатель сформирован | G4: «1» показатель в стадии формирования | L4: «0» показатель не сформирован
A5: Средний уровень | E5: 1,8 - 2,0 норма-высокий | G5: 1,0 - 1,7 норма - средний | L5: 0,0 - 0,9 ниже нормы
A6: № | B6: Ф.И. ребенка | E6: ОБРАЗОВАТЕЛЬНАЯ ОБЛАСТЬ «ФИЗИЧЕСКОЕ РАЗВИТИЕ» | V6: СРЕДНИЙ ПОКАЗАТЕЛЬ ПО РЕБЕНКУ
E7: Показатели возможных достижений (возрастные характеристики) к 1 году
E8: Крупная моторика. ОВД, ОРУ | L8: Мелкая моторика | N8: КГН | R8: ЗОЖ | S8: Подвижные игры | T8: Спортивные игры* | U8: Спортивные упражнения*
E9: Бросание, катание, ловля, метание | F9: Ползанье, лазанье | G9: Ходьба | H9: Бег* | I9: Прыжки* | J9: Равновесие* | K9: Строевые упражнения* | L9: Координация рук и глаз | M9: Графические навыки* | N9: Навыки соблюдения чистоты тела (правила личной гигиены) | O9: Навыки культуры еды (прием пищи) * | P9: Навыки поддержания порядка (правила поведения в быту) * | Q9: Навыки ухода за собой (одевание, раздевание) *
E10: Ребенок проявляет двигательную активность в освоении пространственной среды, используя движения хватания, бросания | F10: Ребенок проявляет двигательную активность в освоении пространственной среды, используя движения ползанья, лазанья | G10: Ребенок начинает осваивать самостоятельную ходьбу. Ребенок при поддержке поднимается, приседает на корточки. | L10: Ребенок манипулирует предметами (поднимает, переносит, ставит один предмет на другой) | N10: Ребенок положительно реагирует на прием пищи и гигиенические процедуры | R10: Ребенок эмоционально откликается при проведении комплекса гимнастики и закаливания | S10: Ребенок эмоционально откликается на игровые действия
A11: 1 | B11: ='Список детей 1-2 года'!B4 -> 0 | H11: * | I11: * | J11: * | K11: * | M11: * | O11: * | P11: * | Q11: * | T11: * | U11: * | V11: =AVERAGE(E11:U11) -> #DIV/0!
A12: 2 | B12: ='Список детей 1-2 года'!B5 -> 0 | H12: * | I12: * | J12: * | K12: * | M12: * | O12: * | P12: * | Q12: * | T12: * | U12: * | V12: =AVERAGE(E12:U12) -> #DIV/0!
A13: 3 | B13: ='Список детей 1-2 года'!B6 -> 0 | H13: * | I13: * | J13: * | K13: * | M13: * | O13: * | P13: * | Q13: * | T13: * | U13: * | V13: =AVERAGE(E13:U13) -> #DIV/0!
A14: 4 | B14: ='Список детей 1-2 года'!B7 -> 0 | H14: * | I14: * | J14: * | K14: * | M14: * | O14: * | P14: * | Q14: * | T14: * | U14: * | V14: =AVERAGE(E14:U14) -> #DIV/0!
A15: 5 | B15: ='Список детей 1-2 года'!B8 -> 0 | H15: * | I15: * | J15: * | K15: * | M15: * | O15: * | P15: * | Q15: * | T15: * | U15: * | V15: =AVERAGE(E15:U15) -> #DIV/0!
A16: 6 | B16: ='Список детей 1-2 года'!B9 -> 0 | H16: * | I16: * | J16: * | K16: * | M16: * | O16: * | P16: * | Q16: * | T16: * | U16: * | V16: =AVERAGE(E16:U16) -> #DIV/0!
A17: 7 | B17: ='Список детей 1-2 года'!B10 -> 0 | H17: * | I17: * | J17: * | K17: * | M17: * | O17: * | P17: * | Q17: * | T17: * | U17: * | V17: =AVERAGE(E17:U17) -> #DIV/0!
A18: 8 | B18: ='Список детей 1-2 года'!B11 -> 0 | H18: * | I18: * | J18: * | K18: * | M18: * | O18: * | P18: * | Q18: * | T18: * | U18: * | V18: =AVERAGE(E18:U18) -> #DIV/0!
A19: 9 | B19: ='Список детей 1-2 года'!B12 -> 0 | H19: * | I19: * | J19: * | K19: * | M19: * | O19: * | P19: * | Q19: * | T19: * | U19: * | V19: =AVERAGE(E19:U19) -> #DIV/0!
A20: 10 | B20: ='Список детей 1-2 года'!B13 -> 0 | H20: * | I20: * | J20: * | K20: * | M20: * | O20: * | P20: * | Q20: * | T20: * | U20: * | V20: =AVERAGE(E20:U20) -> #DIV/0!
A21: 11 | B21: ='Список детей 1-2 года'!B14 -> 0 | H21: * | I21: * | J21: * | K21: * | M21: * | O21: * | P21: * | Q21: * | T21: * | U21: * | V21: =AVERAGE(E21:U21) -> #DIV/0!
A22: 12 | B22: ='Список детей 1-2 года'!B15 -> 0 | H22: * | I22: * | J22: * | K22: * | M22: * | O22: * | P22: * | Q22: * | T22: * | U22: * | V22: =AVERAGE(E22:U22) -> #DIV/0!
... A40: 30 | B40: ='Список детей 1-2 года'!B33 -> 0 | H40: * | I40: * | J40: * | K40: * | M40: * | O40: * | P40: * | Q40: * | T40: * | U40: * | V40: =AVERAGE(E40:U40) -> #DIV/0!
B41: среднее значение по критерию | E41: =AVERAGE(E11:E40) -> #DIV/0! | F41: =AVERAGE(F11:F40) -> #DIV/0! | G41: =AVERAGE(G11:G40) -> #DIV/0! | L41: =AVERAGE(L11:L40) -> #DIV/0! | N41: =AVERAGE(N11:N40) -> #DIV/0! | R41: =AVERAGE(R11:R40) -> #DIV/0! | S41: =AVERAGE(S11:S40) -> #DIV/0!
B42: среднее значение по разделу | E42: =(E41+F41+G41)/3 -> #DIV/0! | L42: =L41 -> #DIV/0! | N42: =N41 -> #DIV/0! | R42: =R41 -> #DIV/0! | S42: =S41 -> #DIV/0!
B43: СРЕДНИЙ ПОКАЗАТЕЛЬ ПО ГРУППЕ | V43: =AVERAGE(V11:V40) -> #DIV/0!
B44: Ф.И.О, должность специалиста(ов)____________________________________________________________________________________________________________________________________________________________________________________________________________________________________
B45: © Автор-составитель Кулекина И.А., СПб, 2023
B48: Крупная моторика. ОВД.ОРУ | E48: =E42 -> #DIV/0!
B49: Мелкая моторика | E49: =L42 -> #DIV/0!
B50: КГН | E50: =N42 -> #DIV/0!
B51: ЗОЖ | E51: =R42 -> #DIV/0!
B52: Подвижные игры | E52: =S42 -> #DIV/0!

Sheet Динамика физического развития
A1: Обобщение результатов педагогической диагностики по ОО "Физическое развитие" (дети 1-2 лет)
B3: Крупная моторика. ОВД.ОРУ | C3: Мелкая моторика | D3: КГН | E3: ЗОЖ | F3: подвижные игры | G3: средний показатель по группе
A4: начало года | B4: ='Физ.разв. 1-2 г.Н.г.'!E48 -> #DIV/0! | C4: ='Физ.разв. 1-2 г.Н.г.'!E49 -> #DIV/0! | D4: ='Физ.разв. 1-2 г.Н.г.'!E50 -> #DIV/0! | E4: ='Физ.разв. 1-2 г.Н.г.'!E51 -> #DIV/0! | F4: ='Физ.разв. 1-2 г.Н.г.'!E52 -> #DIV/0! | G4: ='Физ.разв. 1-2 г.Н.г.'!V43 -> #DIV/0!
A5: конец года | B5: ='Физ.разв. 1-2 г.К.г.'!E48 -> #DIV/0! | C5: ='Физ.разв. 1-2 г.К.г.'!E49 -> #DIV/0! | D5: ='Физ.разв. 1-2 г.К.г.'!E50 -> #DIV/0! | E5: ='Физ.разв. 1-2 г.К.г.'!E51 -> #DIV/0! | F5: ='Физ.разв. 1-2 г.К.г.'!E52 -> #DIV/0! | G5: ='Физ.разв. 1-2 г.К.г.'!V43 -> #DIV/0!

Sheet 1
A2: ='Список детей 1-2 года'!B4 -> 0 | B2: Познавательное развитие | F2: Речевое развитие | J2: Художественно-эстетическое развитие (Музыкальная деятельность) | O2: Социльно-коммуникативное развитие | T2: Физическое развитие
B3: Познавательные действия | C3: окружающий мир | D3: Природа | F3: Общее речевое развитие | I3: Формирование словаря | J3: Слушание | K3: Пение | L3: Музыкально-ритмические движения | M3: Игра на детских музыкальных инструментах | O3: Сфера социальных отношений | T3: Крупная моторика. ОВД, ОРУ | W3: Мелкая моторика | X3: КГН | Y3: ЗОЖ | Z3: Подвижные игры
C4: Предметный мир | D4: Объекты живой природы | E4: Объекты неживой природы, природные явления | F4: Ребенок понимает речь взрослого | G4: Ребенок откликается на свое имя | H4: Ребенок показывает окружающие предметы по заданию педагога | I4: Ребенок произносит несколько простых, облегченных слов (мама, папа, баба, деда и т.д.), некоторые несут смысловую нагрузку | J4: Ребенок эмоционально реагирует на музыку | K4: Ребенок эмоционально реагирует на пение | L4: Ребенок хлопает в ладоши, притоптывает, слегка приседает, сгибает и разгибает ноги в коленях | M4: Ребенок звенит погремушкой, колокольчиком, бубном, ударяет в барабан | N4: Ребенок прислушивается к звучанию | O4: Отношение к самому себе | P4: Отношение к взрослым | Q4: Поведение | R4: Семья | S4: Игровое поведение | T4: Бросание, катание, ловля, метание | U4: Ползанье, лазанье | V4: Ходьба | W4: Координация рук и глаз | X4: Навыки соблюдения чистоты тела (правила личной гигиены)
B5: Ребенок обнаруживает поисковую и познавательную активность по отношению к предметному окружению | C5: Ребенок проявляет интерес к окружающим предметам и действиям с ними | D5: Ребенок проявляет интерес к животным, птицам, рыбам, растениям | E5: Ребенок проявляет интерес к объектам неживой природы | O5: Ребенок откликается на свое имя | P5: Ребенок эмоционально реагирует на внимание взрослого, проявляет радость в ответ на общение со взрослым | Q5: Ребенок выполняет простые просьбы взрослого, понимает и адекватно реагирует на слова, регулирующие поведение (можно/нельзя) | R5: Ребенок положительно реагирует на знакомых людей, имена близких родственников | S5: Ребенок активно действует с игрушками, подражая действиям взрослых (катает машинку, кормит собачку, качает куклу) | T5: Ребенок проявляет двигательную активность в освоении пространственной среды, используя движения хватания, бросания | U5: Ребенок проявляет двигательную активность в освоении пространственной среды, используя движения ползанья, лазанья | V5: Ребенок начинает осваивать самостоятельную ходьбу. Ребенок при поддержке поднимается, приседает на корточки. | W5: Ребенок манипулирует предметами (поднимает, переносит, ставит один предмет на другой) | X5: Ребенок положительно реагирует на прием пищи и гигиенические процедуры | Y5: Ребенок эмоционально откликается при проведении комплекса гимнастики и закаливания | Z5: Ребенок эмоционально откликается на игровые действия
A6: начало года | B6: ='Позн.разв. 1-2 г Н.г '!H11 -> 0 | C6: ='Позн.разв. 1-2 г Н.г '!O11 -> 0 | D6: ='Позн.разв. 1-2 г Н.г '!R11 -> 0 | E6: ='Позн.разв. 1-2 г Н.г '!S11 -> 0 | F6: ='Реч.разв. 1-2 г. Н.г.'!E11 -> 0 | G6: ='Реч.разв. 1-2 г. Н.г.'!F11 -> 0 | H6: ='Реч.разв. 1-2 г. Н.г.'!G11 -> 0 | I6: ='Реч.разв. 1-2 г. Н.г.'!H11 -> 0 | J6: ='Худ.-эст. 1-2 г. Н.г'!E12 -> 0 | K6: ='Худ.-эст. 1-2 г. Н.г'!F12 -> 0 | L6: ='Худ.-эст. 1-2 г. Н.г'!G12 -> 0 | M6: ='Худ.-эст. 1-2 г. Н.г'!I12 -> 0 | N6: ='Худ.-эст. 1-2 г. Н.г'!J12 -> 0 | O6: ='Соц.ком. 1-2 г. Н.г.'!E11 -> 0 | P6: ='Соц.ком. 1-2 г. Н.г.'!G11 -> 0 | Q6: ='Соц.ком. 1-2 г. Н.г.'!I11 -> 0 | R6: ='Соц.ком. 1-2 г. Н.г.'!J11 -> 0 | S6: ='Соц.ком. 1-2 г. Н.г.'!K11 -> 0 | T6: ='Физ.разв. 1-2 г.Н.г.'!E11 -> 0 | U6: ='Физ.разв. 1-2 г.Н.г.'!F11 -> 0 | V6: ='Физ.разв. 1-2 г.Н.г.'!G11 -> 0 | W6: ='Физ.разв. 1-2 г.Н.г.'!L11 -> 0 | X6: ='Физ.разв. 1-2 г.Н.г.'!N11 -> 0 | Y6: ='Физ.разв. 1-2 г.Н.г.'!R11 -> 0 | Z6: ='Физ.разв. 1-2 г.Н.г.'!S11 -> 0
A7: конец года | B7: ='Позн.разв. 1-2 г К.г '!$H$11 -> 0 | C7: ='Позн.разв. 1-2 г К.г '!$O$11 -> 0 | D7: ='Позн.разв. 1-2 г К.г '!$R$11 -> 0 | E7: ='Позн.разв. 1-2 г К.г '!$S$11 -> 0 | F7: ='Реч.разв. 1-2 г. К.г.'!E11 -> 0 | G7: ='Реч.разв. 1-2 г. К.г.'!F11 -> 0 | H7: ='Реч.разв. 1-2 г. К.г.'!G11 -> 0 | I7: ='Реч.разв. 1-2 г. К.г.'!H11 -> 0 | J7: ='Худ.-эст.1-2 г.К.г.'!E12 -> 0 | K7: ='Худ.-эст. 1-2 г. Н.г'!F12 -> 0 | L7: ='Худ.-эст. 1-2 г. Н.г'!G12 -> 0 | M7: ='Худ.-эст. 1-2 г. Н.г'!I12 -> 0 | N7: ='Худ.-эст. 1-2 г. Н.г'!J12 -> 0 | O7: ='Соц.ком. 1-2 г. К.г. '!E11 -> 0 | P7: ='Соц.ком. 1-2 г. К.г. '!G11 -> 0 | Q7: ='Соц.ком. 1-2 г. К.г. '!I11 -> 0 | R7: ='Соц.ком. 1-2 г. К.г. '!J11 -> 0 | S7: ='Соц.ком. 1-2 г. К.г. '!K11 -> 0 | T7: ='Физ.разв. 1-2 г.К.г.'!E11 -> 0 | U7: ='Физ.разв. 1-2 г.К.г.'!F11 -> 0 | V7: ='Физ.разв. 1-2 г.К.г.'!G11 -> 0 | W7: ='Физ.разв. 1-2 г.К.г.'!L11 -> 0 | X7: ='Физ.разв. 1-2 г.К.г.'!N11 -> 0 | Y7: ='Физ.разв. 1-2 г.К.г.'!R11 -> 0 | Z7: ='Физ.разв. 1-2 г.К.г.'!S11 -> 0

Sheet 2
A2: ='Список детей 1-2 года'!B5 -> 0 | B2: Познавательное развитие | F2: Речевое развитие | J2: Художественно-эстетическое развитие (Музыкальная деятельность) | O2: Социльно-коммуникативное развитие | T2: Физическое развитие
B3: Познавательные действия | C3: окружающий мир | D3: Природа | F3: Общее речевое развитие | I3: Формирование словаря | J3: Слушание | K3: Пение | L3: Музыкально-ритмические движения | M3: Игра на детских музыкальных инструментах | O3: Сфера социальных отношений | T3: Крупная моторика. ОВД, ОРУ | W3: Мелкая моторика | X3: КГН | Y3: ЗОЖ | Z3: Подвижные игры
C4: Предметный мир | D4: Объекты живой природы | E4: Объекты неживой природы, природные явления | F4: Ребенок понимает речь взрослого | G4: Ребенок откликается на свое имя | H4: Ребенок показывает окружающие предметы по заданию педагога | I4: Ребенок произносит несколько простых, облегченных слов (мама, папа, баба, деда и т.д.), некоторые несут смысловую нагрузку | J4: Ребенок эмоционально реагирует на музыку | K4: Ребенок эмоционально реагирует на пение | L4: Ребенок хлопает в ладоши, притоптывает, слегка приседает, сгибает и разгибает ноги в коленях | M4: Ребенок звенит погремушкой, колокольчиком, бубном, ударяет в барабан | N4: Ребенок прислушивается к звучанию | O4: Отношение к самому себе | P4: Отношение к взрослым | Q4: Поведение | R4: Семья | S4: Игровое поведение | T4: Бросание, катание, ловля, метание | U4: Ползанье, лазанье | V4: Ходьба | W4: Координация рук и глаз | X4: Навыки соблюдения чистоты тела (правила личной гигиены)
B5: Ребенок обнаруживает поисковую и познавательную активность по отношению к предметному окружению | C5: Ребенок проявляет интерес к окружающим предметам и действиям с ними | D5: Ребенок проявляет интерес к животным, птицам, рыбам, растениям | E5: Ребенок проявляет интерес к объектам неживой природы | O5: Ребенок откликается на свое имя | P5: Ребенок эмоционально реагирует на внимание взрослого, проявляет радость в ответ на общение со взрослым | Q5: Ребенок выполняет простые просьбы взрослого, понимает и адекватно реагирует на слова, регулирующие поведение (можно/нельзя) | R5: Ребенок положительно реагирует на знакомых людей, имена близких родственников | S5: Ребенок активно действует с игрушками, подражая действиям взрослых (катает машинку, кормит собачку, качает куклу) | T5: Ребенок проявляет двигательную активность в освоении пространственной среды, используя движения хватания, бросания | U5: Ребенок проявляет двигательную активность в освоении пространственной среды, используя движения ползанья, лазанья | V5: Ребенок начинает осваивать самостоятельную ходьбу. Ребенок при поддержке поднимается, приседает на корточки. | W5: Ребенок манипулирует предметами (поднимает, переносит, ставит один предмет на другой) | X5: Ребенок положительно реагирует на прием пищи и гигиенические процедуры | Y5: Ребенок эмоционально откликается при проведении комплекса гимнастики и закаливания | Z5: Ребенок эмоционально откликается на игровые действия
A6: начало года | B6: ='Позн.разв. 1-2 г Н.г '!H12 -> 0 | C6: ='Позн.разв. 1-2 г Н.г '!O12 -> 0 | D6: ='Позн.разв. 1-2 г Н.г '!R12 -> 0 | E6: ='Позн.разв. 1-2 г Н.г '!S12 -> 0 | F6: ='Реч.разв. 1-2 г. Н.г.'!E12 -> 0 | G6: ='Реч.разв. 1-2 г. Н.г.'!F12 -> 0 | H6: ='Реч.разв. 1-2 г. Н.г.'!G12 -> 0 | I6: ='Реч.разв. 1-2 г. Н.г.'!H12 -> 0 | J6: ='Худ.-эст. 1-2 г. Н.г'!E13 -> 0 | K6: ='Худ.-эст. 1-2 г. Н.г'!F13 -> 0 | L6: ='Худ.-эст. 1-2 г. Н.г'!G13 -> 0 | M6: ='Худ.-эст. 1-2 г. Н.г'!I13 -> 0 | N6: ='Худ.-эст. 1-2 г. Н.г'!J13 -> 0 | O6: ='Соц.ком. 1-2 г. Н.г.'!E12 -> 0 | P6: ='Соц.ком. 1-2 г. Н.г.'!G12 -> 0 | Q6: ='Соц.ком. 1-2 г. Н.г.'!I12 -> 0 | R6: ='Соц.ком. 1-2 г. Н.г.'!J12 -> 0 | S6: ='Соц.ком. 1-2 г. Н.г.'!K12 -> 0 | T6: ='Физ.разв. 1-2 г.Н.г.'!E12 -> 0 | U6: ='Физ.разв. 1-2 г.Н.г.'!F12 -> 0 | V6: ='Физ.разв. 1-2 г.Н.г.'!G12 -> 0 | W6: ='Физ.разв. 1-2 г.Н.г.'!L12 -> 0 | X6: ='Физ.разв. 1-2 г.Н.г.'!N12 -> 0 | Y6: ='Физ.разв. 1-2 г.Н.г.'!R12 -> 0 | Z6: ='Физ.разв. 1-2 г.Н.г.'!S12 -> 0
A7: конец года | B7: ='Позн.разв. 1-2 г К.г '!$H$12 -> 0 | C7: ='Позн.разв. 1-2 г К.г '!$O$12 -> 0 | D7: ='Позн.разв. 1-2 г К.г '!$R$12 -> 0 | E7: ='Позн.разв. 1-2 г К.г '!$S$12 -> 0 | F7: ='Реч.разв. 1-2 г. К.г.'!E12 -> 0 | G7: ='Реч.разв. 1-2 г. К.г.'!F12 -> 0 | H7: ='Реч.разв. 1-2 г. К.г.'!G12 -> 0 | I7: ='Реч.разв. 1-2 г. К.г.'!H12 -> 0 | J7: ='Худ.-эст.1-2 г.К.г.'!E13 -> 0 | K7: ='Худ.-эст.1-2 г.К.г.'!F13 -> 0 | L7: ='Худ.-эст.1-2 г.К.г.'!G13 -> 0 | M7: ='Худ.-эст.1-2 г.К.г.'!I13 -> 0 | N7: ='Худ.-эст.1-2 г.К.г.'!J13 -> 0 | O7: ='Соц.ком. 1-2 г. К.г. '!E12 -> 0 | P7: ='Соц.ком. 1-2 г. К.г. '!G12 -> 0 | Q7: ='Соц.ком. 1-2 г. К.г. '!I12 -> 0 | R7: ='Соц.ком. 1-2 г. К.г. '!J12 -> 0 | S7: ='Соц.ком. 1-2 г. К.г. '!K12 -> 0 | T7: ='Физ.разв. 1-2 г.К.г.'!E12 -> 0 | U7: ='Физ.разв. 1-2 г.К.г.'!F12 -> 0 | V7: ='Физ.разв. 1-2 г.К.г.'!G12 -> 0 | W7: ='Физ.разв. 1-2 г.К.г.'!L12 -> 0 | X7: ='Физ.разв. 1-2 г.К.г.'!N12 -> 0 | Y7: ='Физ.разв. 1-2 г.К.г.'!R12 -> 0 | Z7: ='Физ.разв. 1-2 г.К.г.'!S12 -> 0

Sheet 3
A2: ='Список детей 1-2 года'!B6 -> 0 | B2: Познавательное развитие | F2: Речевое развитие | J2: Художественно-эстетическое развитие (Музыкальная деятельность) | P2: Социльно-коммуникативное развитие | W2: Физическое развитие
B3: Познавательные действия | C3: окружающий мир | D3: Природа | F3: Общее речевое развитие | I3: Формирование словаря | J3: Слушание | K3: Пение | L3: Музыкально-ритмические движения | N3: Игра на детских музыкальных инструментах | P3: Сфера социальных отношений | W3: Крупная моторика. ОВД, ОРУ | Z3: Мелкая моторика | AA3: КГН | AB3: ЗОЖ | AC3: Подвижные игры
C4: Предметный мир | D4: Объекты живой природы | E4: Объекты неживой природы, природные явления | F4: Ребенок понимает речь взрослого | G4: Ребенок откликается на свое имя | H4: Ребенок показывает окружающие предметы по заданию педагога | I4: Ребенок произносит несколько простых, облегченных слов (мама, папа, баба, деда и т.д.), некоторые несут смысловую нагрузку | J4: Ребенок эмоционально реагирует на музыку | K4: Ребенок эмоционально реагирует на пение | L4: Ребенок хлопает в ладоши, притоптывает, слегка приседает, сгибает и разгибает ноги в коленях | N4: Ребенок звенит погремушкой, колокольчиком, бубном, ударяет в барабан | O4: Ребенок прислушивается к звучанию | P4: Отношение к самому себе | R4: Отношение к взрослым | T4: Поведение | U4: Семья | V4: Игровое поведение | W4: Бросание, катание, ловля, метание | X4: Ползанье, лазанье | Y4: Ходьба | Z4: Координация рук и глаз | AA4: Навыки соблюдения чистоты тела (правила личной гигиены)
B5: Ребенок обнаруживает поисковую и познавательную активность по отношению к предметному окружению | C5: Ребенок проявляет интерес к окружающим предметам и действиям с ними | D5: Ребенок проявляет интерес к животным, птицам, рыбам, растениям | E5: Ребенок проявляет интерес к объектам неживой природы | P5: Ребенок откликается на свое имя | R5: Ребенок эмоционально реагирует на внимание взрослого, проявляет радость в ответ на общение со взрослым | T5: Ребенок выполняет простые просьбы взрослого, понимает и адекватно реагирует на слова, регулирующие поведение (можно/нельзя) | U5: Ребенок положительно реагирует на знакомых людей, имена близких родственников | V5: Ребенок активно действует с игрушками, подражая действиям взрослых (катает машинку, кормит собачку, качает куклу) | W5: Ребенок проявляет двигательную активность в освоении пространственной среды, используя движения хватания, бросания | X5: Ребенок проявляет двигательную активность в освоении пространственной среды, используя движения ползанья, лазанья | Y5: Ребенок начинает осваивать самостоятельную ходьбу. Ребенок при поддержке поднимается, приседает на корточки. | Z5: Ребенок манипулирует предметами (поднимает, переносит, ставит один предмет на другой) | AA5: Ребенок положительно реагирует на прием пищи и гигиенические процедуры | AB5: Ребенок эмоционально откликается при проведении комплекса гимнастики и закаливания | AC5: Ребенок эмоционально откликается на игровые действия
A6: начало года | B6: ='Позн.разв. 1-2 г Н.г '!H13 -> 0 | C6: ='Позн.разв. 1-2 г Н.г '!O13 -> 0 | D6: ='Позн.разв. 1-2 г Н.г '!R13 -> 0 | E6: ='Позн.разв. 1-2 г Н.г '!S13 -> 0 | F6: ='Реч.разв. 1-2 г. Н.г.'!E13 -> 0 | G6: ='Реч.разв. 1-2 г. Н.г.'!F13 -> 0 | H6: ='Реч.разв. 1-2 г. Н.г.'!G13 -> 0 | I6: ='Реч.разв. 1-2 г. Н.г.'!H13 -> 0 | J6: ='Худ.-эст. 1-2 г. Н.г'!E14 -> 0 | K6: ='Худ.-эст. 1-2 г. Н.г'!F14 -> 0 | L6: ='Худ.-эст. 1-2 г. Н.г'!G14 -> 0 | M6: ='Худ.-эст. 1-2 г. Н.г'!H14 -> * | N6: ='Худ.-эст. 1-2 г. Н.г'!I14 -> 0 | O6: ='Худ.-эст. 1-2 г. Н.г'!J14 -> 0 | P6: ='Соц.ком. 1-2 г. Н.г.'!E13 -> 0 | Q6: ='Соц.ком. 1-2 г. Н.г.'!F13 -> * | R6: ='Соц.ком. 1-2 г. Н.г.'!G13 -> 0 | S6: ='Соц.ком. 1-2 г. Н.г.'!H13 -> * | T6: ='Соц.ком. 1-2 г. Н.г.'!I13 -> 0 | U6: ='Соц.ком. 1-2 г. Н.г.'!J13 -> 0 | V6: ='Соц.ком. 1-2 г. Н.г.'!K13 -> 0 | W6: ='Физ.разв. 1-2 г.Н.г.'!E13 -> 0 | X6: ='Физ.разв. 1-2 г.Н.г.'!F13 -> 0 | Y6: ='Физ.разв. 1-2 г.Н.г.'!G13 -> 0 | Z6: ='Физ.разв. 1-2 г.Н.г.'!L13 -> 0 | AA6: ='Физ.разв. 1-2 г.Н.г.'!N13 -> 0 | AB6: ='Физ.разв. 1-2 г.Н.г.'!R13 -> 0 | AC6: ='Физ.разв. 1-2 г.Н.г.'!S13 -> 0
A7: конец года | B7: ='Позн.разв. 1-2 г К.г '!H13 -> 0 | C7: ='Позн.разв. 1-2 г К.г '!O13 -> 0 | D7: ='Позн.разв. 1-2 г К.г '!R13 -> 0 | E7: ='Позн.разв. 1-2 г К.г '!S13 -> 0 | F7: ='Реч.разв. 1-2 г. К.г.'!E13 -> 0 | G7: ='Реч.разв. 1-2 г. К.г.'!F13 -> 0 | H7: ='Реч.разв. 1-2 г. К.г.'!G13 -> 0 | I7: ='Реч.разв. 1-2 г. К.г.'!H13 -> 0 | J7: ='Худ.-эст.1-2 г.К.г.'!E14 -> 0 | K7: ='Худ.-эст.1-2 г.К.г.'!F14 -> 0 | L7: ='Худ.-эст.1-2 г.К.г.'!G14 -> 0 | M7: ='Худ.-эст.1-2 г.К.г.'!H14 -> * | N7: ='Худ.-эст.1-2 г.К.г.'!I14 -> 0 | O7: ='Худ.-эст.1-2 г.К.г.'!J14 -> 0 | P7: ='Соц.ком. 1-2 г. К.г. '!E13 -> 0 | Q7: ='Соц.ком. 1-2 г. К.г. '!F13 -> * | R7: ='Соц.ком. 1-2 г. К.г. '!G13 -> 0 | S7: ='Соц.ком. 1-2 г. К.г. '!H13 -> * | T7: ='Соц.ком. 1-2 г. К.г. '!I13 -> 0 | U7: ='Соц.ком. 1-2 г. К.г. '!J13 -> 0 | V7: ='Соц.ком. 1-2 г. К.г. '!K13 -> 0 | W7: ='Физ.разв. 1-2 г.К.г.'!E13 -> 0 | X7: ='Физ.разв. 1-2 г.К.г.'!F13 -> 0 | Y7: ='Физ.разв. 1-2 г.К.г.'!G13 -> 0 | Z7: ='Физ.разв. 1-2 г.К.г.'!L13 -> 0 | AA7: ='Физ.разв. 1-2 г.К.г.'!N13 -> 0 | AB7: ='Физ.разв. 1-2 г.К.г.'!R13 -> 0 | AC7: ='Физ.разв. 1-2 г.К.г.'!S13 -> 0

Sheet 4
A2: ='Список детей 1-2 года'!B7 -> 0 | B2: Познавательное развитие | F2: Речевое развитие | J2: Художественно-эстетическое развитие (Музыкальная деятельность) | P2: Социльно-коммуникативное развитие | W2: Физическое развитие
B3: Познавательные действия | C3: окружающий мир | D3: Природа | F3: Общее речевое развитие | I3: Формирование словаря | J3: Слушание | K3: Пение | L3: Музыкально-ритмические движения | N3: Игра на детских музыкальных инструментах | P3: Сфера социальных отношений | W3: Крупная моторика. ОВД, ОРУ | Z3: Мелкая моторика | AA3: КГН | AB3: ЗОЖ | AC3: Подвижные игры
C4: Предметный мир | D4: Объекты живой природы | E4: Объекты неживой природы, природные явления | F4: Ребенок понимает речь взрослого | G4: Ребенок откликается на свое имя | H4: Ребенок показывает окружающие предметы по заданию педагога | I4: Ребенок произносит несколько простых, облегченных слов (мама, папа, баба, деда и т.д.), некоторые несут смысловую нагрузку | J4: Ребенок эмоционально реагирует на музыку | K4: Ребенок эмоционально реагирует на пение | L4: Ребенок хлопает в ладоши, притоптывает, слегка приседает, сгибает и разгибает ноги в коленях | N4: Ребенок звенит погремушкой, колокольчиком, бубном, ударяет в барабан | O4: Ребенок прислушивается к звучанию | P4: Отношение к самому себе | R4: Отношение к взрослым | T4: Поведение | U4: Семья | V4: Игровое поведение | W4: Бросание, катание, ловля, метание | X4: Ползанье, лазанье | Y4: Ходьба | Z4: Координация рук и глаз | AA4: Навыки соблюдения чистоты тела (правила личной гигиены)
B5: Ребенок обнаруживает поисковую и познавательную активность по отношению к предметному окружению | C5: Ребенок проявляет интерес к окружающим предметам и действиям с ними | D5: Ребенок проявляет интерес к животным, птицам, рыбам, растениям | E5: Ребенок проявляет интерес к объектам неживой природы | P5: Ребенок откликается на свое имя | R5: Ребенок эмоционально реагирует на внимание взрослого, проявляет радость в ответ на общение со взрослым | T5: Ребенок выполняет простые просьбы взрослого, понимает и адекватно реагирует на слова, регулирующие поведение (можно/нельзя) | U5: Ребенок положительно реагирует на знакомых людей, имена близких родственников | V5: Ребенок активно действует с игрушками, подражая действиям взрослых (катает машинку, кормит собачку, качает куклу) | W5: Ребенок проявляет двигательную активность в освоении пространственной среды, используя движения хватания, бросания | X5: Ребенок проявляет двигательную активность в освоении пространственной среды, используя движения ползанья, лазанья | Y5: Ребенок начинает осваивать самостоятельную ходьбу. Ребенок при поддержке поднимается, приседает на корточки. | Z5: Ребенок манипулирует предметами (поднимает, переносит, ставит один предмет на другой) | AA5: Ребенок положительно реагирует на прием пищи и гигиенические процедуры | AB5: Ребенок эмоционально откликается при проведении комплекса гимнастики и закаливания | AC5: Ребенок эмоционально откликается на игровые действия
A6: начало года | B6: ='Позн.разв. 1-2 г Н.г '!H14 -> 0 | C6: ='Позн.разв. 1-2 г Н.г '!O14 -> 0 | D6: ='Позн.разв. 1-2 г Н.г '!R14 -> 0 | E6: ='Позн.разв. 1-2 г Н.г '!S14 -> 0 | F6: ='Реч.разв. 1-2 г. Н.г.'!E14 -> 0 | G6: ='Реч.разв. 1-2 г. Н.г.'!F14 -> 0 | H6: ='Реч.разв. 1-2 г. Н.г.'!G14 -> 0 | I6: ='Реч.разв. 1-2 г. Н.г.'!$H$14 -> 0 | J6: ='Худ.-эст. 1-2 г. Н.г'!E15 -> 0 | K6: ='Худ.-эст. 1-2 г. Н.г'!F15 -> 0 | L6: ='Худ.-эст. 1-2 г. Н.г'!G15 -> 0 | M6: ='Худ.-эст. 1-2 г. Н.г'!H15 -> * | N6: ='Худ.-эст. 1-2 г. Н.г'!I15 -> 0 | O6: ='Худ.-эст. 1-2 г. Н.г'!J15 -> 0 | P6: ='Соц.ком. 1-2 г. Н.г.'!E14 -> 0 | Q6: ='Соц.ком. 1-2 г. Н.г.'!F14 -> * | R6: ='Соц.ком. 1-2 г. Н.г.'!G14 -> 0 | S6: ='Соц.ком. 1-2 г. Н.г.'!H14 -> * | T6: ='Соц.ком. 1-2 г. Н.г.'!I14 -> 0 | U6: ='Соц.ком. 1-2 г. Н.г.'!J14 -> 0 | V6: ='Соц.ком. 1-2 г. Н.г.'!K14 -> 0 | W6: ='Физ.разв. 1-2 г.Н.г.'!E14 -> 0 | X6: ='Физ.разв. 1-2 г.Н.г.'!F14 -> 0 | Y6: ='Физ.разв. 1-2 г.Н.г.'!G14 -> 0 | Z6: ='Физ.разв. 1-2 г.Н.г.'!L14 -> 0 | AA6: ='Физ.разв. 1-2 г.Н.г.'!N14 -> 0 | AB6: ='Физ.разв. 1-2 г.Н.г.'!R14 -> 0 | AC6: ='Физ.разв. 1-2 г.Н.г.'!S14 -> 0
A7: конец года | B7: ='Позн.разв. 1-2 г К.г '!H14 -> 0 | C7: ='Позн.разв. 1-2 г К.г '!O14 -> 0 | D7: ='Позн.разв. 1-2 г Н.г '!R14 -> 0 | E7: ='Позн.разв. 1-2 г К.г '!S14 -> 0 | F7: ='Реч.разв. 1-2 г. К.г.'!E14 -> 0 | G7: ='Реч.разв. 1-2 г. К.г.'!F14 -> 0 | H7: ='Реч.разв. 1-2 г. К.г.'!G14 -> 0 | I7: ='Реч.разв. 1-2 г. К.г.'!$H$14 -> 0 | J7: ='Худ.-эст.1-2 г.К.г.'!E15 -> 0 | K7: ='Худ.-эст.1-2 г.К.г.'!F15 -> 0 | L7: ='Худ.-эст.1-2 г.К.г.'!G15 -> 0 | M7: ='Худ.-эст.1-2 г.К.г.'!H15 -> * | N7: ='Худ.-эст.1-2 г.К.г.'!I15 -> 0 | O7: ='Худ.-эст.1-2 г.К.г.'!J15 -> 0 | P7: ='Соц.ком. 1-2 г. К.г. '!E14 -> 0 | Q7: ='Соц.ком. 1-2 г. К.г. '!F14 -> * | R7: ='Соц.ком. 1-2 г. К.г. '!G14 -> 0 | S7: ='Соц.ком. 1-2 г. К.г. '!H14 -> * | T7: ='Соц.ком. 1-2 г. К.г. '!I14 -> 0 | U7: ='Соц.ком. 1-2 г. К.г. '!J14 -> 0 | V7: ='Соц.ком. 1-2 г. К.г. '!K14 -> 0 | W7: ='Физ.разв. 1-2 г.К.г.'!E14 -> 0 | X7: ='Физ.разв. 1-2 г.К.г.'!F14 -> 0 | Y7: ='Физ.разв. 1-2 г.К.г.'!G14 -> 0 | Z7: ='Физ.разв. 1-2 г.К.г.'!L14 -> 0 | AA7: ='Физ.разв. 1-2 г.К.г.'!N14 -> 0 | AB7: ='Физ.разв. 1-2 г.К.г.'!R14 -> 0 | AC7: ='Физ.разв. 1-2 г.К.г.'!S14 -> 0

Sheet 5
A2: ='Список детей 1-2 года'!B8 -> 0 | B2: Познавательное развитие | F2: Речевое развитие | J2: Художественно-эстетическое развитие (Музыкальная деятельность) | P2: Социльно-коммуникативное развитие | W2: Физическое развитие
B3: Познавательные действия | C3: окружающий мир | D3: Природа | F3: Общее речевое развитие | I3: Формирование словаря | J3: Слушание | K3: Пение | L3: Музыкально-ритмические движения | N3: Игра на детских музыкальных инструментах | P3: Сфера социальных отношений | W3: Крупная моторика. ОВД, ОРУ | Z3: Мелкая моторика | AA3: КГН | AB3: ЗОЖ | AC3: Подвижные игры
C4: Предметный мир | D4: Объекты живой природы | E4: Объекты неживой природы, природные явления | F4: Ребенок понимает речь взрослого | G4: Ребенок откликается на свое имя | H4: Ребенок показывает окружающие предметы по заданию педагога | I4: Ребенок произносит несколько простых, облегченных слов (мама, папа, баба, деда и т.д.), некоторые несут смысловую нагрузку | J4: Ребенок эмоционально реагирует на музыку | K4: Ребенок эмоционально реагирует на пение | L4: Ребенок хлопает в ладоши, притоптывает, слегка приседает, сгибает и разгибает ноги в коленях | N4: Ребенок звенит погремушкой, колокольчиком, бубном, ударяет в барабан | O4: Ребенок прислушивается к звучанию | P4: Отношение к самому себе | R4: Отношение к взрослым | T4: Поведение | U4: Семья | V4: Игровое поведение | W4: Бросание, катание, ловля, метание | X4: Ползанье, лазанье | Y4: Ходьба | Z4: Координация рук и глаз | AA4: Навыки соблюдения чистоты тела (правила личной гигиены)
B5: Ребенок обнаруживает поисковую и познавательную активность по отношению к предметному окружению | C5: Ребенок проявляет интерес к окружающим предметам и действиям с ними | D5: Ребенок проявляет интерес к животным, птицам, рыбам, растениям | E5: Ребенок проявляет интерес к объектам неживой природы | P5: Ребенок откликается на свое имя | R5: Ребенок эмоционально реагирует на внимание взрослого, проявляет радость в ответ на общение со взрослым | T5: Ребенок выполняет простые просьбы взрослого, понимает и адекватно реагирует на слова, регулирующие поведение (можно/нельзя) | U5: Ребенок положительно реагирует на знакомых людей, имена близких родственников | V5: Ребенок активно действует с игрушками, подражая действиям взрослых (катает машинку, кормит собачку, качает куклу) | W5: Ребенок проявляет двигательную активность в освоении пространственной среды, используя движения хватания, бросания | X5: Ребенок проявляет двигательную активность в освоении пространственной среды, используя движения ползанья, лазанья | Y5: Ребенок начинает осваивать самостоятельную ходьбу. Ребенок при поддержке поднимается, приседает на корточки. | Z5: Ребенок манипулирует предметами (поднимает, переносит, ставит один предмет на другой) | AA5: Ребенок положительно реагирует на прием пищи и гигиенические процедуры | AB5: Ребенок эмоционально откликается при проведении комплекса гимнастики и закаливания | AC5: Ребенок эмоционально откликается на игровые действия
A6: начало года | B6: ='Позн.разв. 1-2 г Н.г '!H15 -> 0 | C6: ='Позн.разв. 1-2 г Н.г '!O15 -> 0 | D6: ='Позн.разв. 1-2 г Н.г '!R15 -> 0 | E6: ='Позн.разв. 1-2 г Н.г '!S15 -> 0 | F6: ='Реч.разв. 1-2 г. Н.г.'!E15 -> 0 | G6: ='Реч.разв. 1-2 г. Н.г.'!F15 -> 0 | H6: ='Реч.разв. 1-2 г. Н.г.'!G15 -> 0 | I6: ='Реч.разв. 1-2 г. Н.г.'!H15 -> 0 | J6: ='Худ.-эст. 1-2 г. Н.г'!E16 -> 0 | K6: ='Худ.-эст. 1-2 г. Н.г'!F16 -> 0 | L6: ='Худ.-эст. 1-2 г. Н.г'!G16 -> 0 | M6: ='Худ.-эст. 1-2 г. Н.г'!H16 -> * | N6: ='Худ.-эст. 1-2 г. Н.г'!I16 -> 0 | O6: ='Худ.-эст. 1-2 г. Н.г'!J16 -> 0 | P6: ='Соц.ком. 1-2 г. Н.г.'!E15 -> 0 | Q6: ='Соц.ком. 1-2 г. Н.г.'!F15 -> * | R6: ='Соц.ком. 1-2 г. Н.г.'!G15 -> 0 | S6: ='Соц.ком. 1-2 г. Н.г.'!H15 -> * | T6: ='Соц.ком. 1-2 г. Н.г.'!I15 -> 0 | U6: ='Соц.ком. 1-2 г. Н.г.'!J15 -> 0 | V6: ='Соц.ком. 1-2 г. Н.г.'!K15 -> 0 | W6: ='Физ.разв. 1-2 г.Н.г.'!E15 -> 0 | X6: ='Физ.разв. 1-2 г.Н.г.'!F15 -> 0 | Y6: ='Физ.разв. 1-2 г.Н.г.'!G15 -> 0 | Z6: ='Физ.разв. 1-2 г.Н.г.'!L15 -> 0 | AA6: ='Физ.разв. 1-2 г.Н.г.'!N15 -> 0 | AB6: ='Физ.разв. 1-2 г.Н.г.'!R15 -> 0 | AC6: ='Физ.разв. 1-2 г.Н.г.'!S15 -> 0
A7: конец года | B7: ='Позн.разв. 1-2 г К.г '!H15 -> 0 | C7: ='Позн.разв. 1-2 г К.г '!O15 -> 0 | D7: ='Позн.разв. 1-2 г К.г '!R15 -> 0 | E7: ='Позн.разв. 1-2 г К.г '!S15 -> 0 | F7: ='Реч.разв. 1-2 г. К.г.'!E15 -> 0 | G7: ='Реч.разв. 1-2 г. К.г.'!F15 -> 0 | H7: ='Реч.разв. 1-2 г. К.г.'!G15 -> 0 | I7: ='Реч.разв. 1-2 г. К.г.'!H15 -> 0 | J7: ='Худ.-эст.1-2 г.К.г.'!E16 -> 0 | K7: ='Худ.-эст.1-2 г.К.г.'!F16 -> 0 | L7: ='Худ.-эст.1-2 г.К.г.'!G16 -> 0 | M7: ='Худ.-эст.1-2 г.К.г.'!H16 -> * | N7: ='Худ.-эст.1-2 г.К.г.'!I16 -> 0 | O7: ='Худ.-эст.1-2 г.К.г.'!J16 -> 0 | P7: ='Соц.ком. 1-2 г. К.г. '!E15 -> 0 | Q7: ='Соц.ком. 1-2 г. К.г. '!F15 -> * | R7: ='Соц.ком. 1-2 г. К.г. '!G15 -> 0 | S7: ='Соц.ком. 1-2 г. К.г. '!H15 -> * | T7: ='Соц.ком. 1-2 г. К.г. '!I15 -> 0 | U7: ='Соц.ком. 1-2 г. К.г. '!J15 -> 0 | V7: ='Соц.ком. 1-2 г. К.г. '!K15 -> 0 | W7: ='Физ.разв. 1-2 г.К.г.'!E15 -> 0 | X7: ='Физ.разв. 1-2 г.К.г.'!F15 -> 0 | Y7: ='Физ.разв. 1-2 г.К.г.'!G15 -> 0 | Z7: ='Физ.разв. 1-2 г.К.г.'!L15 -> 0 | AA7: ='Физ.разв. 1-2 г.К.г.'!N15 -> 0 | AB7: ='Физ.разв. 1-2 г.К.г.'!R15 -> 0 | AC7: ='Физ.разв. 1-2 г.К.г.'!S15 -> 0

Sheet 6
A2: ='Список детей 1-2 года'!B9 -> 0 | B2: Познавательное развитие | F2: Речевое развитие | J2: Художественно-эстетическое развитие (Музыкальная деятельность) | P2: Социльно-коммуникативное развитие | W2: Физическое развитие
B3: Познавательные действия | C3: окружающий мир | D3: Природа | F3: Общее речевое развитие | I3: Формирование словаря | J3: Слушание | K3: Пение | L3: Музыкально-ритмические движения | N3: Игра на детских музыкальных инструментах | P3: Сфера социальных отношений | W3: Крупная моторика. ОВД, ОРУ | AD3: Мелкая моторика | AF3: КГН | AJ3: ЗОЖ | AK3: Подвижные игры
C4: Предметный мир | D4: Объекты живой природы | E4: Объекты неживой природы, природные явления | F4: Ребенок понимает речь взрослого | G4: Ребенок откликается на свое имя | H4: Ребенок показывает окружающие предметы по заданию педагога | I4: Ребенок произносит несколько простых, облегченных слов (мама, папа, баба, деда и т.д.), некоторые несут смысловую нагрузку | J4: Ребенок эмоционально реагирует на музыку | K4: Ребенок эмоционально реагирует на пение | L4: Ребенок хлопает в ладоши, притоптывает, слегка приседает, сгибает и разгибает ноги в коленях | N4: Ребенок звенит погремушкой, колокольчиком, бубном, ударяет в барабан | O4: Ребенок прислушивается к звучанию | P4: Отношение к самому себе | R4: Отношение к взрослым | T4: Поведение | U4: Семья | V4: Игровое поведение | W4: Бросание, катание, ловля, метание | X4: Ползанье, лазанье | Y4: Ходьба | AD4: Координация рук и глаз | AF4: Навыки соблюдения чистоты тела (правила личной гигиены)
B5: Ребенок обнаруживает поисковую и познавательную активность по отношению к предметному окружению | C5: Ребенок проявляет интерес к окружающим предметам и действиям с ними | D5: Ребенок проявляет интерес к животным, птицам, рыбам, растениям | E5: Ребенок проявляет интерес к объектам неживой природы | P5: Ребенок откликается на свое имя | R5: Ребенок эмоционально реагирует на внимание взрослого, проявляет радость в ответ на общение со взрослым | T5: Ребенок выполняет простые просьбы взрослого, понимает и адекватно реагирует на слова, регулирующие поведение (можно/нельзя) | U5: Ребенок положительно реагирует на знакомых людей, имена близких родственников | V5: Ребенок активно действует с игрушками, подражая действиям взрослых (катает машинку, кормит собачку, качает куклу) | W5: Ребенок проявляет двигательную активность в освоении пространственной среды, используя движения хватания, бросания | X5: Ребенок проявляет двигательную активность в освоении пространственной среды, используя движения ползанья, лазанья | Y5: Ребенок начинает осваивать самостоятельную ходьбу. Ребенок при поддержке поднимается, приседает на корточки. | AD5: Ребенок манипулирует предметами (поднимает, переносит, ставит один предмет на другой) | AF5: Ребенок положительно реагирует на прием пищи и гигиенические процедуры | AJ5: Ребенок эмоционально откликается при проведении комплекса гимнастики и закаливания | AK5: Ребенок эмоционально откликается на игровые действия
A6: начало года | B6: ='Позн.разв. 1-2 г Н.г '!H16 -> 0 | C6: ='Позн.разв. 1-2 г Н.г '!O16 -> 0 | D6: ='Позн.разв. 1-2 г Н.г '!R16 -> 0 | E6: ='Позн.разв. 1-2 г Н.г '!S16 -> 0 | F6: ='Реч.разв. 1-2 г. Н.г.'!E16 -> 0 | G6: ='Реч.разв. 1-2 г. Н.г.'!F16 -> 0 | H6: ='Реч.разв. 1-2 г. Н.г.'!G16 -> 0 | I6: ='Реч.разв. 1-2 г. Н.г.'!H16 -> 0 | J6: ='Худ.-эст. 1-2 г. Н.г'!E17 -> 0 | K6: ='Худ.-эст. 1-2 г. Н.г'!F17 -> 0 | L6: ='Худ.-эст. 1-2 г. Н.г'!G17 -> 0 | M6: ='Худ.-эст. 1-2 г. Н.г'!H17 -> * | N6: ='Худ.-эст. 1-2 г. Н.г'!I17 -> 0 | O6: ='Худ.-эст. 1-2 г. Н.г'!J17 -> 0 | P6: ='Соц.ком. 1-2 г. Н.г.'!E16 -> 0 | Q6: ='Соц.ком. 1-2 г. Н.г.'!F16 -> * | R6: ='Соц.ком. 1-2 г. Н.г.'!G16 -> 0 | S6: ='Соц.ком. 1-2 г. Н.г.'!H16 -> * | T6: ='Соц.ком. 1-2 г. Н.г.'!I16 -> 0 | U6: ='Соц.ком. 1-2 г. Н.г.'!J16 -> 0 | V6: ='Соц.ком. 1-2 г. Н.г.'!K16 -> 0 | W6: ='Физ.разв. 1-2 г.Н.г.'!E16 -> 0 | X6: ='Физ.разв. 1-2 г.Н.г.'!F16 -> 0 | Y6: ='Физ.разв. 1-2 г.Н.г.'!G16 -> 0 | Z6: ='Физ.разв. 1-2 г.Н.г.'!H16 -> * | AA6: ='Физ.разв. 1-2 г.Н.г.'!I16 -> * | AB6: ='Физ.разв. 1-2 г.Н.г.'!J16 -> * | AC6: ='Физ.разв. 1-2 г.Н.г.'!K16 -> * | AD6: ='Физ.разв. 1-2 г.Н.г.'!L16 -> 0 | ... AK6: ='Физ.разв. 1-2 г.Н.г.'!S16 -> 0
A7: конец года | B7: ='Позн.разв. 1-2 г К.г '!H16 -> 0 | C7: ='Позн.разв. 1-2 г К.г '!O16 -> 0 | D7: ='Позн.разв. 1-2 г К.г '!R16 -> 0 | E7: ='Позн.разв. 1-2 г К.г '!S16 -> 0 | F7: ='Реч.разв. 1-2 г. К.г.'!E16 -> 0 | G7: ='Реч.разв. 1-2 г. К.г.'!F16 -> 0 | H7: ='Реч.разв. 1-2 г. К.г.'!G16 -> 0 | I7: ='Реч.разв. 1-2 г. К.г.'!H16 -> 0 | J7: ='Худ.-эст.1-2 г.К.г.'!E17 -> 0 | K7: ='Худ.-эст.1-2 г.К.г.'!F17 -> 0 | L7: ='Худ.-эст.1-2 г.К.г.'!G17 -> 0 | M7: ='Худ.-эст.1-2 г.К.г.'!H17 -> * | N7: ='Худ.-эст.1-2 г.К.г.'!I17 -> 0 | O7: ='Худ.-эст.1-2 г.К.г.'!J17 -> 0 | P7: ='Соц.ком. 1-2 г. К.г. '!E16 -> 0 | Q7: ='Соц.ком. 1-2 г. К.г. '!F16 -> * | R7: ='Соц.ком. 1-2 г. К.г. '!G16 -> 0 | S7: ='Соц.ком. 1-2 г. К.г. '!H16 -> * | T7: ='Соц.ком. 1-2 г. К.г. '!I16 -> 0 | U7: ='Соц.ком. 1-2 г. К.г. '!J16 -> 0 | V7: ='Соц.ком. 1-2 г. К.г. '!K16 -> 0 | W7: ='Физ.разв. 1-2 г.К.г.'!E16 -> 0 | X7: ='Физ.разв. 1-2 г.К.г.'!F16 -> 0 | Y7: ='Физ.разв. 1-2 г.К.г.'!G16 -> 0 | Z7: ='Физ.разв. 1-2 г.К.г.'!H16 -> * | AA7: ='Физ.разв. 1-2 г.К.г.'!I16 -> * | AB7: ='Физ.разв. 1-2 г.К.г.'!J16 -> * | AC7: ='Физ.разв. 1-2 г.К.г.'!K16 -> * | AD7: ='Физ.разв. 1-2 г.К.г.'!L16 -> 0 | ... AK7: ='Физ.разв. 1-2 г.К.г.'!S16 -> 0

Sheet 7
A2: ='Список детей 1-2 года'!B10 -> 0 | B2: Познавательное развитие | F2: Речевое развитие | J2: Художественно-эстетическое развитие (Музыкальная деятельность) | P2: Социльно-коммуникативное развитие | W2: Физическое развитие
B3: Познавательные действия | C3: окружающий мир | D3: Природа | F3: Общее речевое развитие | I3: Формирование словаря | J3: Слушание | K3: Пение | L3: Музыкально-ритмические движения | N3: Игра на детских музыкальных инструментах | P3: Сфера социальных отношений | W3: Крупная моторика. ОВД, ОРУ | Z3: Мелкая моторика | AA3: КГН | AB3: ЗОЖ | AC3: Подвижные игры
C4: Предметный мир | D4: Объекты живой природы | E4: Объекты неживой природы, природные явления | F4: Ребенок понимает речь взрослого | G4: Ребенок откликается на свое имя | H4: Ребенок показывает окружающие предметы по заданию педагога | I4: Ребенок произносит несколько простых, облегченных слов (мама, папа, баба, деда и т.д.), некоторые несут смысловую нагрузку | J4: Ребенок эмоционально реагирует на музыку | K4: Ребенок эмоционально реагирует на пение | L4: Ребенок хлопает в ладоши, притоптывает, слегка приседает, сгибает и разгибает ноги в коленях | N4: Ребенок звенит погремушкой, колокольчиком, бубном, ударяет в барабан | O4: Ребенок прислушивается к звучанию | P4: Отношение к самому себе | R4: Отношение к взрослым | T4: Поведение | U4: Семья | V4: Игровое поведение | W4: Бросание, катание, ловля, метание | X4: Ползанье, лазанье | Y4: Ходьба | Z4: Координация рук и глаз | AA4: Навыки соблюдения чистоты тела (правила личной гигиены)
B5: Ребенок обнаруживает поисковую и познавательную активность по отношению к предметному окружению | C5: Ребенок проявляет интерес к окружающим предметам и действиям с ними | D5: Ребенок проявляет интерес к животным, птицам, рыбам, растениям | E5: Ребенок проявляет интерес к объектам неживой природы | P5: Ребенок откликается на свое имя | R5: Ребенок эмоционально реагирует на внимание взрослого, проявляет радость в ответ на общение со взрослым | T5: Ребенок выполняет простые просьбы взрослого, понимает и адекватно реагирует на слова, регулирующие поведение (можно/нельзя) | U5: Ребенок положительно реагирует на знакомых людей, имена близких родственников | V5: Ребенок активно действует с игрушками, подражая действиям взрослых (катает машинку, кормит собачку, качает куклу) | W5: Ребенок проявляет двигательную активность в освоении пространственной среды, используя движения хватания, бросания | X5: Ребенок проявляет двигательную активность в освоении пространственной среды, используя движения ползанья, лазанья | Y5: Ребенок начинает осваивать самостоятельную ходьбу. Ребенок при поддержке поднимается, приседает на корточки. | Z5: Ребенок манипулирует предметами (поднимает, переносит, ставит один предмет на другой) | AA5: Ребенок положительно реагирует на прием пищи и гигиенические процедуры | AB5: Ребенок эмоционально откликается при проведении комплекса гимнастики и закаливания | AC5: Ребенок эмоционально откликается на игровые действия
A6: начало года | B6: ='Позн.разв. 1-2 г Н.г '!H17 -> 0 | C6: ='Позн.разв. 1-2 г Н.г '!O17 -> 0 | D6: ='Позн.разв. 1-2 г Н.г '!R17 -> 0 | E6: ='Позн.разв. 1-2 г Н.г '!S17 -> 0 | F6: ='Реч.разв. 1-2 г. Н.г.'!E17 -> 0 | G6: ='Реч.разв. 1-2 г. Н.г.'!F17 -> 0 | H6: ='Реч.разв. 1-2 г. Н.г.'!G17 -> 0 | I6: ='Реч.разв. 1-2 г. Н.г.'!H17 -> 0 | J6: ='Худ.-эст. 1-2 г. Н.г'!E18 -> 0 | K6: ='Худ.-эст. 1-2 г. Н.г'!F18 -> 0 | L6: ='Худ.-эст. 1-2 г. Н.г'!G18 -> 0 | M6: ='Худ.-эст. 1-2 г. Н.г'!H18 -> * | N6: ='Худ.-эст. 1-2 г. Н.г'!I18 -> 0 | O6: ='Худ.-эст. 1-2 г. Н.г'!J18 -> 0 | P6: ='Соц.ком. 1-2 г. Н.г.'!E17 -> 0 | Q6: ='Соц.ком. 1-2 г. Н.г.'!F17 -> * | R6: ='Соц.ком. 1-2 г. Н.г.'!G17 -> 0 | S6: ='Соц.ком. 1-2 г. Н.г.'!H17 -> * | T6: ='Соц.ком. 1-2 г. Н.г.'!I17 -> 0 | U6: ='Соц.ком. 1-2 г. Н.г.'!J17 -> 0 | V6: ='Соц.ком. 1-2 г. Н.г.'!K17 -> 0 | W6: ='Физ.разв. 1-2 г.Н.г.'!E17 -> 0 | X6: ='Физ.разв. 1-2 г.Н.г.'!F17 -> 0 | Y6: ='Физ.разв. 1-2 г.Н.г.'!G17 -> 0 | Z6: ='Физ.разв. 1-2 г.Н.г.'!L17 -> 0 | AA6: ='Физ.разв. 1-2 г.Н.г.'!N17 -> 0 | AB6: ='Физ.разв. 1-2 г.Н.г.'!R17 -> 0 | AC6: ='Физ.разв. 1-2 г.Н.г.'!S17 -> 0
A7: конец года | B7: ='Позн.разв. 1-2 г К.г '!H17 -> 0 | C7: ='Позн.разв. 1-2 г К.г '!O17 -> 0 | D7: ='Позн.разв. 1-2 г К.г '!R17 -> 0 | E7: ='Позн.разв. 1-2 г К.г '!S17 -> 0 | F7: ='Реч.разв. 1-2 г. К.г.'!E17 -> 0 | G7: ='Реч.разв. 1-2 г. К.г.'!F17 -> 0 | H7: ='Реч.разв. 1-2 г. К.г.'!G17 -> 0 | I7: ='Реч.разв. 1-2 г. К.г.'!H17 -> 0 | J7: ='Худ.-эст.1-2 г.К.г.'!E18 -> 0 | K7: ='Худ.-эст.1-2 г.К.г.'!F18 -> 0 | L7: ='Худ.-эст.1-2 г.К.г.'!G18 -> 0 | M7: ='Худ.-эст.1-2 г.К.г.'!H18 -> * | N7: ='Худ.-эст.1-2 г.К.г.'!I18 -> 0 | O7: ='Худ.-эст.1-2 г.К.г.'!J18 -> 0 | P7: ='Соц.ком. 1-2 г. К.г. '!E17 -> 0 | Q7: ='Соц.ком. 1-2 г. К.г. '!F17 -> * | R7: ='Соц.ком. 1-2 г. К.г. '!G17 -> 0 | S7: ='Соц.ком. 1-2 г. К.г. '!H17 -> * | T7: ='Соц.ком. 1-2 г. К.г. '!I17 -> 0 | U7: ='Соц.ком. 1-2 г. К.г. '!J17 -> 0 | V7: ='Соц.ком. 1-2 г. К.г. '!K17 -> 0 | W7: ='Физ.разв. 1-2 г.К.г.'!E17 -> 0 | X7: ='Физ.разв. 1-2 г.К.г.'!F17 -> 0 | Y7: ='Физ.разв. 1-2 г.К.г.'!G17 -> 0 | Z7: ='Физ.разв. 1-2 г.К.г.'!L17 -> 0 | AA7: ='Физ.разв. 1-2 г.К.г.'!N17 -> 0 | AB7: ='Физ.разв. 1-2 г.К.г.'!R17 -> 0 | AC7: ='Физ.разв. 1-2 г.К.г.'!S17 -> 0

Sheet 8
A2: ='Список детей 1-2 года'!B11 -> 0 | B2: Познавательное развитие | F2: Речевое развитие | J2: Художественно-эстетическое развитие (Музыкальная деятельность) | P2: Социльно-коммуникативное развитие | W2: Физическое развитие
B3: Познавательные действия | C3: окружающий мир | D3: Природа | F3: Общее речевое развитие | I3: Формирование словаря | J3: Слушание | K3: Пение | L3: Музыкально-ритмические движения | N3: Игра на детских музыкальных инструментах | P3: Сфера социальных отношений | W3: Крупная моторика. ОВД, ОРУ | Z3: Мелкая моторика | AA3: КГН | AB3: ЗОЖ | AC3: Подвижные игры
C4: Предметный мир | D4: Объекты живой природы | E4: Объекты неживой природы, природные явления | F4: Ребенок понимает речь взрослого | G4: Ребенок откликается на свое имя | H4: Ребенок показывает окружающие предметы по заданию педагога | I4: Ребенок произносит несколько простых, облегченных слов (мама, папа, баба, деда и т.д.), некоторые несут смысловую нагрузку | J4: Ребенок эмоционально реагирует на музыку | K4: Ребенок эмоционально реагирует на пение | L4: Ребенок хлопает в ладоши, притоптывает, слегка приседает, сгибает и разгибает ноги в коленях | N4: Ребенок звенит погремушкой, колокольчиком, бубном, ударяет в барабан | O4: Ребенок прислушивается к звучанию | P4: Отношение к самому себе | R4: Отношение к взрослым | T4: Поведение | U4: Семья | V4: Игровое поведение | W4: Бросание, катание, ловля, метание | X4: Ползанье, лазанье | Y4: Ходьба | Z4: Координация рук и глаз | AA4: Навыки соблюдения чистоты тела (правила личной гигиены)
B5: Ребенок обнаруживает поисковую и познавательную активность по отношению к предметному окружению | C5: Ребенок проявляет интерес к окружающим предметам и действиям с ними | D5: Ребенок проявляет интерес к животным, птицам, рыбам, растениям | E5: Ребенок проявляет интерес к объектам неживой природы | P5: Ребенок откликается на свое имя | R5: Ребенок эмоционально реагирует на внимание взрослого, проявляет радость в ответ на общение со взрослым | T5: Ребенок выполняет простые просьбы взрослого, понимает и адекватно реагирует на слова, регулирующие поведение (можно/нельзя) | U5: Ребенок положительно реагирует на знакомых людей, имена близких родственников | V5: Ребенок активно действует с игрушками, подражая действиям взрослых (катает машинку, кормит собачку, качает куклу) | W5: Ребенок проявляет двигательную активность в освоении пространственной среды, используя движения хватания, бросания | X5: Ребенок проявляет двигательную активность в освоении пространственной среды, используя движения ползанья, лазанья | Y5: Ребенок начинает осваивать самостоятельную ходьбу. Ребенок при поддержке поднимается, приседает на корточки. | Z5: Ребенок манипулирует предметами (поднимает, переносит, ставит один предмет на другой) | AA5: Ребенок положительно реагирует на прием пищи и гигиенические процедуры | AB5: Ребенок эмоционально откликается при проведении комплекса гимнастики и закаливания | AC5: Ребенок эмоционально откликается на игровые действия
A6: начало года | B6: ='Позн.разв. 1-2 г Н.г '!H18 -> 0 | C6: ='Позн.разв. 1-2 г Н.г '!O18 -> 0 | D6: ='Позн.разв. 1-2 г Н.г '!R18 -> 0 | E6: ='Позн.разв. 1-2 г Н.г '!S18 -> 0 | F6: ='Реч.разв. 1-2 г. Н.г.'!$E$18 -> 0 | G6: ='Реч.разв. 1-2 г. Н.г.'!$F$18 -> 0 | H6: ='Реч.разв. 1-2 г. Н.г.'!$G$18 -> 0 | I6: ='Реч.разв. 1-2 г. Н.г.'!$H$18 -> 0 | J6: ='Худ.-эст. 1-2 г. Н.г'!E19 -> 0 | K6: ='Худ.-эст. 1-2 г. Н.г'!F19 -> 0 | L6: ='Худ.-эст. 1-2 г. Н.г'!G19 -> 0 | M6: ='Худ.-эст. 1-2 г. Н.г'!H19 -> * | N6: ='Худ.-эст. 1-2 г. Н.г'!I19 -> 0 | O6: ='Худ.-эст. 1-2 г. Н.г'!$J$19 -> 0 | P6: ='Соц.ком. 1-2 г. Н.г.'!E18 -> 0 | Q6: ='Соц.ком. 1-2 г. Н.г.'!F18 -> * | R6: ='Соц.ком. 1-2 г. Н.г.'!G18 -> 0 | S6: ='Соц.ком. 1-2 г. Н.г.'!H18 -> * | T6: ='Соц.ком. 1-2 г. Н.г.'!I18 -> 0 | U6: ='Соц.ком. 1-2 г. Н.г.'!J18 -> 0 | V6: ='Соц.ком. 1-2 г. Н.г.'!K18 -> 0 | W6: ='Физ.разв. 1-2 г.Н.г.'!E18 -> 0 | X6: ='Физ.разв. 1-2 г.Н.г.'!F18 -> 0 | Y6: ='Физ.разв. 1-2 г.Н.г.'!G18 -> 0 | Z6: ='Физ.разв. 1-2 г.Н.г.'!L18 -> 0 | AA6: ='Физ.разв. 1-2 г.Н.г.'!N18 -> 0 | AB6: ='Физ.разв. 1-2 г.Н.г.'!R18 -> 0 | AC6: ='Физ.разв. 1-2 г.Н.г.'!S18 -> 0
A7: конец года | B7: ='Позн.разв. 1-2 г К.г '!H18 -> 0 | C7: ='Позн.разв. 1-2 г К.г '!O18 -> 0 | D7: ='Позн.разв. 1-2 г К.г '!R18 -> 0 | E7: ='Позн.разв. 1-2 г К.г '!S18 -> 0 | F7: ='Реч.разв. 1-2 г. К.г.'!$E$18 -> 0 | G7: ='Реч.разв. 1-2 г. К.г.'!$F$18 -> 0 | H7: ='Реч.разв. 1-2 г. К.г.'!$G$18 -> 0 | I7: ='Реч.разв. 1-2 г. К.г.'!$H$18 -> 0 | J7: ='Худ.-эст.1-2 г.К.г.'!E19 -> 0 | K7: ='Худ.-эст.1-2 г.К.г.'!F19 -> 0 | L7: ='Худ.-эст.1-2 г.К.г.'!G19 -> 0 | M7: ='Худ.-эст.1-2 г.К.г.'!H19 -> * | N7: ='Худ.-эст.1-2 г.К.г.'!I19 -> 0 | O7: ='Худ.-эст.1-2 г.К.г.'!$J$19 -> 0 | P7: ='Соц.ком. 1-2 г. К.г. '!E18 -> 0 | Q7: ='Соц.ком. 1-2 г. К.г. '!F18 -> * | R7: ='Соц.ком. 1-2 г. К.г. '!G18 -> 0 | S7: ='Соц.ком. 1-2 г. К.г. '!H18 -> * | T7: ='Соц.ком. 1-2 г. К.г. '!I18 -> 0 | U7: ='Соц.ком. 1-2 г. К.г. '!J18 -> 0 | V7: ='Соц.ком. 1-2 г. К.г. '!K18 -> 0 | W7: ='Физ.разв. 1-2 г.К.г.'!E18 -> 0 | X7: ='Физ.разв. 1-2 г.К.г.'!F18 -> 0 | Y7: ='Физ.разв. 1-2 г.К.г.'!G18 -> 0 | Z7: ='Физ.разв. 1-2 г.К.г.'!L18 -> 0 | AA7: ='Физ.разв. 1-2 г.К.г.'!N18 -> 0 | AB7: ='Физ.разв. 1-2 г.К.г.'!R18 -> 0 | AC7: ='Физ.разв. 1-2 г.К.г.'!S18 -> 0

Sheet 9
A2: ='Список детей 1-2 года'!B12 -> 0 | B2: Познавательное развитие | F2: Речевое развитие | J2: Художественно-эстетическое развитие (Музыкальная деятельность) | P2: Социльно-коммуникативное развитие | W2: Физическое развитие
B3: Познавательные действия | C3: окружающий мир | D3: Природа | F3: Общее речевое развитие | I3: Формирование словаря | J3: Слушание | K3: Пение | L3: Музыкально-ритмические движения | N3: Игра на детских музыкальных инструментах | P3: Сфера социальных отношений | W3: Крупная моторика. ОВД, ОРУ | Z3: Мелкая моторика | AA3: КГН | AB3: ЗОЖ | AC3: Подвижные игры
C4: Предметный мир | D4: Объекты живой природы | E4: Объекты неживой природы, природные явления | F4: Ребенок понимает речь взрослого | G4: Ребенок откликается на свое имя | H4: Ребенок показывает окружающие предметы по заданию педагога | I4: Ребенок произносит несколько простых, облегченных слов (мама, папа, баба, деда и т.д.), некоторые несут смысловую нагрузку | J4: Ребенок эмоционально реагирует на музыку | K4: Ребенок эмоционально реагирует на пение | L4: Ребенок хлопает в ладоши, притоптывает, слегка приседает, сгибает и разгибает ноги в коленях | N4: Ребенок звенит погремушкой, колокольчиком, бубном, ударяет в барабан | O4: Ребенок прислушивается к звучанию | P4: Отношение к самому себе | R4: Отношение к взрослым | T4: Поведение | U4: Семья | V4: Игровое поведение | W4: Бросание, катание, ловля, метание | X4: Ползанье, лазанье | Y4: Ходьба | Z4: Координация рук и глаз | AA4: Навыки соблюдения чистоты тела (правила личной гигиены)
B5: Ребенок обнаруживает поисковую и познавательную активность по отношению к предметному окружению | C5: Ребенок проявляет интерес к окружающим предметам и действиям с ними | D5: Ребенок проявляет интерес к животным, птицам, рыбам, растениям | E5: Ребенок проявляет интерес к объектам неживой природы | P5: Ребенок откликается на свое имя | R5: Ребенок эмоционально реагирует на внимание взрослого, проявляет радость в ответ на общение со взрослым | T5: Ребенок выполняет простые просьбы взрослого, понимает и адекватно реагирует на слова, регулирующие поведение (можно/нельзя) | U5: Ребенок положительно реагирует на знакомых людей, имена близких родственников | V5: Ребенок активно действует с игрушками, подражая действиям взрослых (катает машинку, кормит собачку, качает куклу) | W5: Ребенок проявляет двигательную активность в освоении пространственной среды, используя движения хватания, бросания | X5: Ребенок проявляет двигательную активность в освоении пространственной среды, используя движения ползанья, лазанья | Y5: Ребенок начинает осваивать самостоятельную ходьбу. Ребенок при поддержке поднимается, приседает на корточки. | Z5: Ребенок манипулирует предметами (поднимает, переносит, ставит один предмет на другой) | AA5: Ребенок положительно реагирует на прием пищи и гигиенические процедуры | AB5: Ребенок эмоционально откликается при проведении комплекса гимнастики и закаливания | AC5: Ребенок эмоционально откликается на игровые действия
A6: начало года | B6: ='Позн.разв. 1-2 г Н.г '!H19 -> 0 | C6: ='Позн.разв. 1-2 г Н.г '!O19 -> 0 | D6: ='Позн.разв. 1-2 г Н.г '!R19 -> 0 | E6: ='Позн.разв. 1-2 г Н.г '!S19 -> 0 | F6: ='Реч.разв. 1-2 г. Н.г.'!$E$19 -> 0 | G6: ='Реч.разв. 1-2 г. Н.г.'!$F$19 -> 0 | H6: ='Реч.разв. 1-2 г. Н.г.'!$G$19 -> 0 | I6: ='Реч.разв. 1-2 г. Н.г.'!$H$19 -> 0 | J6: ='Худ.-эст. 1-2 г. Н.г'!E20 -> 0 | K6: ='Худ.-эст. 1-2 г. Н.г'!F20 -> 0 | L6: ='Худ.-эст. 1-2 г. Н.г'!G20 -> 0 | M6: ='Худ.-эст. 1-2 г. Н.г'!H20 -> * | N6: ='Худ.-эст. 1-2 г. Н.г'!I20 -> 0 | O6: ='Худ.-эст. 1-2 г. Н.г'!$J$20 -> 0 | P6: ='Соц.ком. 1-2 г. Н.г.'!E19 -> 0 | Q6: ='Соц.ком. 1-2 г. Н.г.'!F19 -> * | R6: ='Соц.ком. 1-2 г. Н.г.'!G19 -> 0 | S6: ='Соц.ком. 1-2 г. Н.г.'!H19 -> * | T6: ='Соц.ком. 1-2 г. Н.г.'!I19 -> 0 | U6: ='Соц.ком. 1-2 г. Н.г.'!J19 -> 0 | V6: ='Соц.ком. 1-2 г. Н.г.'!K19 -> 0 | W6: ='Физ.разв. 1-2 г.Н.г.'!E19 -> 0 | X6: ='Физ.разв. 1-2 г.Н.г.'!F19 -> 0 | Y6: ='Физ.разв. 1-2 г.Н.г.'!G19 -> 0 | Z6: ='Физ.разв. 1-2 г.Н.г.'!L19 -> 0 | AA6: ='Физ.разв. 1-2 г.Н.г.'!N19 -> 0 | AB6: ='Физ.разв. 1-2 г.Н.г.'!R19 -> 0 | AC6: ='Физ.разв. 1-2 г.Н.г.'!S19 -> 0
A7: конец года | B7: ='Позн.разв. 1-2 г К.г '!H19 -> 0 | C7: ='Позн.разв. 1-2 г К.г '!O19 -> 0 | D7: ='Позн.разв. 1-2 г К.г '!R19 -> 0 | E7: ='Позн.разв. 1-2 г К.г '!S19 -> 0 | F7: ='Реч.разв. 1-2 г. К.г.'!$E$19 -> 0 | G7: ='Реч.разв. 1-2 г. К.г.'!$F$19 -> 0 | H7: ='Реч.разв. 1-2 г. К.г.'!$G$19 -> 0 | I7: ='Реч.разв. 1-2 г. К.г.'!$H$19 -> 0 | J7: ='Худ.-эст.1-2 г.К.г.'!E20 -> 0 | K7: ='Худ.-эст.1-2 г.К.г.'!F20 -> 0 | L7: ='Худ.-эст.1-2 г.К.г.'!G20 -> 0 | M7: ='Худ.-эст.1-2 г.К.г.'!H20 -> * | N7: ='Худ.-эст.1-2 г.К.г.'!I20 -> 0 | O7: ='Худ.-эст.1-2 г.К.г.'!$J$20 -> 0 | P7: ='Соц.ком. 1-2 г. К.г. '!E19 -> 0 | Q7: ='Соц.ком. 1-2 г. К.г. '!F19 -> * | R7: ='Соц.ком. 1-2 г. К.г. '!G19 -> 0 | S7: ='Соц.ком. 1-2 г. К.г. '!H19 -> * | T7: ='Соц.ком. 1-2 г. К.г. '!I19 -> 0 | U7: ='Соц.ком. 1-2 г. К.г. '!J19 -> 0 | V7: ='Соц.ком. 1-2 г. К.г. '!K19 -> 0 | W7: ='Физ.разв. 1-2 г.К.г.'!E19 -> 0 | X7: ='Физ.разв. 1-2 г.К.г.'!F19 -> 0 | Y7: ='Физ.разв. 1-2 г.К.г.'!G19 -> 0 | Z7: ='Физ.разв. 1-2 г.К.г.'!L19 -> 0 | AA7: ='Физ.разв. 1-2 г.К.г.'!N19 -> 0 | AB7: ='Физ.разв. 1-2 г.К.г.'!R19 -> 0 | AC7: ='Физ.разв. 1-2 г.К.г.'!S19 -> 0

Sheet 10
A2: ='Список детей 1-2 года'!B13 -> 0 | B2: Познавательное развитие | F2: Речевое развитие | J2: Художественно-эстетическое развитие (Музыкальная деятельность) | P2: Социльно-коммуникативное развитие | W2: Физическое развитие
B3: Познавательные действия | C3: окружающий мир | D3: Природа | F3: Общее речевое развитие | I3: Формирование словаря | J3: Слушание | K3: Пение | L3: Музыкально-ритмические движения | N3: Игра на детских музыкальных инструментах | P3: Сфера социальных отношений | W3: Крупная моторика. ОВД, ОРУ | Z3: Мелкая моторика | AA3: КГН | AB3: ЗОЖ | AC3: Подвижные игры
C4: Предметный мир | D4: Объекты живой природы | E4: Объекты неживой природы, природные явления | F4: Ребенок понимает речь взрослого | G4: Ребенок откликается на свое имя | H4: Ребенок показывает окружающие предметы по заданию педагога | I4: Ребенок произносит несколько простых, облегченных слов (мама, папа, баба, деда и т.д.), некоторые несут смысловую нагрузку | J4: Ребенок эмоционально реагирует на музыку | K4: Ребенок эмоционально реагирует на пение | L4: Ребенок хлопает в ладоши, притоптывает, слегка приседает, сгибает и разгибает ноги в коленях | N4: Ребенок звенит погремушкой, колокольчиком, бубном, ударяет в барабан | O4: Ребенок прислушивается к звучанию | P4: Отношение к самому себе | R4: Отношение к взрослым | T4: Поведение | U4: Семья | V4: Игровое поведение | W4: Бросание, катание, ловля, метание | X4: Ползанье, лазанье | Y4: Ходьба | Z4: Координация рук и глаз | AA4: Навыки соблюдения чистоты тела (правила личной гигиены)
B5: Ребенок обнаруживает поисковую и познавательную активность по отношению к предметному окружению | C5: Ребенок проявляет интерес к окружающим предметам и действиям с ними | D5: Ребенок проявляет интерес к животным, птицам, рыбам, растениям | E5: Ребенок проявляет интерес к объектам неживой природы | P5: Ребенок откликается на свое имя | R5: Ребенок эмоционально реагирует на внимание взрослого, проявляет радость в ответ на общение со взрослым | T5: Ребенок выполняет простые просьбы взрослого, понимает и адекватно реагирует на слова, регулирующие поведение (можно/нельзя) | U5: Ребенок положительно реагирует на знакомых людей, имена близких родственников | V5: Ребенок активно действует с игрушками, подражая действиям взрослых (катает машинку, кормит собачку, качает куклу) | W5: Ребенок проявляет двигательную активность в освоении пространственной среды, используя движения хватания, бросания | X5: Ребенок проявляет двигательную активность в освоении пространственной среды, используя движения ползанья, лазанья | Y5: Ребенок начинает осваивать самостоятельную ходьбу. Ребенок при поддержке поднимается, приседает на корточки. | Z5: Ребенок манипулирует предметами (поднимает, переносит, ставит один предмет на другой) | AA5: Ребенок положительно реагирует на прием пищи и гигиенические процедуры | AB5: Ребенок эмоционально откликается при проведении комплекса гимнастики и закаливания | AC5: Ребенок эмоционально откликается на игровые действия
A6: начало года | B6: ='Позн.разв. 1-2 г Н.г '!H20 -> 0 | C6: ='Позн.разв. 1-2 г Н.г '!O20 -> 0 | D6: ='Позн.разв. 1-2 г Н.г '!R20 -> 0 | E6: ='Позн.разв. 1-2 г Н.г '!S20 -> 0 | F6: ='Реч.разв. 1-2 г. Н.г.'!E20 -> 0 | G6: ='Реч.разв. 1-2 г. Н.г.'!F20 -> 0 | H6: ='Реч.разв. 1-2 г. Н.г.'!G20 -> 0 | I6: ='Реч.разв. 1-2 г. Н.г.'!H20 -> 0 | J6: ='Худ.-эст. 1-2 г. Н.г'!E21 -> 0 | K6: ='Худ.-эст. 1-2 г. Н.г'!F21 -> 0 | L6: ='Худ.-эст. 1-2 г. Н.г'!G21 -> 0 | M6: ='Худ.-эст. 1-2 г. Н.г'!H21 -> * | N6: ='Худ.-эст. 1-2 г. Н.г'!I21 -> 0 | O6: ='Худ.-эст. 1-2 г. Н.г'!J21 -> 0 | P6: ='Соц.ком. 1-2 г. Н.г.'!E20 -> 0 | Q6: ='Соц.ком. 1-2 г. Н.г.'!F20 -> * | R6: ='Соц.ком. 1-2 г. Н.г.'!G20 -> 0 | S6: ='Соц.ком. 1-2 г. Н.г.'!H20 -> * | T6: ='Соц.ком. 1-2 г. Н.г.'!I20 -> 0 | U6: ='Соц.ком. 1-2 г. Н.г.'!J20 -> 0 | V6: ='Соц.ком. 1-2 г. Н.г.'!K20 -> 0 | W6: ='Физ.разв. 1-2 г.Н.г.'!E20 -> 0 | X6: ='Физ.разв. 1-2 г.Н.г.'!F20 -> 0 | Y6: ='Физ.разв. 1-2 г.Н.г.'!G20 -> 0 | Z6: ='Физ.разв. 1-2 г.Н.г.'!L20 -> 0 | AA6: ='Физ.разв. 1-2 г.Н.г.'!N20 -> 0 | AB6: ='Физ.разв. 1-2 г.Н.г.'!R20 -> 0 | AC6: ='Физ.разв. 1-2 г.Н.г.'!S20 -> 0
A7: конец года | B7: ='Позн.разв. 1-2 г К.г '!H20 -> 0 | C7: ='Позн.разв. 1-2 г К.г '!O20 -> 0 | D7: ='Позн.разв. 1-2 г К.г '!R20 -> 0 | E7: ='Позн.разв. 1-2 г К.г '!S20 -> 0 | F7: ='Реч.разв. 1-2 г. К.г.'!E20 -> 0 | G7: ='Реч.разв. 1-2 г. К.г.'!F20 -> 0 | H7: ='Реч.разв. 1-2 г. К.г.'!G20 -> 0 | I7: ='Реч.разв. 1-2 г. К.г.'!H20 -> 0 | J7: ='Худ.-эст.1-2 г.К.г.'!E21 -> 0 | K7: ='Худ.-эст.1-2 г.К.г.'!F21 -> 0 | L7: ='Худ.-эст.1-2 г.К.г.'!G21 -> 0 | M7: ='Худ.-эст.1-2 г.К.г.'!H21 -> * | N7: ='Худ.-эст.1-2 г.К.г.'!I21 -> 0 | O7: ='Худ.-эст.1-2 г.К.г.'!J21 -> 0 | P7: ='Соц.ком. 1-2 г. К.г. '!E20 -> 0 | Q7: ='Соц.ком. 1-2 г. К.г. '!F20 -> * | R7: ='Соц.ком. 1-2 г. К.г. '!G20 -> 0 | S7: ='Соц.ком. 1-2 г. К.г. '!H20 -> * | T7: ='Соц.ком. 1-2 г. К.г. '!I20 -> 0 | U7: ='Соц.ком. 1-2 г. К.г. '!J20 -> 0 | V7: ='Соц.ком. 1-2 г. К.г. '!K20 -> 0 | W7: ='Физ.разв. 1-2 г.К.г.'!E20 -> 0 | X7: ='Физ.разв. 1-2 г.К.г.'!F20 -> 0 | Y7: ='Физ.разв. 1-2 г.К.г.'!G20 -> 0 | Z7: ='Физ.разв. 1-2 г.К.г.'!L20 -> 0 | AA7: ='Физ.разв. 1-2 г.К.г.'!N20 -> 0 | AB7: ='Физ.разв. 1-2 г.К.г.'!R20 -> 0 | AC7: ='Физ.разв. 1-2 г.К.г.'!S20 -> 0

Sheet 11
A2: ='Список детей 1-2 года'!B14 -> 0 | B2: Познавательное развитие | F2: Речевое развитие | J2: Художественно-эстетическое развитие (Музыкальная деятельность) | P2: Социльно-коммуникативное развитие | W2: Физическое развитие
B3: Познавательные действия | C3: окружающий мир | D3: Природа | F3: Общее речевое развитие | I3: Формирование словаря | J3: Слушание | K3: Пение | L3: Музыкально-ритмические движения | N3: Игра на детских музыкальных инструментах | P3: Сфера социальных отношений | W3: Крупная моторика. ОВД, ОРУ | Z3: Мелкая моторика | AA3: КГН | AB3: ЗОЖ | AC3: Подвижные игры
C4: Предметный мир | D4: Объекты живой природы | E4: Объекты неживой природы, природные явления | F4: Ребенок понимает речь взрослого | G4: Ребенок откликается на свое имя | H4: Ребенок показывает окружающие предметы по заданию педагога | I4: Ребенок произносит несколько простых, облегченных слов (мама, папа, баба, деда и т.д.), некоторые несут смысловую нагрузку | J4: Ребенок эмоционально реагирует на музыку | K4: Ребенок эмоционально реагирует на пение | L4: Ребенок хлопает в ладоши, притоптывает, слегка приседает, сгибает и разгибает ноги в коленях | N4: Ребенок звенит погремушкой, колокольчиком, бубном, ударяет в барабан | O4: Ребенок прислушивается к звучанию | P4: Отношение к самому себе | R4: Отношение к взрослым | T4: Поведение | U4: Семья | V4: Игровое поведение | W4: Бросание, катание, ловля, метание | X4: Ползанье, лазанье | Y4: Ходьба | Z4: Координация рук и глаз | AA4: Навыки соблюдения чистоты тела (правила личной гигиены)
B5: Ребенок обнаруживает поисковую и познавательную активность по отношению к предметному окружению | C5: Ребенок проявляет интерес к окружающим предметам и действиям с ними | D5: Ребенок проявляет интерес к животным, птицам, рыбам, растениям | E5: Ребенок проявляет интерес к объектам неживой природы | P5: Ребенок откликается на свое имя | R5: Ребенок эмоционально реагирует на внимание взрослого, проявляет радость в ответ на общение со взрослым | T5: Ребенок выполняет простые просьбы взрослого, понимает и адекватно реагирует на слова, регулирующие поведение (можно/нельзя) | U5: Ребенок положительно реагирует на знакомых людей, имена близких родственников | V5: Ребенок активно действует с игрушками, подражая действиям взрослых (катает машинку, кормит собачку, качает куклу) | W5: Ребенок проявляет двигательную активность в освоении пространственной среды, используя движения хватания, бросания | X5: Ребенок проявляет двигательную активность в освоении пространственной среды, используя движения ползанья, лазанья | Y5: Ребенок начинает осваивать самостоятельную ходьбу. Ребенок при поддержке поднимается, приседает на корточки. | Z5: Ребенок манипулирует предметами (поднимает, переносит, ставит один предмет на другой) | AA5: Ребенок положительно реагирует на прием пищи и гигиенические процедуры | AB5: Ребенок эмоционально откликается при проведении комплекса гимнастики и закаливания | AC5: Ребенок эмоционально откликается на игровые действия
A6: начало года | B6: ='Позн.разв. 1-2 г Н.г '!H21 -> 0 | C6: ='Позн.разв. 1-2 г Н.г '!O21 -> 0 | D6: ='Позн.разв. 1-2 г Н.г '!R21 -> 0 | E6: ='Позн.разв. 1-2 г Н.г '!S21 -> 0 | F6: ='Реч.разв. 1-2 г. Н.г.'!E21 -> 0 | G6: ='Реч.разв. 1-2 г. Н.г.'!F21 -> 0 | H6: ='Реч.разв. 1-2 г. Н.г.'!G21 -> 0 | I6: ='Реч.разв. 1-2 г. Н.г.'!H21 -> 0 | J6: ='Худ.-эст. 1-2 г. Н.г'!E22 -> 0 | K6: ='Худ.-эст. 1-2 г. Н.г'!F22 -> 0 | L6: ='Худ.-эст. 1-2 г. Н.г'!G22 -> 0 | M6: ='Худ.-эст. 1-2 г. Н.г'!H22 -> * | N6: ='Худ.-эст. 1-2 г. Н.г'!I22 -> 0 | O6: ='Худ.-эст. 1-2 г. Н.г'!J22 -> 0 | P6: ='Соц.ком. 1-2 г. Н.г.'!E21 -> 0 | Q6: ='Соц.ком. 1-2 г. Н.г.'!F21 -> * | R6: ='Соц.ком. 1-2 г. Н.г.'!G21 -> 0 | S6: ='Соц.ком. 1-2 г. Н.г.'!H21 -> * | T6: ='Соц.ком. 1-2 г. Н.г.'!I21 -> 0 | U6: ='Соц.ком. 1-2 г. Н.г.'!J21 -> 0 | V6: ='Соц.ком. 1-2 г. Н.г.'!K21 -> 0 | W6: ='Физ.разв. 1-2 г.Н.г.'!E21 -> 0 | X6: ='Физ.разв. 1-2 г.Н.г.'!F21 -> 0 | Y6: ='Физ.разв. 1-2 г.Н.г.'!G21 -> 0 | Z6: ='Физ.разв. 1-2 г.Н.г.'!L21 -> 0 | AA6: ='Физ.разв. 1-2 г.Н.г.'!N21 -> 0 | AB6: ='Физ.разв. 1-2 г.Н.г.'!R21 -> 0 | AC6: ='Физ.разв. 1-2 г.Н.г.'!S21 -> 0
A7: конец года | B7: ='Позн.разв. 1-2 г К.г '!H21 -> 0 | C7: ='Позн.разв. 1-2 г К.г '!O21 -> 0 | D7: ='Позн.разв. 1-2 г К.г '!R21 -> 0 | E7: ='Позн.разв. 1-2 г К.г '!S21 -> 0 | F7: ='Реч.разв. 1-2 г. К.г.'!E21 -> 0 | G7: ='Реч.разв. 1-2 г. К.г.'!F21 -> 0 | H7: ='Реч.разв. 1-2 г. К.г.'!G21 -> 0 | I7: ='Реч.разв. 1-2 г. К.г.'!H21 -> 0 | J7: ='Худ.-эст.1-2 г.К.г.'!E22 -> 0 | K7: ='Худ.-эст.1-2 г.К.г.'!F22 -> 0 | L7: ='Худ.-эст.1-2 г.К.г.'!G22 -> 0 | M7: ='Худ.-эст.1-2 г.К.г.'!H22 -> * | N7: ='Худ.-эст.1-2 г.К.г.'!I22 -> 0 | O7: ='Худ.-эст.1-2 г.К.г.'!J22 -> 0 | P7: ='Соц.ком. 1-2 г. К.г. '!E21 -> 0 | Q7: ='Соц.ком. 1-2 г. К.г. '!F21 -> * | R7: ='Соц.ком. 1-2 г. К.г. '!G21 -> 0 | S7: ='Соц.ком. 1-2 г. К.г. '!H21 -> * | T7: ='Соц.ком. 1-2 г. К.г. '!I21 -> 0 | U7: ='Соц.ком. 1-2 г. К.г. '!J21 -> 0 | V7: ='Соц.ком. 1-2 г. К.г. '!K21 -> 0 | W7: ='Физ.разв. 1-2 г.К.г.'!E21 -> 0 | X7: ='Физ.разв. 1-2 г.К.г.'!F21 -> 0 | Y7: ='Физ.разв. 1-2 г.К.г.'!G21 -> 0 | Z7: ='Физ.разв. 1-2 г.К.г.'!L21 -> 0 | AA7: ='Физ.разв. 1-2 г.К.г.'!N21 -> 0 | AB7: ='Физ.разв. 1-2 г.К.г.'!R21 -> 0 | AC7: ='Физ.разв. 1-2 г.К.г.'!S21 -> 0

Sheet 12
A2: ='Список детей 1-2 года'!B15 -> 0 | B2: Познавательное развитие | F2: Речевое развитие | J2: Художественно-эстетическое развитие (Музыкальная деятельность) | P2: Социльно-коммуникативное развитие | W2: Физическое развитие
B3: Познавательные действия | C3: окружающий мир | D3: Природа | F3: Общее речевое развитие | I3: Формирование словаря | J3: Слушание | K3: Пение | L3: Музыкально-ритмические движения | N3: Игра на детских музыкальных инструментах | P3: Сфера социальных отношений | W3: Крупная моторика. ОВД, ОРУ | Z3: Мелкая моторика | AA3: КГН | AB3: ЗОЖ | AC3: Подвижные игры
C4: Предметный мир | D4: Объекты живой природы | E4: Объекты неживой природы, природные явления | F4: Ребенок понимает речь взрослого | G4: Ребенок откликается на свое имя | H4: Ребенок показывает окружающие предметы по заданию педагога | I4: Ребенок произносит несколько простых, облегченных слов (мама, папа, баба, деда и т.д.), некоторые несут смысловую нагрузку | J4: Ребенок эмоционально реагирует на музыку | K4: Ребенок эмоционально реагирует на пение | L4: Ребенок хлопает в ладоши, притоптывает, слегка приседает, сгибает и разгибает ноги в коленях | N4: Ребенок звенит погремушкой, колокольчиком, бубном, ударяет в барабан | O4: Ребенок прислушивается к звучанию | P4: Отношение к самому себе | R4: Отношение к взрослым | T4: Поведение | U4: Семья | V4: Игровое поведение | W4: Бросание, катание, ловля, метание | X4: Ползанье, лазанье | Y4: Ходьба | Z4: Координация рук и глаз | AA4: Навыки соблюдения чистоты тела (правила личной гигиены)
B5: Ребенок обнаруживает поисковую и познавательную активность по отношению к предметному окружению | C5: Ребенок проявляет интерес к окружающим предметам и действиям с ними | D5: Ребенок проявляет интерес к животным, птицам, рыбам, растениям | E5: Ребенок проявляет интерес к объектам неживой природы | P5: Ребенок откликается на свое имя | R5: Ребенок эмоционально реагирует на внимание взрослого, проявляет радость в ответ на общение со взрослым | T5: Ребенок выполняет простые просьбы взрослого, понимает и адекватно реагирует на слова, регулирующие поведение (можно/нельзя) | U5: Ребенок положительно реагирует на знакомых людей, имена близких родственников | V5: Ребенок активно действует с игрушками, подражая действиям взрослых (катает машинку, кормит собачку, качает куклу) | W5: Ребенок проявляет двигательную активность в освоении пространственной среды, используя движения хватания, бросания | X5: Ребенок проявляет двигательную активность в освоении пространственной среды, используя движения ползанья, лазанья | Y5: Ребенок начинает осваивать самостоятельную ходьбу. Ребенок при поддержке поднимается, приседает на корточки. | Z5: Ребенок манипулирует предметами (поднимает, переносит, ставит один предмет на другой) | AA5: Ребенок положительно реагирует на прием пищи и гигиенические процедуры | AB5: Ребенок эмоционально откликается при проведении комплекса гимнастики и закаливания | AC5: Ребенок эмоционально откликается на игровые действия
A6: начало года | B6: ='Позн.разв. 1-2 г Н.г '!H22 -> 0 | C6: ='Позн.разв. 1-2 г Н.г '!O22 -> 0 | D6: ='Позн.разв. 1-2 г Н.г '!R22 -> 0 | E6: ='Позн.разв. 1-2 г Н.г '!S22 -> 0 | F6: ='Реч.разв. 1-2 г. Н.г.'!E22 -> 0 | G6: ='Реч.разв. 1-2 г. Н.г.'!F22 -> 0 | H6: ='Реч.разв. 1-2 г. Н.г.'!G22 -> 0 | I6: ='Реч.разв. 1-2 г. Н.г.'!H22 -> 0 | J6: ='Худ.-эст. 1-2 г. Н.г'!E23 -> 0 | K6: ='Худ.-эст. 1-2 г. Н.г'!F23 -> 0 | L6: ='Худ.-эст. 1-2 г. Н.г'!G23 -> 0 | M6: ='Худ.-эст. 1-2 г. Н.г'!H23 -> * | N6: ='Худ.-эст. 1-2 г. Н.г'!I23 -> 0 | O6: ='Худ.-эст. 1-2 г. Н.г'!J23 -> 0 | P6: ='Соц.ком. 1-2 г. Н.г.'!E22 -> 0 | Q6: ='Соц.ком. 1-2 г. Н.г.'!F22 -> * | R6: ='Соц.ком. 1-2 г. Н.г.'!G22 -> 0 | S6: ='Соц.ком. 1-2 г. Н.г.'!H22 -> * | T6: ='Соц.ком. 1-2 г. Н.г.'!I22 -> 0 | U6: ='Соц.ком. 1-2 г. Н.г.'!J22 -> 0 | V6: ='Соц.ком. 1-2 г. Н.г.'!K22 -> 0 | W6: ='Физ.разв. 1-2 г.Н.г.'!E22 -> 0 | X6: ='Физ.разв. 1-2 г.Н.г.'!F22 -> 0 | Y6: ='Физ.разв. 1-2 г.Н.г.'!G22 -> 0 | Z6: ='Физ.разв. 1-2 г.Н.г.'!L22 -> 0 | AA6: ='Физ.разв. 1-2 г.Н.г.'!N22 -> 0 | AB6: ='Физ.разв. 1-2 г.Н.г.'!R22 -> 0 | AC6: ='Физ.разв. 1-2 г.Н.г.'!S22 -> 0
A7: конец года | B7: ='Позн.разв. 1-2 г К.г '!H22 -> 0 | C7: ='Позн.разв. 1-2 г К.г '!O22 -> 0 | D7: ='Позн.разв. 1-2 г К.г '!R22 -> 0 | E7: ='Позн.разв. 1-2 г К.г '!S22 -> 0 | F7: ='Реч.разв. 1-2 г. К.г.'!E22 -> 0 | G7: ='Реч.разв. 1-2 г. К.г.'!F22 -> 0 | H7: ='Реч.разв. 1-2 г. К.г.'!G22 -> 0 | I7: ='Реч.разв. 1-2 г. К.г.'!H22 -> 0 | J7: ='Худ.-эст.1-2 г.К.г.'!E23 -> 0 | K7: ='Худ.-эст.1-2 г.К.г.'!F23 -> 0 | L7: ='Худ.-эст.1-2 г.К.г.'!G23 -> 0 | M7: ='Худ.-эст.1-2 г.К.г.'!H23 -> * | N7: ='Худ.-эст.1-2 г.К.г.'!I23 -> 0 | O7: ='Худ.-эст.1-2 г.К.г.'!J23 -> 0 | P7: ='Соц.ком. 1-2 г. К.г. '!E22 -> 0 | Q7: ='Соц.ком. 1-2 г. К.г. '!F22 -> * | R7: ='Соц.ком. 1-2 г. К.г. '!G22 -> 0 | S7: ='Соц.ком. 1-2 г. К.г. '!H22 -> * | T7: ='Соц.ком. 1-2 г. К.г. '!I22 -> 0 | U7: ='Соц.ком. 1-2 г. К.г. '!J22 -> 0 | V7: ='Соц.ком. 1-2 г. К.г. '!K22 -> 0 | W7: ='Физ.разв. 1-2 г.К.г.'!E22 -> 0 | X7: ='Физ.разв. 1-2 г.К.г.'!F22 -> 0 | Y7: ='Физ.разв. 1-2 г.К.г.'!G22 -> 0 | Z7: ='Физ.разв. 1-2 г.К.г.'!L22 -> 0 | AA7: ='Физ.разв. 1-2 г.К.г.'!N22 -> 0 | AB7: ='Физ.разв. 1-2 г.К.г.'!R22 -> 0 | AC7: ='Физ.разв. 1-2 г.К.г.'!S22 -> 0

Sheet 13
A2: ='Список детей 1-2 года'!B16 -> 0 | B2: Познавательное развитие | F2: Речевое развитие | J2: Художественно-эстетическое развитие (Музыкальная деятельность) | P2: Социльно-коммуникативное развитие | W2: Физическое развитие
B3: Познавательные действия | C3: окружающий мир | D3: Природа | F3: Общее речевое развитие | I3: Формирование словаря | J3: Слушание | K3: Пение | L3: Музыкально-ритмические движения | N3: Игра на детских музыкальных инструментах | P3: Сфера социальных отношений | W3: Крупная моторика. ОВД, ОРУ | Z3: Мелкая моторика | AA3: КГН | AB3: ЗОЖ | AC3: Подвижные игры
C4: Предметный мир | D4: Объекты живой природы | E4: Объекты неживой природы, природные явления | F4: Ребенок понимает речь взрослого | G4: Ребенок откликается на свое имя | H4: Ребенок показывает окружающие предметы по заданию педагога | I4: Ребенок произносит несколько простых, облегченных слов (мама, папа, баба, деда и т.д.), некоторые несут смысловую нагрузку | J4: Ребенок эмоционально реагирует на музыку | K4: Ребенок эмоционально реагирует на пение | L4: Ребенок хлопает в ладоши, притоптывает, слегка приседает, сгибает и разгибает ноги в коленях | N4: Ребенок звенит погремушкой, колокольчиком, бубном, ударяет в барабан | O4: Ребенок прислушивается к звучанию | P4: Отношение к самому себе | R4: Отношение к взрослым | T4: Поведение | U4: Семья | V4: Игровое поведение | W4: Бросание, катание, ловля, метание | X4: Ползанье, лазанье | Y4: Ходьба | Z4: Координация рук и глаз | AA4: Навыки соблюдения чистоты тела (правила личной гигиены)
B5: Ребенок обнаруживает поисковую и познавательную активность по отношению к предметному окружению | C5: Ребенок проявляет интерес к окружающим предметам и действиям с ними | D5: Ребенок проявляет интерес к животным, птицам, рыбам, растениям | E5: Ребенок проявляет интерес к объектам неживой природы | P5: Ребенок откликается на свое имя | R5: Ребенок эмоционально реагирует на внимание взрослого, проявляет радость в ответ на общение со взрослым | T5: Ребенок выполняет простые просьбы взрослого, понимает и адекватно реагирует на слова, регулирующие поведение (можно/нельзя) | U5: Ребенок положительно реагирует на знакомых людей, имена близких родственников | V5: Ребенок активно действует с игрушками, подражая действиям взрослых (катает машинку, кормит собачку, качает куклу) | W5: Ребенок проявляет двигательную активность в освоении пространственной среды, используя движения хватания, бросания | X5: Ребенок проявляет двигательную активность в освоении пространственной среды, используя движения ползанья, лазанья | Y5: Ребенок начинает осваивать самостоятельную ходьбу. Ребенок при поддержке поднимается, приседает на корточки. | Z5: Ребенок манипулирует предметами (поднимает, переносит, ставит один предмет на другой) | AA5: Ребенок положительно реагирует на прием пищи и гигиенические процедуры | AB5: Ребенок эмоционально откликается при проведении комплекса гимнастики и закаливания | AC5: Ребенок эмоционально откликается на игровые действия
A6: начало года | B6: ='Позн.разв. 1-2 г Н.г '!H23 -> 0 | C6: ='Позн.разв. 1-2 г Н.г '!O23 -> 0 | D6: ='Позн.разв. 1-2 г Н.г '!R23 -> 0 | E6: ='Позн.разв. 1-2 г Н.г '!S23 -> 0 | F6: ='Реч.разв. 1-2 г. Н.г.'!E23 -> 0 | G6: ='Реч.разв. 1-2 г. Н.г.'!F23 -> 0 | H6: ='Реч.разв. 1-2 г. Н.г.'!G23 -> 0 | I6: ='Реч.разв. 1-2 г. Н.г.'!H23 -> 0 | J6: ='Худ.-эст. 1-2 г. Н.г'!E24 -> 0 | K6: ='Худ.-эст. 1-2 г. Н.г'!F24 -> 0 | L6: ='Худ.-эст. 1-2 г. Н.г'!G24 -> 0 | M6: ='Худ.-эст. 1-2 г. Н.г'!H24 -> * | N6: ='Худ.-эст. 1-2 г. Н.г'!I24 -> 0 | O6: ='Худ.-эст. 1-2 г. Н.г'!J24 -> 0 | P6: ='Соц.ком. 1-2 г. Н.г.'!E23 -> 0 | Q6: ='Соц.ком. 1-2 г. Н.г.'!F23 -> * | R6: ='Соц.ком. 1-2 г. Н.г.'!G23 -> 0 | S6: ='Соц.ком. 1-2 г. Н.г.'!H23 -> * | T6: ='Соц.ком. 1-2 г. Н.г.'!I23 -> 0 | U6: ='Соц.ком. 1-2 г. Н.г.'!J23 -> 0 | V6: ='Соц.ком. 1-2 г. Н.г.'!K23 -> 0 | W6: ='Физ.разв. 1-2 г.Н.г.'!E23 -> 0 | X6: ='Физ.разв. 1-2 г.Н.г.'!F23 -> 0 | Y6: ='Физ.разв. 1-2 г.Н.г.'!G23 -> 0 | Z6: ='Физ.разв. 1-2 г.Н.г.'!L23 -> 0 | AA6: ='Физ.разв. 1-2 г.Н.г.'!N23 -> 0 | AB6: ='Физ.разв. 1-2 г.Н.г.'!R23 -> 0 | AC6: ='Физ.разв. 1-2 г.Н.г.'!S23 -> 0
A7: конец года | B7: ='Позн.разв. 1-2 г К.г '!H23 -> 0 | C7: ='Позн.разв. 1-2 г К.г '!O23 -> 0 | D7: ='Позн.разв. 1-2 г К.г '!R23 -> 0 | E7: ='Позн.разв. 1-2 г К.г '!S23 -> 0 | F7: ='Реч.разв. 1-2 г. К.г.'!E23 -> 0 | G7: ='Реч.разв. 1-2 г. К.г.'!F23 -> 0 | H7: ='Реч.разв. 1-2 г. К.г.'!G23 -> 0 | I7: ='Реч.разв. 1-2 г. К.г.'!H23 -> 0 | J7: ='Худ.-эст.1-2 г.К.г.'!E24 -> 0 | K7: ='Худ.-эст.1-2 г.К.г.'!F24 -> 0 | L7: ='Худ.-эст.1-2 г.К.г.'!G24 -> 0 | M7: ='Худ.-эст.1-2 г.К.г.'!H24 -> * | N7: ='Худ.-эст.1-2 г.К.г.'!I24 -> 0 | O7: ='Худ.-эст.1-2 г.К.г.'!J24 -> 0 | P7: ='Соц.ком. 1-2 г. К.г. '!E23 -> 0 | Q7: ='Соц.ком. 1-2 г. К.г. '!F23 -> * | R7: ='Соц.ком. 1-2 г. К.г. '!G23 -> 0 | S7: ='Соц.ком. 1-2 г. К.г. '!H23 -> * | T7: ='Соц.ком. 1-2 г. К.г. '!I23 -> 0 | U7: ='Соц.ком. 1-2 г. К.г. '!J23 -> 0 | V7: ='Соц.ком. 1-2 г. К.г. '!K23 -> 0 | W7: ='Физ.разв. 1-2 г.К.г.'!E23 -> 0 | X7: ='Физ.разв. 1-2 г.К.г.'!F23 -> 0 | Y7: ='Физ.разв. 1-2 г.К.г.'!G23 -> 0 | Z7: ='Физ.разв. 1-2 г.К.г.'!L23 -> 0 | AA7: ='Физ.разв. 1-2 г.К.г.'!N23 -> 0 | AB7: ='Физ.разв. 1-2 г.К.г.'!R23 -> 0 | AC7: ='Физ.разв. 1-2 г.К.г.'!S23 -> 0

Sheet 14
A2: ='Список детей 1-2 года'!B17 -> 0 | B2: Познавательное развитие | F2: Речевое развитие | J2: Художественно-эстетическое развитие (Музыкальная деятельность) | P2: Социльно-коммуникативное развитие | W2: Физическое развитие
B3: Познавательные действия | C3: окружающий мир | D3: Природа | F3: Общее речевое развитие | I3: Формирование словаря | J3: Слушание | K3: Пение | L3: Музыкально-ритмические движения | N3: Игра на детских музыкальных инструментах | P3: Сфера социальных отношений | W3: Крупная моторика. ОВД, ОРУ | Z3: Мелкая моторика | AA3: КГН | AB3: ЗОЖ | AC3: Подвижные игры
C4: Предметный мир | D4: Объекты живой природы | E4: Объекты неживой природы, природные явления | F4: Ребенок понимает речь взрослого | G4: Ребенок откликается на свое имя | H4: Ребенок показывает окружающие предметы по заданию педагога | I4: Ребенок произносит несколько простых, облегченных слов (мама, папа, баба, деда и т.д.), некоторые несут смысловую нагрузку | J4: Ребенок эмоционально реагирует на музыку | K4: Ребенок эмоционально реагирует на пение | L4: Ребенок хлопает в ладоши, притоптывает, слегка приседает, сгибает и разгибает ноги в коленях | N4: Ребенок звенит погремушкой, колокольчиком, бубном, ударяет в барабан | O4: Ребенок прислушивается к звучанию | P4: Отношение к самому себе | R4: Отношение к взрослым | T4: Поведение | U4: Семья | V4: Игровое поведение | W4: Бросание, катание, ловля, метание | X4: Ползанье, лазанье | Y4: Ходьба | Z4: Координация рук и глаз | AA4: Навыки соблюдения чистоты тела (правила личной гигиены)
B5: Ребенок обнаруживает поисковую и познавательную активность по отношению к предметному окружению | C5: Ребенок проявляет интерес к окружающим предметам и действиям с ними | D5: Ребенок проявляет интерес к животным, птицам, рыбам, растениям | E5: Ребенок проявляет интерес к объектам неживой природы | P5: Ребенок откликается на свое имя | R5: Ребенок эмоционально реагирует на внимание взрослого, проявляет радость в ответ на общение со взрослым | T5: Ребенок выполняет простые просьбы взрослого, понимает и адекватно реагирует на слова, регулирующие поведение (можно/нельзя) | U5: Ребенок положительно реагирует на знакомых людей, имена близких родственников | V5: Ребенок активно действует с игрушками, подражая действиям взрослых (катает машинку, кормит собачку, качает куклу) | W5: Ребенок проявляет двигательную активность в освоении пространственной среды, используя движения хватания, бросания | X5: Ребенок проявляет двигательную активность в освоении пространственной среды, используя движения ползанья, лазанья | Y5: Ребенок начинает осваивать самостоятельную ходьбу. Ребенок при поддержке поднимается, приседает на корточки. | Z5: Ребенок манипулирует предметами (поднимает, переносит, ставит один предмет на другой) | AA5: Ребенок положительно реагирует на прием пищи и гигиенические процедуры | AB5: Ребенок эмоционально откликается при проведении комплекса гимнастики и закаливания | AC5: Ребенок эмоционально откликается на игровые действия
A6: начало года | B6: ='Позн.разв. 1-2 г Н.г '!H24 -> 0 | C6: ='Позн.разв. 1-2 г Н.г '!O24 -> 0 | D6: ='Позн.разв. 1-2 г Н.г '!R24 -> 0 | E6: ='Позн.разв. 1-2 г Н.г '!S24 -> 0 | F6: ='Реч.разв. 1-2 г. Н.г.'!E24 -> 0 | G6: ='Реч.разв. 1-2 г. Н.г.'!F24 -> 0 | H6: ='Реч.разв. 1-2 г. Н.г.'!G24 -> 0 | I6: ='Реч.разв. 1-2 г. Н.г.'!H24 -> 0 | J6: ='Худ.-эст. 1-2 г. Н.г'!E25 -> 0 | K6: ='Худ.-эст. 1-2 г. Н.г'!F25 -> 0 | L6: ='Худ.-эст. 1-2 г. Н.г'!G25 -> 0 | M6: ='Худ.-эст. 1-2 г. Н.г'!H25 -> * | N6: ='Худ.-эст. 1-2 г. Н.г'!I25 -> 0 | O6: ='Худ.-эст. 1-2 г. Н.г'!J25 -> 0 | P6: ='Соц.ком. 1-2 г. Н.г.'!E24 -> 0 | Q6: ='Соц.ком. 1-2 г. Н.г.'!F24 -> * | R6: ='Соц.ком. 1-2 г. Н.г.'!G24 -> 0 | S6: ='Соц.ком. 1-2 г. Н.г.'!H24 -> * | T6: ='Соц.ком. 1-2 г. Н.г.'!I24 -> 0 | U6: ='Соц.ком. 1-2 г. Н.г.'!J24 -> 0 | V6: ='Соц.ком. 1-2 г. Н.г.'!K24 -> 0 | W6: ='Физ.разв. 1-2 г.Н.г.'!E24 -> 0 | X6: ='Физ.разв. 1-2 г.Н.г.'!F24 -> 0 | Y6: ='Физ.разв. 1-2 г.Н.г.'!G24 -> 0 | Z6: ='Физ.разв. 1-2 г.Н.г.'!L24 -> 0 | AA6: ='Физ.разв. 1-2 г.Н.г.'!N24 -> 0 | AB6: ='Физ.разв. 1-2 г.Н.г.'!R24 -> 0 | AC6: ='Физ.разв. 1-2 г.Н.г.'!S24 -> 0
A7: конец года | B7: ='Позн.разв. 1-2 г К.г '!H24 -> 0 | C7: ='Позн.разв. 1-2 г К.г '!O24 -> 0 | D7: ='Позн.разв. 1-2 г К.г '!R24 -> 0 | E7: ='Позн.разв. 1-2 г К.г '!S24 -> 0 | F7: ='Реч.разв. 1-2 г. К.г.'!E24 -> 0 | G7: ='Реч.разв. 1-2 г. К.г.'!F24 -> 0 | H7: ='Реч.разв. 1-2 г. К.г.'!G24 -> 0 | I7: ='Реч.разв. 1-2 г. К.г.'!H24 -> 0 | J7: ='Худ.-эст.1-2 г.К.г.'!E25 -> 0 | K7: ='Худ.-эст.1-2 г.К.г.'!F25 -> 0 | L7: ='Худ.-эст.1-2 г.К.г.'!G25 -> 0 | M7: ='Худ.-эст.1-2 г.К.г.'!H25 -> * | N7: ='Худ.-эст.1-2 г.К.г.'!I25 -> 0 | O7: ='Худ.-эст.1-2 г.К.г.'!J25 -> 0 | P7: ='Соц.ком. 1-2 г. К.г. '!E24 -> 0 | Q7: ='Соц.ком. 1-2 г. К.г. '!F24 -> * | R7: ='Соц.ком. 1-2 г. К.г. '!G24 -> 0 | S7: ='Соц.ком. 1-2 г. К.г. '!H24 -> * | T7: ='Соц.ком. 1-2 г. К.г. '!I24 -> 0 | U7: ='Соц.ком. 1-2 г. К.г. '!J24 -> 0 | V7: ='Соц.ком. 1-2 г. К.г. '!K24 -> 0 | W7: ='Физ.разв. 1-2 г.К.г.'!E24 -> 0 | X7: ='Физ.разв. 1-2 г.К.г.'!F24 -> 0 | Y7: ='Физ.разв. 1-2 г.К.г.'!G24 -> 0 | Z7: ='Физ.разв. 1-2 г.К.г.'!L24 -> 0 | AA7: ='Физ.разв. 1-2 г.К.г.'!N24 -> 0 | AB7: ='Физ.разв. 1-2 г.К.г.'!R24 -> 0 | AC7: ='Физ.разв. 1-2 г.К.г.'!S24 -> 0

Sheet 15
A2: ='Список детей 1-2 года'!B18 -> 0 | B2: Познавательное развитие | F2: Речевое развитие | J2: Художественно-эстетическое развитие (Музыкальная деятельность) | P2: Социльно-коммуникативное развитие | W2: Физическое развитие
B3: Познавательные действия | C3: окружающий мир | D3: Природа | F3: Общее речевое развитие | I3: Формирование словаря | J3: Слушание | K3: Пение | L3: Музыкально-ритмические движения | N3: Игра на детских музыкальных инструментах | P3: Сфера социальных отношений | W3: Крупная моторика. ОВД, ОРУ | Z3: Мелкая моторика | AA3: КГН | AB3: ЗОЖ | AC3: Подвижные игры
C4: Предметный мир | D4: Объекты живой природы | E4: Объекты неживой природы, природные явления | F4: Ребенок понимает речь взрослого | G4: Ребенок откликается на свое имя | H4: Ребенок показывает окружающие предметы по заданию педагога | I4: Ребенок произносит несколько простых, облегченных слов (мама, папа, баба, деда и т.д.), некоторые несут смысловую нагрузку | J4: Ребенок эмоционально реагирует на музыку | K4: Ребенок эмоционально реагирует на пение | L4: Ребенок хлопает в ладоши, притоптывает, слегка приседает, сгибает и разгибает ноги в коленях | N4: Ребенок звенит погремушкой, колокольчиком, бубном, ударяет в барабан | O4: Ребенок прислушивается к звучанию | P4: Отношение к самому себе | R4: Отношение к взрослым | T4: Поведение | U4: Семья | V4: Игровое поведение | W4: Бросание, катание, ловля, метание | X4: Ползанье, лазанье | Y4: Ходьба | Z4: Координация рук и глаз | AA4: Навыки соблюдения чистоты тела (правила личной гигиены)
B5: Ребенок обнаруживает поисковую и познавательную активность по отношению к предметному окружению | C5: Ребенок проявляет интерес к окружающим предметам и действиям с ними | D5: Ребенок проявляет интерес к животным, птицам, рыбам, растениям | E5: Ребенок проявляет интерес к объектам неживой природы | P5: Ребенок откликается на свое имя | R5: Ребенок эмоционально реагирует на внимание взрослого, проявляет радость в ответ на общение со взрослым | T5: Ребенок выполняет простые просьбы взрослого, понимает и адекватно реагирует на слова, регулирующие поведение (можно/нельзя) | U5: Ребенок положительно реагирует на знакомых людей, имена близких родственников | V5: Ребенок активно действует с игрушками, подражая действиям взрослых (катает машинку, кормит собачку, качает куклу) | W5: Ребенок проявляет двигательную активность в освоении пространственной среды, используя движения хватания, бросания | X5: Ребенок проявляет двигательную активность в освоении пространственной среды, используя движения ползанья, лазанья | Y5: Ребенок начинает осваивать самостоятельную ходьбу. Ребенок при поддержке поднимается, приседает на корточки. | Z5: Ребенок манипулирует предметами (поднимает, переносит, ставит один предмет на другой) | AA5: Ребенок положительно реагирует на прием пищи и гигиенические процедуры | AB5: Ребенок эмоционально откликается при проведении комплекса гимнастики и закаливания | AC5: Ребенок эмоционально откликается на игровые действия
A6: начало года | B6: ='Позн.разв. 1-2 г Н.г '!H25 -> 0 | C6: ='Позн.разв. 1-2 г Н.г '!O25 -> 0 | D6: ='Позн.разв. 1-2 г Н.г '!R25 -> 0 | E6: ='Позн.разв. 1-2 г Н.г '!S25 -> 0 | F6: ='Реч.разв. 1-2 г. Н.г.'!E25 -> 0 | G6: ='Реч.разв. 1-2 г. Н.г.'!F25 -> 0 | H6: ='Реч.разв. 1-2 г. Н.г.'!G25 -> 0 | I6: ='Реч.разв. 1-2 г. Н.г.'!H25 -> 0 | J6: ='Худ.-эст. 1-2 г. Н.г'!E26 -> 0 | K6: ='Худ.-эст. 1-2 г. Н.г'!F26 -> 0 | L6: ='Худ.-эст. 1-2 г. Н.г'!G26 -> 0 | M6: ='Худ.-эст. 1-2 г. Н.г'!H26 -> * | N6: ='Худ.-эст. 1-2 г. Н.г'!I26 -> 0 | O6: ='Худ.-эст. 1-2 г. Н.г'!J26 -> 0 | P6: ='Соц.ком. 1-2 г. Н.г.'!E25 -> 0 | Q6: ='Соц.ком. 1-2 г. Н.г.'!F25 -> * | R6: ='Соц.ком. 1-2 г. Н.г.'!G25 -> 0 | S6: ='Соц.ком. 1-2 г. Н.г.'!H25 -> * | T6: ='Соц.ком. 1-2 г. Н.г.'!I25 -> 0 | U6: ='Соц.ком. 1-2 г. Н.г.'!J25 -> 0 | V6: ='Соц.ком. 1-2 г. Н.г.'!K25 -> 0 | W6: ='Физ.разв. 1-2 г.Н.г.'!E25 -> 0 | X6: ='Физ.разв. 1-2 г.Н.г.'!F25 -> 0 | Y6: ='Физ.разв. 1-2 г.Н.г.'!G25 -> 0 | Z6: ='Физ.разв. 1-2 г.Н.г.'!L25 -> 0 | AA6: ='Физ.разв. 1-2 г.Н.г.'!N25 -> 0 | AB6: ='Физ.разв. 1-2 г.Н.г.'!R25 -> 0 | AC6: ='Физ.разв. 1-2 г.Н.г.'!S25 -> 0
A7: конец года | B7: ='Позн.разв. 1-2 г К.г '!H25 -> 0 | C7: ='Позн.разв. 1-2 г К.г '!O25 -> 0 | D7: ='Позн.разв. 1-2 г К.г '!R25 -> 0 | E7: ='Позн.разв. 1-2 г К.г '!S25 -> 0 | F7: ='Реч.разв. 1-2 г. К.г.'!E25 -> 0 | G7: ='Реч.разв. 1-2 г. К.г.'!F25 -> 0 | H7: ='Реч.разв. 1-2 г. К.г.'!G25 -> 0 | I7: ='Реч.разв. 1-2 г. К.г.'!H25 -> 0 | J7: ='Худ.-эст.1-2 г.К.г.'!E26 -> 0 | K7: ='Худ.-эст.1-2 г.К.г.'!F26 -> 0 | L7: ='Худ.-эст.1-2 г.К.г.'!G26 -> 0 | M7: ='Худ.-эст.1-2 г.К.г.'!H26 -> * | N7: ='Худ.-эст.1-2 г.К.г.'!I26 -> 0 | O7: ='Худ.-эст.1-2 г.К.г.'!J26 -> 0 | P7: ='Соц.ком. 1-2 г. К.г. '!E25 -> 0 | Q7: ='Соц.ком. 1-2 г. К.г. '!F25 -> * | R7: ='Соц.ком. 1-2 г. К.г. '!G25 -> 0 | S7: ='Соц.ком. 1-2 г. К.г. '!H25 -> * | T7: ='Соц.ком. 1-2 г. К.г. '!I25 -> 0 | U7: ='Соц.ком. 1-2 г. К.г. '!J25 -> 0 | V7: ='Соц.ком. 1-2 г. К.г. '!K25 -> 0 | W7: ='Физ.разв. 1-2 г.К.г.'!E25 -> 0 | X7: ='Физ.разв. 1-2 г.К.г.'!F25 -> 0 | Y7: ='Физ.разв. 1-2 г.К.г.'!G25 -> 0 | Z7: ='Физ.разв. 1-2 г.К.г.'!L25 -> 0 | AA7: ='Физ.разв. 1-2 г.К.г.'!N25 -> 0 | AB7: ='Физ.разв. 1-2 г.К.г.'!R25 -> 0 | AC7: ='Физ.разв. 1-2 г.К.г.'!S25 -> 0

Sheet 16
A2: ='Список детей 1-2 года'!B19 -> 0 | B2: Познавательное развитие | F2: Речевое развитие | J2: Художественно-эстетическое развитие (Музыкальная деятельность) | P2: Социльно-коммуникативное развитие | W2: Физическое развитие
B3: Познавательные действия | C3: окружающий мир | D3: Природа | F3: Общее речевое развитие | I3: Формирование словаря | J3: Слушание | K3: Пение | L3: Музыкально-ритмические движения | N3: Игра на детских музыкальных инструментах | P3: Сфера социальных отношений | W3: Крупная моторика. ОВД, ОРУ | Z3: Мелкая моторика | AA3: КГН | AB3: ЗОЖ | AC3: Подвижные игры
C4: Предметный мир | D4: Объекты живой природы | E4: Объекты неживой природы, природные явления | F4: Ребенок понимает речь взрослого | G4: Ребенок откликается на свое имя | H4: Ребенок показывает окружающие предметы по заданию педагога | I4: Ребенок произносит несколько простых, облегченных слов (мама, папа, баба, деда и т.д.), некоторые несут смысловую нагрузку | J4: Ребенок эмоционально реагирует на музыку | K4: Ребенок эмоционально реагирует на пение | L4: Ребенок хлопает в ладоши, притоптывает, слегка приседает, сгибает и разгибает ноги в коленях | N4: Ребенок звенит погремушкой, колокольчиком, бубном, ударяет в барабан | O4: Ребенок прислушивается к звучанию | P4: Отношение к самому себе | R4: Отношение к взрослым | T4: Поведение | U4: Семья | V4: Игровое поведение | W4: Бросание, катание, ловля, метание | X4: Ползанье, лазанье | Y4: Ходьба | Z4: Координация рук и глаз | AA4: Навыки соблюдения чистоты тела (правила личной гигиены)
B5: Ребенок обнаруживает поисковую и познавательную активность по отношению к предметному окружению | C5: Ребенок проявляет интерес к окружающим предметам и действиям с ними | D5: Ребенок проявляет интерес к животным, птицам, рыбам, растениям | E5: Ребенок проявляет интерес к объектам неживой природы | P5: Ребенок откликается на свое имя | R5: Ребенок эмоционально реагирует на внимание взрослого, проявляет радость в ответ на общение со взрослым | T5: Ребенок выполняет простые просьбы взрослого, понимает и адекватно реагирует на слова, регулирующие поведение (можно/нельзя) | U5: Ребенок положительно реагирует на знакомых людей, имена близких родственников | V5: Ребенок активно действует с игрушками, подражая действиям взрослых (катает машинку, кормит собачку, качает куклу) | W5: Ребенок проявляет двигательную активность в освоении пространственной среды, используя движения хватания, бросания | X5: Ребенок проявляет двигательную активность в освоении пространственной среды, используя движения ползанья, лазанья | Y5: Ребенок начинает осваивать самостоятельную ходьбу. Ребенок при поддержке поднимается, приседает на корточки. | Z5: Ребенок манипулирует предметами (поднимает, переносит, ставит один предмет на другой) | AA5: Ребенок положительно реагирует на прием пищи и гигиенические процедуры | AB5: Ребенок эмоционально откликается при проведении комплекса гимнастики и закаливания | AC5: Ребенок эмоционально откликается на игровые действия
A6: начало года | B6: ='Позн.разв. 1-2 г Н.г '!H26 -> 0 | C6: ='Позн.разв. 1-2 г Н.г '!O26 -> 0 | D6: ='Позн.разв. 1-2 г Н.г '!R26 -> 0 | E6: ='Позн.разв. 1-2 г Н.г '!S26 -> 0 | F6: ='Реч.разв. 1-2 г. Н.г.'!E26 -> 0 | G6: ='Реч.разв. 1-2 г. Н.г.'!F26 -> 0 | H6: ='Реч.разв. 1-2 г. Н.г.'!G26 -> 0 | I6: ='Реч.разв. 1-2 г. Н.г.'!H26 -> 0 | J6: ='Худ.-эст. 1-2 г. Н.г'!E27 -> 0 | K6: ='Худ.-эст. 1-2 г. Н.г'!F27 -> 0 | L6: ='Худ.-эст. 1-2 г. Н.г'!G27 -> 0 | M6: ='Худ.-эст. 1-2 г. Н.г'!H27 -> * | N6: ='Худ.-эст. 1-2 г. Н.г'!I27 -> 0 | O6: ='Худ.-эст. 1-2 г. Н.г'!J27 -> 0 | P6: ='Соц.ком. 1-2 г. Н.г.'!E26 -> 0 | Q6: ='Соц.ком. 1-2 г. Н.г.'!F26 -> * | R6: ='Соц.ком. 1-2 г. Н.г.'!G26 -> 0 | S6: ='Соц.ком. 1-2 г. Н.г.'!H26 -> * | T6: ='Соц.ком. 1-2 г. Н.г.'!I26 -> 0 | U6: ='Соц.ком. 1-2 г. Н.г.'!J26 -> 0 | V6: ='Соц.ком. 1-2 г. Н.г.'!K26 -> 0 | W6: ='Физ.разв. 1-2 г.Н.г.'!E26 -> 0 | X6: ='Физ.разв. 1-2 г.Н.г.'!F26 -> 0 | Y6: ='Физ.разв. 1-2 г.Н.г.'!G26 -> 0 | Z6: ='Физ.разв. 1-2 г.Н.г.'!L26 -> 0 | AA6: ='Физ.разв. 1-2 г.Н.г.'!N26 -> 0 | AB6: ='Физ.разв. 1-2 г.Н.г.'!R26 -> 0 | AC6: ='Физ.разв. 1-2 г.Н.г.'!S26 -> 0
A7: конец года | B7: ='Позн.разв. 1-2 г К.г '!H26 -> 0 | C7: ='Позн.разв. 1-2 г К.г '!O26 -> 0 | D7: ='Позн.разв. 1-2 г К.г '!R26 -> 0 | E7: ='Позн.разв. 1-2 г К.г '!S26 -> 0 | F7: ='Реч.разв. 1-2 г. К.г.'!E26 -> 0 | G7: ='Реч.разв. 1-2 г. К.г.'!F26 -> 0 | H7: ='Реч.разв. 1-2 г. К.г.'!G26 -> 0 | I7: ='Реч.разв. 1-2 г. К.г.'!H26 -> 0 | J7: ='Худ.-эст.1-2 г.К.г.'!E27 -> 0 | K7: ='Худ.-эст.1-2 г.К.г.'!F27 -> 0 | L7: ='Худ.-эст.1-2 г.К.г.'!G27 -> 0 | M7: ='Худ.-эст.1-2 г.К.г.'!H27 -> * | N7: ='Худ.-эст.1-2 г.К.г.'!I27 -> 0 | O7: ='Худ.-эст.1-2 г.К.г.'!J27 -> 0 | P7: ='Соц.ком. 1-2 г. К.г. '!E26 -> 0 | Q7: ='Соц.ком. 1-2 г. К.г. '!F26 -> * | R7: ='Соц.ком. 1-2 г. К.г. '!G26 -> 0 | S7: ='Соц.ком. 1-2 г. К.г. '!H26 -> * | T7: ='Соц.ком. 1-2 г. К.г. '!I26 -> 0 | U7: ='Соц.ком. 1-2 г. К.г. '!J26 -> 0 | V7: ='Соц.ком. 1-2 г. К.г. '!K26 -> 0 | W7: ='Физ.разв. 1-2 г.К.г.'!E26 -> 0 | X7: ='Физ.разв. 1-2 г.К.г.'!F26 -> 0 | Y7: ='Физ.разв. 1-2 г.К.г.'!G26 -> 0 | Z7: ='Физ.разв. 1-2 г.К.г.'!L26 -> 0 | AA7: ='Физ.разв. 1-2 г.К.г.'!N26 -> 0 | AB7: ='Физ.разв. 1-2 г.К.г.'!R26 -> 0 | AC7: ='Физ.разв. 1-2 г.К.г.'!S26 -> 0

Sheet 17
A2: ='Список детей 1-2 года'!B20 -> 0 | B2: Познавательное развитие | F2: Речевое развитие | J2: Художественно-эстетическое развитие (Музыкальная деятельность) | P2: Социльно-коммуникативное развитие | W2: Физическое развитие
B3: Познавательные действия | C3: окружающий мир | D3: Природа | F3: Общее речевое развитие | I3: Формирование словаря | J3: Слушание | K3: Пение | L3: Музыкально-ритмические движения | N3: Игра на детских музыкальных инструментах | P3: Сфера социальных отношений | W3: Крупная моторика. ОВД, ОРУ | Z3: Мелкая моторика | AA3: КГН | AB3: ЗОЖ | AC3: Подвижные игры
C4: Предметный мир | D4: Объекты живой природы | E4: Объекты неживой природы, природные явления | F4: Ребенок понимает речь взрослого | G4: Ребенок откликается на свое имя | H4: Ребенок показывает окружающие предметы по заданию педагога | I4: Ребенок произносит несколько простых, облегченных слов (мама, папа, баба, деда и т.д.), некоторые несут смысловую нагрузку | J4: Ребенок эмоционально реагирует на музыку | K4: Ребенок эмоционально реагирует на пение | L4: Ребенок хлопает в ладоши, притоптывает, слегка приседает, сгибает и разгибает ноги в коленях | N4: Ребенок звенит погремушкой, колокольчиком, бубном, ударяет в барабан | O4: Ребенок прислушивается к звучанию | P4: Отношение к самому себе | R4: Отношение к взрослым | T4: Поведение | U4: Семья | V4: Игровое поведение | W4: Бросание, катание, ловля, метание | X4: Ползанье, лазанье | Y4: Ходьба | Z4: Координация рук и глаз | AA4: Навыки соблюдения чистоты тела (правила личной гигиены)
B5: Ребенок обнаруживает поисковую и познавательную активность по отношению к предметному окружению | C5: Ребенок проявляет интерес к окружающим предметам и действиям с ними | D5: Ребенок проявляет интерес к животным, птицам, рыбам, растениям | E5: Ребенок проявляет интерес к объектам неживой природы | P5: Ребенок откликается на свое имя | R5: Ребенок эмоционально реагирует на внимание взрослого, проявляет радость в ответ на общение со взрослым | T5: Ребенок выполняет простые просьбы взрослого, понимает и адекватно реагирует на слова, регулирующие поведение (можно/нельзя) | U5: Ребенок положительно реагирует на знакомых людей, имена близких родственников | V5: Ребенок активно действует с игрушками, подражая действиям взрослых (катает машинку, кормит собачку, качает куклу) | W5: Ребенок проявляет двигательную активность в освоении пространственной среды, используя движения хватания, бросания | X5: Ребенок проявляет двигательную активность в освоении пространственной среды, используя движения ползанья, лазанья | Y5: Ребенок начинает осваивать самостоятельную ходьбу. Ребенок при поддержке поднимается, приседает на корточки. | Z5: Ребенок манипулирует предметами (поднимает, переносит, ставит один предмет на другой) | AA5: Ребенок положительно реагирует на прием пищи и гигиенические процедуры | AB5: Ребенок эмоционально откликается при проведении комплекса гимнастики и закаливания | AC5: Ребенок эмоционально откликается на игровые действия
A6: начало года | B6: ='Позн.разв. 1-2 г Н.г '!H27 -> 0 | C6: ='Позн.разв. 1-2 г Н.г '!O27 -> 0 | D6: ='Позн.разв. 1-2 г Н.г '!R27 -> 0 | E6: ='Позн.разв. 1-2 г Н.г '!S27 -> 0 | F6: ='Реч.разв. 1-2 г. Н.г.'!E27 -> 0 | G6: ='Реч.разв. 1-2 г. Н.г.'!F27 -> 0 | H6: ='Реч.разв. 1-2 г. Н.г.'!G27 -> 0 | I6: ='Реч.разв. 1-2 г. Н.г.'!H27 -> 0 | J6: ='Худ.-эст. 1-2 г. Н.г'!E28 -> 0 | K6: ='Худ.-эст. 1-2 г. Н.г'!F28 -> 0 | L6: ='Худ.-эст. 1-2 г. Н.г'!G28 -> 0 | M6: ='Худ.-эст. 1-2 г. Н.г'!H28 -> * | N6: ='Худ.-эст. 1-2 г. Н.г'!I28 -> 0 | O6: ='Худ.-эст. 1-2 г. Н.г'!J28 -> 0 | P6: ='Соц.ком. 1-2 г. Н.г.'!E27 -> 0 | Q6: ='Соц.ком. 1-2 г. Н.г.'!F27 -> * | R6: ='Соц.ком. 1-2 г. Н.г.'!G27 -> 0 | S6: ='Соц.ком. 1-2 г. Н.г.'!H27 -> * | T6: ='Соц.ком. 1-2 г. Н.г.'!I27 -> 0 | U6: ='Соц.ком. 1-2 г. Н.г.'!J27 -> 0 | V6: ='Соц.ком. 1-2 г. Н.г.'!K27 -> 0 | W6: ='Физ.разв. 1-2 г.Н.г.'!E27 -> 0 | X6: ='Физ.разв. 1-2 г.Н.г.'!F27 -> 0 | Y6: ='Физ.разв. 1-2 г.Н.г.'!G27 -> 0 | Z6: ='Физ.разв. 1-2 г.Н.г.'!L27 -> 0 | AA6: ='Физ.разв. 1-2 г.Н.г.'!N27 -> 0 | AB6: ='Физ.разв. 1-2 г.Н.г.'!R27 -> 0 | AC6: ='Физ.разв. 1-2 г.Н.г.'!S27 -> 0
A7: конец года | B7: ='Позн.разв. 1-2 г К.г '!H27 -> 0 | C7: ='Позн.разв. 1-2 г К.г '!O27 -> 0 | D7: ='Позн.разв. 1-2 г К.г '!R27 -> 0 | E7: ='Позн.разв. 1-2 г К.г '!S27 -> 0 | F7: ='Реч.разв. 1-2 г. К.г.'!E27 -> 0 | G7: ='Реч.разв. 1-2 г. К.г.'!F27 -> 0 | H7: ='Реч.разв. 1-2 г. К.г.'!G27 -> 0 | I7: ='Реч.разв. 1-2 г. К.г.'!H27 -> 0 | J7: ='Худ.-эст.1-2 г.К.г.'!E28 -> 0 | K7: ='Худ.-эст.1-2 г.К.г.'!F28 -> 0 | L7: ='Худ.-эст.1-2 г.К.г.'!G28 -> 0 | M7: ='Худ.-эст.1-2 г.К.г.'!H28 -> * | N7: ='Худ.-эст.1-2 г.К.г.'!I28 -> 0 | O7: ='Худ.-эст.1-2 г.К.г.'!J28 -> 0 | P7: ='Соц.ком. 1-2 г. К.г. '!E27 -> 0 | Q7: ='Соц.ком. 1-2 г. К.г. '!F27 -> * | R7: ='Соц.ком. 1-2 г. К.г. '!G27 -> 0 | S7: ='Соц.ком. 1-2 г. К.г. '!H27 -> * | T7: ='Соц.ком. 1-2 г. К.г. '!I27 -> 0 | U7: ='Соц.ком. 1-2 г. К.г. '!J27 -> 0 | V7: ='Соц.ком. 1-2 г. К.г. '!K27 -> 0 | W7: ='Физ.разв. 1-2 г.К.г.'!E27 -> 0 | X7: ='Физ.разв. 1-2 г.К.г.'!F27 -> 0 | Y7: ='Физ.разв. 1-2 г.К.г.'!G27 -> 0 | Z7: ='Физ.разв. 1-2 г.К.г.'!L27 -> 0 | AA7: ='Физ.разв. 1-2 г.К.г.'!N27 -> 0 | AB7: ='Физ.разв. 1-2 г.К.г.'!R27 -> 0 | AC7: ='Физ.разв. 1-2 г.К.г.'!S27 -> 0

Sheet 18
A2: ='Список детей 1-2 года'!B21 -> 0 | B2: Познавательное развитие | F2: Речевое развитие | J2: Художественно-эстетическое развитие (Музыкальная деятельность) | P2: Социльно-коммуникативное развитие | W2: Физическое развитие
B3: Познавательные действия | C3: окружающий мир | D3: Природа | F3: Общее речевое развитие | I3: Формирование словаря | J3: Слушание | K3: Пение | L3: Музыкально-ритмические движения | N3: Игра на детских музыкальных инструментах | P3: Сфера социальных отношений | W3: Крупная моторика. ОВД, ОРУ | Z3: Мелкая моторика | AA3: КГН | AB3: ЗОЖ | AC3: Подвижные игры
C4: Предметный мир | D4: Объекты живой природы | E4: Объекты неживой природы, природные явления | F4: Ребенок понимает речь взрослого | G4: Ребенок откликается на свое имя | H4: Ребенок показывает окружающие предметы по заданию педагога | I4: Ребенок произносит несколько простых, облегченных слов (мама, папа, баба, деда и т.д.), некоторые несут смысловую нагрузку | J4: Ребенок эмоционально реагирует на музыку | K4: Ребенок эмоционально реагирует на пение | L4: Ребенок хлопает в ладоши, притоптывает, слегка приседает, сгибает и разгибает ноги в коленях | N4: Ребенок звенит погремушкой, колокольчиком, бубном, ударяет в барабан | O4: Ребенок прислушивается к звучанию | P4: Отношение к самому себе | R4: Отношение к взрослым | T4: Поведение | U4: Семья | V4: Игровое поведение | W4: Бросание, катание, ловля, метание | X4: Ползанье, лазанье | Y4: Ходьба | Z4: Координация рук и глаз | AA4: Навыки соблюдения чистоты тела (правила личной гигиены)
B5: Ребенок обнаруживает поисковую и познавательную активность по отношению к предметному окружению | C5: Ребенок проявляет интерес к окружающим предметам и действиям с ними | D5: Ребенок проявляет интерес к животным, птицам, рыбам, растениям | E5: Ребенок проявляет интерес к объектам неживой природы | P5: Ребенок откликается на свое имя | R5: Ребенок эмоционально реагирует на внимание взрослого, проявляет радость в ответ на общение со взрослым | T5: Ребенок выполняет простые просьбы взрослого, понимает и адекватно реагирует на слова, регулирующие поведение (можно/нельзя) | U5: Ребенок положительно реагирует на знакомых людей, имена близких родственников | V5: Ребенок активно действует с игрушками, подражая действиям взрослых (катает машинку, кормит собачку, качает куклу) | W5: Ребенок проявляет двигательную активность в освоении пространственной среды, используя движения хватания, бросания | X5: Ребенок проявляет двигательную активность в освоении пространственной среды, используя движения ползанья, лазанья | Y5: Ребенок начинает осваивать самостоятельную ходьбу. Ребенок при поддержке поднимается, приседает на корточки. | Z5: Ребенок манипулирует предметами (поднимает, переносит, ставит один предмет на другой) | AA5: Ребенок положительно реагирует на прием пищи и гигиенические процедуры | AB5: Ребенок эмоционально откликается при проведении комплекса гимнастики и закаливания | AC5: Ребенок эмоционально откликается на игровые действия
A6: начало года | B6: ='Позн.разв. 1-2 г Н.г '!H28 -> 0 | C6: ='Позн.разв. 1-2 г Н.г '!O28 -> 0 | D6: ='Позн.разв. 1-2 г Н.г '!R28 -> 0 | E6: ='Позн.разв. 1-2 г Н.г '!S28 -> 0 | F6: ='Реч.разв. 1-2 г. Н.г.'!E28 -> 0 | G6: ='Реч.разв. 1-2 г. Н.г.'!F28 -> 0 | H6: ='Реч.разв. 1-2 г. Н.г.'!G28 -> 0 | I6: ='Реч.разв. 1-2 г. Н.г.'!H28 -> 0 | J6: ='Худ.-эст. 1-2 г. Н.г'!E29 -> 0 | K6: ='Худ.-эст. 1-2 г. Н.г'!F29 -> 0 | L6: ='Худ.-эст. 1-2 г. Н.г'!G29 -> 0 | M6: ='Худ.-эст. 1-2 г. Н.г'!H29 -> * | N6: ='Худ.-эст. 1-2 г. Н.г'!I29 -> 0 | O6: ='Худ.-эст. 1-2 г. Н.г'!J29 -> 0 | P6: ='Соц.ком. 1-2 г. Н.г.'!E28 -> 0 | Q6: ='Соц.ком. 1-2 г. Н.г.'!F28 -> * | R6: ='Соц.ком. 1-2 г. Н.г.'!G28 -> 0 | S6: ='Соц.ком. 1-2 г. Н.г.'!H28 -> * | T6: ='Соц.ком. 1-2 г. Н.г.'!I28 -> 0 | U6: ='Соц.ком. 1-2 г. Н.г.'!J28 -> 0 | V6: ='Соц.ком. 1-2 г. Н.г.'!K28 -> 0 | W6: ='Физ.разв. 1-2 г.Н.г.'!E28 -> 0 | X6: ='Физ.разв. 1-2 г.Н.г.'!F28 -> 0 | Y6: ='Физ.разв. 1-2 г.Н.г.'!G28 -> 0 | Z6: ='Физ.разв. 1-2 г.Н.г.'!L28 -> 0 | AA6: ='Физ.разв. 1-2 г.Н.г.'!N28 -> 0 | AB6: ='Физ.разв. 1-2 г.Н.г.'!R28 -> 0 | AC6: ='Физ.разв. 1-2 г.Н.г.'!S28 -> 0
A7: конец года | B7: ='Позн.разв. 1-2 г К.г '!H28 -> 0 | C7: ='Позн.разв. 1-2 г К.г '!O28 -> 0 | D7: ='Позн.разв. 1-2 г К.г '!R28 -> 0 | E7: ='Позн.разв. 1-2 г К.г '!S28 -> 0 | F7: ='Реч.разв. 1-2 г. К.г.'!E28 -> 0 | G7: ='Реч.разв. 1-2 г. К.г.'!F28 -> 0 | H7: ='Реч.разв. 1-2 г. К.г.'!G28 -> 0 | I7: ='Реч.разв. 1-2 г. К.г.'!H28 -> 0 | J7: ='Худ.-эст.1-2 г.К.г.'!E29 -> 0 | K7: ='Худ.-эст.1-2 г.К.г.'!F29 -> 0 | L7: ='Худ.-эст.1-2 г.К.г.'!G29 -> 0 | M7: ='Худ.-эст.1-2 г.К.г.'!H29 -> * | N7: ='Худ.-эст.1-2 г.К.г.'!I29 -> 0 | O7: ='Худ.-эст.1-2 г.К.г.'!J29 -> 0 | P7: ='Соц.ком. 1-2 г. К.г. '!E28 -> 0 | Q7: ='Соц.ком. 1-2 г. К.г. '!F28 -> * | R7: ='Соц.ком. 1-2 г. К.г. '!G28 -> 0 | S7: ='Соц.ком. 1-2 г. К.г. '!H28 -> * | T7: ='Соц.ком. 1-2 г. К.г. '!I28 -> 0 | U7: ='Соц.ком. 1-2 г. К.г. '!J28 -> 0 | V7: ='Соц.ком. 1-2 г. К.г. '!K28 -> 0 | W7: ='Физ.разв. 1-2 г.К.г.'!E28 -> 0 | X7: ='Физ.разв. 1-2 г.К.г.'!F28 -> 0 | Y7: ='Физ.разв. 1-2 г.К.г.'!G28 -> 0 | Z7: ='Физ.разв. 1-2 г.К.г.'!L28 -> 0 | AA7: ='Физ.разв. 1-2 г.К.г.'!N28 -> 0 | AB7: ='Физ.разв. 1-2 г.К.г.'!R28 -> 0 | AC7: ='Физ.разв. 1-2 г.К.г.'!S28 -> 0

Sheet 19
A2: ='Список детей 1-2 года'!B22 -> 0 | B2: Познавательное развитие | F2: Речевое развитие | J2: Художественно-эстетическое развитие (Музыкальная деятельность) | P2: Социльно-коммуникативное развитие | W2: Физическое развитие
B3: Познавательные действия | C3: окружающий мир | D3: Природа | F3: Общее речевое развитие | I3: Формирование словаря | J3: Слушание | K3: Пение | L3: Музыкально-ритмические движения | N3: Игра на детских музыкальных инструментах | P3: Сфера социальных отношений | W3: Крупная моторика. ОВД, ОРУ | Z3: Мелкая моторика | AA3: КГН | AB3: ЗОЖ | AC3: Подвижные игры
C4: Предметный мир | D4: Объекты живой природы | E4: Объекты неживой природы, природные явления | F4: Ребенок понимает речь взрослого | G4: Ребенок откликается на свое имя | H4: Ребенок показывает окружающие предметы по заданию педагога | I4: Ребенок произносит несколько простых, облегченных слов (мама, папа, баба, деда и т.д.), некоторые несут смысловую нагрузку | J4: Ребенок эмоционально реагирует на музыку | K4: Ребенок эмоционально реагирует на пение | L4: Ребенок хлопает в ладоши, притоптывает, слегка приседает, сгибает и разгибает ноги в коленях | N4: Ребенок звенит погремушкой, колокольчиком, бубном, ударяет в барабан | O4: Ребенок прислушивается к звучанию | P4: Отношение к самому себе | R4: Отношение к взрослым | T4: Поведение | U4: Семья | V4: Игровое поведение | W4: Бросание, катание, ловля, метание | X4: Ползанье, лазанье | Y4: Ходьба | Z4: Координация рук и глаз | AA4: Навыки соблюдения чистоты тела (правила личной гигиены)
B5: Ребенок обнаруживает поисковую и познавательную активность по отношению к предметному окружению | C5: Ребенок проявляет интерес к окружающим предметам и действиям с ними | D5: Ребенок проявляет интерес к животным, птицам, рыбам, растениям | E5: Ребенок проявляет интерес к объектам неживой природы | P5: Ребенок откликается на свое имя | R5: Ребенок эмоционально реагирует на внимание взрослого, проявляет радость в ответ на общение со взрослым | T5: Ребенок выполняет простые просьбы взрослого, понимает и адекватно реагирует на слова, регулирующие поведение (можно/нельзя) | U5: Ребенок положительно реагирует на знакомых людей, имена близких родственников | V5: Ребенок активно действует с игрушками, подражая действиям взрослых (катает машинку, кормит собачку, качает куклу) | W5: Ребенок проявляет двигательную активность в освоении пространственной среды, используя движения хватания, бросания | X5: Ребенок проявляет двигательную активность в освоении пространственной среды, используя движения ползанья, лазанья | Y5: Ребенок начинает осваивать самостоятельную ходьбу. Ребенок при поддержке поднимается, приседает на корточки. | Z5: Ребенок манипулирует предметами (поднимает, переносит, ставит один предмет на другой) | AA5: Ребенок положительно реагирует на прием пищи и гигиенические процедуры | AB5: Ребенок эмоционально откликается при проведении комплекса гимнастики и закаливания | AC5: Ребенок эмоционально откликается на игровые действия
A6: начало года | B6: ='Позн.разв. 1-2 г Н.г '!H29 -> 0 | C6: ='Позн.разв. 1-2 г Н.г '!O29 -> 0 | D6: ='Позн.разв. 1-2 г Н.г '!R29 -> 0 | E6: ='Позн.разв. 1-2 г Н.г '!S29 -> 0 | F6: ='Реч.разв. 1-2 г. Н.г.'!E29 -> 0 | G6: ='Реч.разв. 1-2 г. Н.г.'!F29 -> 0 | H6: ='Реч.разв. 1-2 г. Н.г.'!G29 -> 0 | I6: ='Реч.разв. 1-2 г. Н.г.'!H29 -> 0 | J6: ='Худ.-эст. 1-2 г. Н.г'!E30 -> 0 | K6: ='Худ.-эст. 1-2 г. Н.г'!F30 -> 0 | L6: ='Худ.-эст. 1-2 г. Н.г'!G30 -> 0 | M6: ='Худ.-эст. 1-2 г. Н.г'!H30 -> * | N6: ='Худ.-эст. 1-2 г. Н.г'!I30 -> 0 | O6: ='Худ.-эст. 1-2 г. Н.г'!J30 -> 0 | P6: ='Соц.ком. 1-2 г. Н.г.'!E29 -> 0 | Q6: ='Соц.ком. 1-2 г. Н.г.'!F29 -> * | R6: ='Соц.ком. 1-2 г. Н.г.'!G29 -> 0 | S6: ='Соц.ком. 1-2 г. Н.г.'!H29 -> * | T6: ='Соц.ком. 1-2 г. Н.г.'!I29 -> 0 | U6: ='Соц.ком. 1-2 г. Н.г.'!J29 -> 0 | V6: ='Соц.ком. 1-2 г. Н.г.'!K29 -> 0 | W6: ='Физ.разв. 1-2 г.Н.г.'!E29 -> 0 | X6: ='Физ.разв. 1-2 г.Н.г.'!F29 -> 0 | Y6: ='Физ.разв. 1-2 г.Н.г.'!G29 -> 0 | Z6: ='Физ.разв. 1-2 г.Н.г.'!L29 -> 0 | AA6: ='Физ.разв. 1-2 г.Н.г.'!N29 -> 0 | AB6: ='Физ.разв. 1-2 г.Н.г.'!R29 -> 0 | AC6: ='Физ.разв. 1-2 г.Н.г.'!S29 -> 0
A7: конец года | B7: ='Позн.разв. 1-2 г К.г '!H29 -> 0 | C7: ='Позн.разв. 1-2 г К.г '!O29 -> 0 | D7: ='Позн.разв. 1-2 г К.г '!R29 -> 0 | E7: ='Позн.разв. 1-2 г К.г '!S29 -> 0 | F7: ='Реч.разв. 1-2 г. К.г.'!E29 -> 0 | G7: ='Реч.разв. 1-2 г. К.г.'!F29 -> 0 | H7: ='Реч.разв. 1-2 г. К.г.'!G29 -> 0 | I7: ='Реч.разв. 1-2 г. К.г.'!H29 -> 0 | J7: ='Худ.-эст.1-2 г.К.г.'!E30 -> 0 | K7: ='Худ.-эст.1-2 г.К.г.'!F30 -> 0 | L7: ='Худ.-эст.1-2 г.К.г.'!G30 -> 0 | M7: ='Худ.-эст.1-2 г.К.г.'!H30 -> * | N7: ='Худ.-эст.1-2 г.К.г.'!I30 -> 0 | O7: ='Худ.-эст.1-2 г.К.г.'!J30 -> 0 | P7: ='Соц.ком. 1-2 г. К.г. '!E29 -> 0 | Q7: ='Соц.ком. 1-2 г. К.г. '!F29 -> * | R7: ='Соц.ком. 1-2 г. К.г. '!G29 -> 0 | S7: ='Соц.ком. 1-2 г. К.г. '!H29 -> * | T7: ='Соц.ком. 1-2 г. К.г. '!I29 -> 0 | U7: ='Соц.ком. 1-2 г. К.г. '!J29 -> 0 | V7: ='Соц.ком. 1-2 г. К.г. '!K29 -> 0 | W7: ='Физ.разв. 1-2 г.К.г.'!E29 -> 0 | X7: ='Физ.разв. 1-2 г.К.г.'!F29 -> 0 | Y7: ='Физ.разв. 1-2 г.К.г.'!G29 -> 0 | Z7: ='Физ.разв. 1-2 г.К.г.'!L29 -> 0 | AA7: ='Физ.разв. 1-2 г.К.г.'!N29 -> 0 | AB7: ='Физ.разв. 1-2 г.К.г.'!R29 -> 0 | AC7: ='Физ.разв. 1-2 г.К.г.'!S29 -> 0

Sheet 20
A2: ='Список детей 1-2 года'!B23 -> 0 | B2: Познавательное развитие | F2: Речевое развитие | J2: Художественно-эстетическое развитие (Музыкальная деятельность) | P2: Социльно-коммуникативное развитие | W2: Физическое развитие
B3: Познавательные действия | C3: окружающий мир | D3: Природа | F3: Общее речевое развитие | I3: Формирование словаря | J3: Слушание | K3: Пение | L3: Музыкально-ритмические движения | N3: Игра на детских музыкальных инструментах | P3: Сфера социальных отношений | W3: Крупная моторика. ОВД, ОРУ | Z3: Мелкая моторика | AA3: КГН | AB3: ЗОЖ | AC3: Подвижные игры
C4: Предметный мир | D4: Объекты живой природы | E4: Объекты неживой природы, природные явления | F4: Ребенок понимает речь взрослого | G4: Ребенок откликается на свое имя | H4: Ребенок показывает окружающие предметы по заданию педагога | I4: Ребенок произносит несколько простых, облегченных слов (мама, папа, баба, деда и т.д.), некоторые несут смысловую нагрузку | J4: Ребенок эмоционально реагирует на музыку | K4: Ребенок эмоционально реагирует на пение | L4: Ребенок хлопает в ладоши, притоптывает, слегка приседает, сгибает и разгибает ноги в коленях | N4: Ребенок звенит погремушкой, колокольчиком, бубном, ударяет в барабан | O4: Ребенок прислушивается к звучанию | P4: Отношение к самому себе | R4: Отношение к взрослым | T4: Поведение | U4: Семья | V4: Игровое поведение | W4: Бросание, катание, ловля, метание | X4: Ползанье, лазанье | Y4: Ходьба | Z4: Координация рук и глаз | AA4: Навыки соблюдения чистоты тела (правила личной гигиены)
B5: Ребенок обнаруживает поисковую и познавательную активность по отношению к предметному окружению | C5: Ребенок проявляет интерес к окружающим предметам и действиям с ними | D5: Ребенок проявляет интерес к животным, птицам, рыбам, растениям | E5: Ребенок проявляет интерес к объектам неживой природы | P5: Ребенок откликается на свое имя | R5: Ребенок эмоционально реагирует на внимание взрослого, проявляет радость в ответ на общение со взрослым | T5: Ребенок выполняет простые просьбы взрослого, понимает и адекватно реагирует на слова, регулирующие поведение (можно/нельзя) | U5: Ребенок положительно реагирует на знакомых людей, имена близких родственников | V5: Ребенок активно действует с игрушками, подражая действиям взрослых (катает машинку, кормит собачку, качает куклу) | W5: Ребенок проявляет двигательную активность в освоении пространственной среды, используя движения хватания, бросания | X5: Ребенок проявляет двигательную активность в освоении пространственной среды, используя движения ползанья, лазанья | Y5: Ребенок начинает осваивать самостоятельную ходьбу. Ребенок при поддержке поднимается, приседает на корточки. | Z5: Ребенок манипулирует предметами (поднимает, переносит, ставит один предмет на другой) | AA5: Ребенок положительно реагирует на прием пищи и гигиенические процедуры | AB5: Ребенок эмоционально откликается при проведении комплекса гимнастики и закаливания | AC5: Ребенок эмоционально откликается на игровые действия
A6: начало года | B6: ='Позн.разв. 1-2 г Н.г '!H30 -> 0 | C6: ='Позн.разв. 1-2 г Н.г '!O30 -> 0 | D6: ='Позн.разв. 1-2 г Н.г '!R30 -> 0 | E6: ='Позн.разв. 1-2 г Н.г '!S30 -> 0 | F6: ='Реч.разв. 1-2 г. Н.г.'!E30 -> 0 | G6: ='Реч.разв. 1-2 г. Н.г.'!F30 -> 0 | H6: ='Реч.разв. 1-2 г. Н.г.'!G30 -> 0 | I6: ='Реч.разв. 1-2 г. Н.г.'!H30 -> 0 | J6: ='Худ.-эст. 1-2 г. Н.г'!E31 -> 0 | K6: ='Худ.-эст. 1-2 г. Н.г'!F31 -> 0 | L6: ='Худ.-эст. 1-2 г. Н.г'!G31 -> 0 | M6: ='Худ.-эст. 1-2 г. Н.г'!H31 -> * | N6: ='Худ.-эст. 1-2 г. Н.г'!I31 -> 0 | O6: ='Худ.-эст. 1-2 г. Н.г'!J31 -> 0 | P6: ='Соц.ком. 1-2 г. Н.г.'!E30 -> 0 | Q6: ='Соц.ком. 1-2 г. Н.г.'!F30 -> * | R6: ='Соц.ком. 1-2 г. Н.г.'!G30 -> 0 | S6: ='Соц.ком. 1-2 г. Н.г.'!H30 -> * | T6: ='Соц.ком. 1-2 г. Н.г.'!I30 -> 0 | U6: ='Соц.ком. 1-2 г. Н.г.'!J30 -> 0 | V6: ='Соц.ком. 1-2 г. Н.г.'!K30 -> 0 | W6: ='Физ.разв. 1-2 г.Н.г.'!E30 -> 0 | X6: ='Физ.разв. 1-2 г.Н.г.'!F30 -> 0 | Y6: ='Физ.разв. 1-2 г.Н.г.'!G30 -> 0 | Z6: ='Физ.разв. 1-2 г.Н.г.'!L30 -> 0 | AA6: ='Физ.разв. 1-2 г.Н.г.'!N30 -> 0 | AB6: ='Физ.разв. 1-2 г.Н.г.'!R30 -> 0 | AC6: ='Физ.разв. 1-2 г.Н.г.'!S30 -> 0
A7: конец года | B7: ='Позн.разв. 1-2 г К.г '!H30 -> 0 | C7: ='Позн.разв. 1-2 г К.г '!O30 -> 0 | D7: ='Позн.разв. 1-2 г К.г '!R30 -> 0 | E7: ='Позн.разв. 1-2 г К.г '!S30 -> 0 | F7: ='Реч.разв. 1-2 г. К.г.'!E30 -> 0 | G7: ='Реч.разв. 1-2 г. К.г.'!F30 -> 0 | H7: ='Реч.разв. 1-2 г. К.г.'!G30 -> 0 | I7: ='Реч.разв. 1-2 г. К.г.'!H30 -> 0 | J7: ='Худ.-эст.1-2 г.К.г.'!E31 -> 0 | K7: ='Худ.-эст.1-2 г.К.г.'!F31 -> 0 | L7: ='Худ.-эст.1-2 г.К.г.'!G31 -> 0 | M7: ='Худ.-эст.1-2 г.К.г.'!H31 -> * | N7: ='Худ.-эст.1-2 г.К.г.'!I31 -> 0 | O7: ='Худ.-эст.1-2 г.К.г.'!J31 -> 0 | P7: ='Соц.ком. 1-2 г. К.г. '!E30 -> 0 | Q7: ='Соц.ком. 1-2 г. К.г. '!F30 -> * | R7: ='Соц.ком. 1-2 г. К.г. '!G30 -> 0 | S7: ='Соц.ком. 1-2 г. К.г. '!H30 -> * | T7: ='Соц.ком. 1-2 г. К.г. '!I30 -> 0 | U7: ='Соц.ком. 1-2 г. К.г. '!J30 -> 0 | V7: ='Соц.ком. 1-2 г. К.г. '!K30 -> 0 | W7: ='Физ.разв. 1-2 г.К.г.'!E30 -> 0 | X7: ='Физ.разв. 1-2 г.К.г.'!F30 -> 0 | Y7: ='Физ.разв. 1-2 г.К.г.'!G30 -> 0 | Z7: ='Физ.разв. 1-2 г.К.г.'!L30 -> 0 | AA7: ='Физ.разв. 1-2 г.К.г.'!N30 -> 0 | AB7: ='Физ.разв. 1-2 г.К.г.'!R30 -> 0 | AC7: ='Физ.разв. 1-2 г.К.г.'!S30 -> 0

Sheet 21
A2: ='Список детей 1-2 года'!B24 -> 0 | B2: Познавательное развитие | F2: Речевое развитие | J2: Художественно-эстетическое развитие (Музыкальная деятельность) | P2: Социльно-коммуникативное развитие | W2: Физическое развитие
B3: Познавательные действия | C3: окружающий мир | D3: Природа | F3: Общее речевое развитие | I3: Формирование словаря | J3: Слушание | K3: Пение | L3: Музыкально-ритмические движения | N3: Игра на детских музыкальных инструментах | P3: Сфера социальных отношений | W3: Крупная моторика. ОВД, ОРУ | Z3: Мелкая моторика | AA3: КГН | AB3: ЗОЖ | AC3: Подвижные игры
C4: Предметный мир | D4: Объекты живой природы | E4: Объекты неживой природы, природные явления | F4: Ребенок понимает речь взрослого | G4: Ребенок откликается на свое имя | H4: Ребенок показывает окружающие предметы по заданию педагога | I4: Ребенок произносит несколько простых, облегченных слов (мама, папа, баба, деда и т.д.), некоторые несут смысловую нагрузку | J4: Ребенок эмоционально реагирует на музыку | K4: Ребенок эмоционально реагирует на пение | L4: Ребенок хлопает в ладоши, притоптывает, слегка приседает, сгибает и разгибает ноги в коленях | N4: Ребенок звенит погремушкой, колокольчиком, бубном, ударяет в барабан | O4: Ребенок прислушивается к звучанию | P4: Отношение к самому себе | R4: Отношение к взрослым | T4: Поведение | U4: Семья | V4: Игровое поведение | W4: Бросание, катание, ловля, метание | X4: Ползанье, лазанье | Y4: Ходьба | Z4: Координация рук и глаз | AA4: Навыки соблюдения чистоты тела (правила личной гигиены)
B5: Ребенок обнаруживает поисковую и познавательную активность по отношению к предметному окружению | C5: Ребенок проявляет интерес к окружающим предметам и действиям с ними | D5: Ребенок проявляет интерес к животным, птицам, рыбам, растениям | E5: Ребенок проявляет интерес к объектам неживой природы | P5: Ребенок откликается на свое имя | R5: Ребенок эмоционально реагирует на внимание взрослого, проявляет радость в ответ на общение со взрослым | T5: Ребенок выполняет простые просьбы взрослого, понимает и адекватно реагирует на слова, регулирующие поведение (можно/нельзя) | U5: Ребенок положительно реагирует на знакомых людей, имена близких родственников | V5: Ребенок активно действует с игрушками, подражая действиям взрослых (катает машинку, кормит собачку, качает куклу) | W5: Ребенок проявляет двигательную активность в освоении пространственной среды, используя движения хватания, бросания | X5: Ребенок проявляет двигательную активность в освоении пространственной среды, используя движения ползанья, лазанья | Y5: Ребенок начинает осваивать самостоятельную ходьбу. Ребенок при поддержке поднимается, приседает на корточки. | Z5: Ребенок манипулирует предметами (поднимает, переносит, ставит один предмет на другой) | AA5: Ребенок положительно реагирует на прием пищи и гигиенические процедуры | AB5: Ребенок эмоционально откликается при проведении комплекса гимнастики и закаливания | AC5: Ребенок эмоционально откликается на игровые действия
A6: начало года | B6: ='Позн.разв. 1-2 г Н.г '!H31 -> 0 | C6: ='Позн.разв. 1-2 г Н.г '!O31 -> 0 | D6: ='Позн.разв. 1-2 г Н.г '!R31 -> 0 | E6: ='Позн.разв. 1-2 г Н.г '!S31 -> 0 | F6: ='Реч.разв. 1-2 г. Н.г.'!E31 -> 0 | G6: ='Реч.разв. 1-2 г. Н.г.'!F31 -> 0 | H6: ='Реч.разв. 1-2 г. Н.г.'!G31 -> 0 | I6: ='Реч.разв. 1-2 г. Н.г.'!H31 -> 0 | J6: ='Худ.-эст. 1-2 г. Н.г'!E32 -> 0 | K6: ='Худ.-эст. 1-2 г. Н.г'!F32 -> 0 | L6: ='Худ.-эст. 1-2 г. Н.г'!G32 -> 0 | M6: ='Худ.-эст. 1-2 г. Н.г'!H32 -> * | N6: ='Худ.-эст. 1-2 г. Н.г'!I32 -> 0 | O6: ='Худ.-эст. 1-2 г. Н.г'!J32 -> 0 | P6: ='Соц.ком. 1-2 г. Н.г.'!E31 -> 0 | Q6: ='Соц.ком. 1-2 г. Н.г.'!F31 -> * | R6: ='Соц.ком. 1-2 г. Н.г.'!G31 -> 0 | S6: ='Соц.ком. 1-2 г. Н.г.'!H31 -> * | T6: ='Соц.ком. 1-2 г. Н.г.'!I31 -> 0 | U6: ='Соц.ком. 1-2 г. Н.г.'!J31 -> 0 | V6: ='Соц.ком. 1-2 г. Н.г.'!K31 -> 0 | W6: ='Физ.разв. 1-2 г.Н.г.'!E31 -> 0 | X6: ='Физ.разв. 1-2 г.Н.г.'!F31 -> 0 | Y6: ='Физ.разв. 1-2 г.Н.г.'!G31 -> 0 | Z6: ='Физ.разв. 1-2 г.Н.г.'!L31 -> 0 | AA6: ='Физ.разв. 1-2 г.Н.г.'!N31 -> 0 | AB6: ='Физ.разв. 1-2 г.Н.г.'!R31 -> 0 | AC6: ='Физ.разв. 1-2 г.Н.г.'!S31 -> 0
A7: конец года | B7: ='Позн.разв. 1-2 г К.г '!H31 -> 0 | C7: ='Позн.разв. 1-2 г К.г '!O31 -> 0 | D7: ='Позн.разв. 1-2 г К.г '!R31 -> 0 | E7: ='Позн.разв. 1-2 г К.г '!S31 -> 0 | F7: ='Реч.разв. 1-2 г. К.г.'!E31 -> 0 | G7: ='Реч.разв. 1-2 г. К.г.'!F31 -> 0 | H7: ='Реч.разв. 1-2 г. К.г.'!G31 -> 0 | I7: ='Реч.разв. 1-2 г. К.г.'!H31 -> 0 | J7: ='Худ.-эст.1-2 г.К.г.'!E32 -> 0 | K7: ='Худ.-эст.1-2 г.К.г.'!F32 -> 0 | L7: ='Худ.-эст.1-2 г.К.г.'!G32 -> 0 | M7: ='Худ.-эст.1-2 г.К.г.'!H32 -> * | N7: ='Худ.-эст.1-2 г.К.г.'!I32 -> 0 | O7: ='Худ.-эст.1-2 г.К.г.'!J32 -> 0 | P7: ='Соц.ком. 1-2 г. К.г. '!E31 -> 0 | Q7: ='Соц.ком. 1-2 г. К.г. '!F31 -> * | R7: ='Соц.ком. 1-2 г. К.г. '!G31 -> 0 | S7: ='Соц.ком. 1-2 г. К.г. '!H31 -> * | T7: ='Соц.ком. 1-2 г. К.г. '!I31 -> 0 | U7: ='Соц.ком. 1-2 г. К.г. '!J31 -> 0 | V7: ='Соц.ком. 1-2 г. К.г. '!K31 -> 0 | W7: ='Физ.разв. 1-2 г.К.г.'!E31 -> 0 | X7: ='Физ.разв. 1-2 г.К.г.'!F31 -> 0 | Y7: ='Физ.разв. 1-2 г.К.г.'!G31 -> 0 | Z7: ='Физ.разв. 1-2 г.К.г.'!L31 -> 0 | AA7: ='Физ.разв. 1-2 г.К.г.'!N31 -> 0 | AB7: ='Физ.разв. 1-2 г.К.г.'!R31 -> 0 | AC7: ='Физ.разв. 1-2 г.К.г.'!S31 -> 0

Sheet 22
A2: ='Список детей 1-2 года'!B25 -> 0 | B2: Познавательное развитие | F2: Речевое развитие | J2: Художественно-эстетическое развитие (Музыкальная деятельность) | P2: Социльно-коммуникативное развитие | W2: Физическое развитие
B3: Познавательные действия | C3: окружающий мир | D3: Природа | F3: Общее речевое развитие | I3: Формирование словаря | J3: Слушание | K3: Пение | L3: Музыкально-ритмические движения | N3: Игра на детских музыкальных инструментах | P3: Сфера социальных отношений | W3: Крупная моторика. ОВД, ОРУ | Z3: Мелкая моторика | AA3: КГН | AB3: ЗОЖ | AC3: Подвижные игры
C4: Предметный мир | D4: Объекты живой природы | E4: Объекты неживой природы, природные явления | F4: Ребенок понимает речь взрослого | G4: Ребенок откликается на свое имя | H4: Ребенок показывает окружающие предметы по заданию педагога | I4: Ребенок произносит несколько простых, облегченных слов (мама, папа, баба, деда и т.д.), некоторые несут смысловую нагрузку | J4: Ребенок эмоционально реагирует на музыку | K4: Ребенок эмоционально реагирует на пение | L4: Ребенок хлопает в ладоши, притоптывает, слегка приседает, сгибает и разгибает ноги в коленях | N4: Ребенок звенит погремушкой, колокольчиком, бубном, ударяет в барабан | O4: Ребенок прислушивается к звучанию | P4: Отношение к самому себе | R4: Отношение к взрослым | T4: Поведение | U4: Семья | V4: Игровое поведение | W4: Бросание, катание, ловля, метание | X4: Ползанье, лазанье | Y4: Ходьба | Z4: Координация рук и глаз | AA4: Навыки соблюдения чистоты тела (правила личной гигиены)
B5: Ребенок обнаруживает поисковую и познавательную активность по отношению к предметному окружению | C5: Ребенок проявляет интерес к окружающим предметам и действиям с ними | D5: Ребенок проявляет интерес к животным, птицам, рыбам, растениям | E5: Ребенок проявляет интерес к объектам неживой природы | P5: Ребенок откликается на свое имя | R5: Ребенок эмоционально реагирует на внимание взрослого, проявляет радость в ответ на общение со взрослым | T5: Ребенок выполняет простые просьбы взрослого, понимает и адекватно реагирует на слова, регулирующие поведение (можно/нельзя) | U5: Ребенок положительно реагирует на знакомых людей, имена близких родственников | V5: Ребенок активно действует с игрушками, подражая действиям взрослых (катает машинку, кормит собачку, качает куклу) | W5: Ребенок проявляет двигательную активность в освоении пространственной среды, используя движения хватания, бросания | X5: Ребенок проявляет двигательную активность в освоении пространственной среды, используя движения ползанья, лазанья | Y5: Ребенок начинает осваивать самостоятельную ходьбу. Ребенок при поддержке поднимается, приседает на корточки. | Z5: Ребенок манипулирует предметами (поднимает, переносит, ставит один предмет на другой) | AA5: Ребенок положительно реагирует на прием пищи и гигиенические процедуры | AB5: Ребенок эмоционально откликается при проведении комплекса гимнастики и закаливания | AC5: Ребенок эмоционально откликается на игровые действия
A6: начало года | B6: ='Позн.разв. 1-2 г Н.г '!H32 -> 0 | C6: ='Позн.разв. 1-2 г Н.г '!O32 -> 0 | D6: ='Позн.разв. 1-2 г Н.г '!R32 -> 0 | E6: ='Позн.разв. 1-2 г Н.г '!S33 -> 0 | F6: ='Реч.разв. 1-2 г. Н.г.'!E32 -> 0 | G6: ='Реч.разв. 1-2 г. Н.г.'!F32 -> 0 | H6: ='Реч.разв. 1-2 г. Н.г.'!G32 -> 0 | I6: ='Реч.разв. 1-2 г. Н.г.'!H32 -> 0 | J6: ='Худ.-эст. 1-2 г. Н.г'!E33 -> 0 | K6: ='Худ.-эст. 1-2 г. Н.г'!F33 -> 0 | L6: ='Худ.-эст. 1-2 г. Н.г'!G33 -> 0 | M6: ='Худ.-эст. 1-2 г. Н.г'!H33 -> * | N6: ='Худ.-эст. 1-2 г. Н.г'!I33 -> 0 | O6: ='Худ.-эст. 1-2 г. Н.г'!J33 -> 0 | P6: ='Соц.ком. 1-2 г. Н.г.'!E32 -> 0 | Q6: ='Соц.ком. 1-2 г. Н.г.'!F32 -> * | R6: ='Соц.ком. 1-2 г. Н.г.'!G32 -> 0 | S6: ='Соц.ком. 1-2 г. Н.г.'!H32 -> * | T6: ='Соц.ком. 1-2 г. Н.г.'!I32 -> 0 | U6: ='Соц.ком. 1-2 г. Н.г.'!J32 -> 0 | V6: ='Соц.ком. 1-2 г. Н.г.'!K32 -> 0 | W6: ='Физ.разв. 1-2 г.Н.г.'!E32 -> 0 | X6: ='Физ.разв. 1-2 г.Н.г.'!F32 -> 0 | Y6: ='Физ.разв. 1-2 г.Н.г.'!G32 -> 0 | Z6: ='Физ.разв. 1-2 г.Н.г.'!L32 -> 0 | AA6: ='Физ.разв. 1-2 г.Н.г.'!N32 -> 0 | AB6: ='Физ.разв. 1-2 г.Н.г.'!R32 -> 0 | AC6: ='Физ.разв. 1-2 г.Н.г.'!S32 -> 0
A7: конец года | B7: ='Позн.разв. 1-2 г К.г '!H32 -> 0 | C7: ='Позн.разв. 1-2 г К.г '!O32 -> 0 | D7: ='Позн.разв. 1-2 г К.г '!R32 -> 0 | E7: ='Позн.разв. 1-2 г К.г '!S32 -> 0 | F7: ='Реч.разв. 1-2 г. К.г.'!E32 -> 0 | G7: ='Реч.разв. 1-2 г. К.г.'!F32 -> 0 | H7: ='Реч.разв. 1-2 г. К.г.'!G32 -> 0 | I7: ='Реч.разв. 1-2 г. К.г.'!H32 -> 0 | J7: ='Худ.-эст.1-2 г.К.г.'!E33 -> 0 | K7: ='Худ.-эст.1-2 г.К.г.'!F33 -> 0 | L7: ='Худ.-эст.1-2 г.К.г.'!G33 -> 0 | M7: ='Худ.-эст.1-2 г.К.г.'!H33 -> * | N7: ='Худ.-эст.1-2 г.К.г.'!I33 -> 0 | O7: ='Худ.-эст.1-2 г.К.г.'!J33 -> 0 | P7: ='Соц.ком. 1-2 г. К.г. '!E32 -> 0 | Q7: ='Соц.ком. 1-2 г. К.г. '!F32 -> * | R7: ='Соц.ком. 1-2 г. К.г. '!G32 -> 0 | S7: ='Соц.ком. 1-2 г. К.г. '!H32 -> * | T7: ='Соц.ком. 1-2 г. К.г. '!I32 -> 0 | U7: ='Соц.ком. 1-2 г. К.г. '!J32 -> 0 | V7: ='Соц.ком. 1-2 г. К.г. '!K32 -> 0 | W7: ='Физ.разв. 1-2 г.К.г.'!E32 -> 0 | X7: ='Физ.разв. 1-2 г.К.г.'!F32 -> 0 | Y7: ='Физ.разв. 1-2 г.К.г.'!G32 -> 0 | Z7: ='Физ.разв. 1-2 г.К.г.'!L32 -> 0 | AA7: ='Физ.разв. 1-2 г.К.г.'!N32 -> 0 | AB7: ='Физ.разв. 1-2 г.К.г.'!R32 -> 0 | AC7: ='Физ.разв. 1-2 г.К.г.'!S32 -> 0

Sheet 23
A2: ='Список детей 1-2 года'!B26 -> 0 | B2: Познавательное развитие | F2: Речевое развитие | J2: Художественно-эстетическое развитие (Музыкальная деятельность) | P2: Социльно-коммуникативное развитие | W2: Физическое развитие
B3: Познавательные действия | C3: окружающий мир | D3: Природа | F3: Общее речевое развитие | I3: Формирование словаря | J3: Слушание | K3: Пение | L3: Музыкально-ритмические движения | N3: Игра на детских музыкальных инструментах | P3: Сфера социальных отношений | W3: Крупная моторика. ОВД, ОРУ | Z3: Мелкая моторика | AA3: КГН | AB3: ЗОЖ | AC3: Подвижные игры
C4: Предметный мир | D4: Объекты живой природы | E4: Объекты неживой природы, природные явления | F4: Ребенок понимает речь взрослого | G4: Ребенок откликается на свое имя | H4: Ребенок показывает окружающие предметы по заданию педагога | I4: Ребенок произносит несколько простых, облегченных слов (мама, папа, баба, деда и т.д.), некоторые несут смысловую нагрузку | J4: Ребенок эмоционально реагирует на музыку | K4: Ребенок эмоционально реагирует на пение | L4: Ребенок хлопает в ладоши, притоптывает, слегка приседает, сгибает и разгибает ноги в коленях | N4: Ребенок звенит погремушкой, колокольчиком, бубном, ударяет в барабан | O4: Ребенок прислушивается к звучанию | P4: Отношение к самому себе | R4: Отношение к взрослым | T4: Поведение | U4: Семья | V4: Игровое поведение | W4: Бросание, катание, ловля, метание | X4: Ползанье, лазанье | Y4: Ходьба | Z4: Координация рук и глаз | AA4: Навыки соблюдения чистоты тела (правила личной гигиены)
B5: Ребенок обнаруживает поисковую и познавательную активность по отношению к предметному окружению | C5: Ребенок проявляет интерес к окружающим предметам и действиям с ними | D5: Ребенок проявляет интерес к животным, птицам, рыбам, растениям | E5: Ребенок проявляет интерес к объектам неживой природы | P5: Ребенок откликается на свое имя | R5: Ребенок эмоционально реагирует на внимание взрослого, проявляет радость в ответ на общение со взрослым | T5: Ребенок выполняет простые просьбы взрослого, понимает и адекватно реагирует на слова, регулирующие поведение (можно/нельзя) | U5: Ребенок положительно реагирует на знакомых людей, имена близких родственников | V5: Ребенок активно действует с игрушками, подражая действиям взрослых (катает машинку, кормит собачку, качает куклу) | W5: Ребенок проявляет двигательную активность в освоении пространственной среды, используя движения хватания, бросания | X5: Ребенок проявляет двигательную активность в освоении пространственной среды, используя движения ползанья, лазанья | Y5: Ребенок начинает осваивать самостоятельную ходьбу. Ребенок при поддержке поднимается, приседает на корточки. | Z5: Ребенок манипулирует предметами (поднимает, переносит, ставит один предмет на другой) | AA5: Ребенок положительно реагирует на прием пищи и гигиенические процедуры | AB5: Ребенок эмоционально откликается при проведении комплекса гимнастики и закаливания | AC5: Ребенок эмоционально откликается на игровые действия
A6: начало года | B6: ='Позн.разв. 1-2 г Н.г '!H33 -> 0 | C6: ='Позн.разв. 1-2 г Н.г '!O33 -> 0 | D6: ='Позн.разв. 1-2 г Н.г '!R33 -> 0 | E6: ='Позн.разв. 1-2 г Н.г '!S33 -> 0 | F6: ='Реч.разв. 1-2 г. Н.г.'!E33 -> 0 | G6: ='Реч.разв. 1-2 г. Н.г.'!F33 -> 0 | H6: ='Реч.разв. 1-2 г. Н.г.'!G33 -> 0 | I6: ='Реч.разв. 1-2 г. Н.г.'!H33 -> 0 | J6: ='Худ.-эст. 1-2 г. Н.г'!E34 -> 0 | K6: ='Худ.-эст. 1-2 г. Н.г'!F34 -> 0 | L6: ='Худ.-эст. 1-2 г. Н.г'!G34 -> 0 | M6: ='Худ.-эст. 1-2 г. Н.г'!H34 -> * | N6: ='Худ.-эст. 1-2 г. Н.г'!I34 -> 0 | O6: ='Худ.-эст. 1-2 г. Н.г'!J34 -> 0 | P6: ='Соц.ком. 1-2 г. Н.г.'!E33 -> 0 | Q6: ='Соц.ком. 1-2 г. Н.г.'!F33 -> * | R6: ='Соц.ком. 1-2 г. Н.г.'!G33 -> 0 | S6: ='Соц.ком. 1-2 г. Н.г.'!H33 -> * | T6: ='Соц.ком. 1-2 г. Н.г.'!I33 -> 0 | U6: ='Соц.ком. 1-2 г. Н.г.'!J33 -> 0 | V6: ='Соц.ком. 1-2 г. Н.г.'!K33 -> 0 | W6: ='Физ.разв. 1-2 г.Н.г.'!E33 -> 0 | X6: ='Физ.разв. 1-2 г.Н.г.'!F33 -> 0 | Y6: ='Физ.разв. 1-2 г.Н.г.'!G33 -> 0 | Z6: ='Физ.разв. 1-2 г.Н.г.'!L33 -> 0 | AA6: ='Физ.разв. 1-2 г.Н.г.'!N33 -> 0 | AB6: ='Физ.разв. 1-2 г.Н.г.'!R33 -> 0 | AC6: ='Физ.разв. 1-2 г.Н.г.'!S33 -> 0
A7: конец года | B7: ='Позн.разв. 1-2 г К.г '!H33 -> 0 | C7: ='Позн.разв. 1-2 г К.г '!O33 -> 0 | D7: ='Позн.разв. 1-2 г К.г '!R33 -> 0 | E7: ='Позн.разв. 1-2 г К.г '!S33 -> 0 | F7: ='Реч.разв. 1-2 г. К.г.'!E33 -> 0 | G7: ='Реч.разв. 1-2 г. К.г.'!F33 -> 0 | H7: ='Реч.разв. 1-2 г. К.г.'!G33 -> 0 | I7: ='Реч.разв. 1-2 г. К.г.'!H33 -> 0 | J7: ='Худ.-эст.1-2 г.К.г.'!E34 -> 0 | K7: ='Худ.-эст.1-2 г.К.г.'!F34 -> 0 | L7: ='Худ.-эст.1-2 г.К.г.'!G34 -> 0 | M7: ='Худ.-эст.1-2 г.К.г.'!H34 -> * | N7: ='Худ.-эст.1-2 г.К.г.'!I34 -> 0 | O7: ='Худ.-эст.1-2 г.К.г.'!J34 -> 0 | P7: ='Соц.ком. 1-2 г. К.г. '!E33 -> 0 | Q7: ='Соц.ком. 1-2 г. К.г. '!F33 -> * | R7: ='Соц.ком. 1-2 г. К.г. '!G33 -> 0 | S7: ='Соц.ком. 1-2 г. К.г. '!H33 -> * | T7: ='Соц.ком. 1-2 г. К.г. '!I33 -> 0 | U7: ='Соц.ком. 1-2 г. К.г. '!J33 -> 0 | V7: ='Соц.ком. 1-2 г. К.г. '!K33 -> 0 | W7: ='Физ.разв. 1-2 г.К.г.'!E33 -> 0 | X7: ='Физ.разв. 1-2 г.К.г.'!F33 -> 0 | Y7: ='Физ.разв. 1-2 г.К.г.'!G33 -> 0 | Z7: ='Физ.разв. 1-2 г.К.г.'!L33 -> 0 | AA7: ='Физ.разв. 1-2 г.К.г.'!N33 -> 0 | AB7: ='Физ.разв. 1-2 г.К.г.'!R33 -> 0 | AC7: ='Физ.разв. 1-2 г.К.г.'!S33 -> 0

Sheet 24
A2: ='Список детей 1-2 года'!B27 -> 0 | B2: Познавательное развитие | F2: Речевое развитие | J2: Художественно-эстетическое развитие (Музыкальная деятельность) | P2: Социльно-коммуникативное развитие | W2: Физическое развитие
B3: Познавательные действия | C3: окружающий мир | D3: Природа | F3: Общее речевое развитие | I3: Формирование словаря | J3: Слушание | K3: Пение | L3: Музыкально-ритмические движения | N3: Игра на детских музыкальных инструментах | P3: Сфера социальных отношений | W3: Крупная моторика. ОВД, ОРУ | Z3: Мелкая моторика | AA3: КГН | AB3: ЗОЖ | AC3: Подвижные игры
C4: Предметный мир | D4: Объекты живой природы | E4: Объекты неживой природы, природные явления | F4: Ребенок понимает речь взрослого | G4: Ребенок откликается на свое имя | H4: Ребенок показывает окружающие предметы по заданию педагога | I4: Ребенок произносит несколько простых, облегченных слов (мама, папа, баба, деда и т.д.), некоторые несут смысловую нагрузку | J4: Ребенок эмоционально реагирует на музыку | K4: Ребенок эмоционально реагирует на пение | L4: Ребенок хлопает в ладоши, притоптывает, слегка приседает, сгибает и разгибает ноги в коленях | N4: Ребенок звенит погремушкой, колокольчиком, бубном, ударяет в барабан | O4: Ребенок прислушивается к звучанию | P4: Отношение к самому себе | R4: Отношение к взрослым | T4: Поведение | U4: Семья | V4: Игровое поведение | W4: Бросание, катание, ловля, метание | X4: Ползанье, лазанье | Y4: Ходьба | Z4: Координация рук и глаз | AA4: Навыки соблюдения чистоты тела (правила личной гигиены)
B5: Ребенок обнаруживает поисковую и познавательную активность по отношению к предметному окружению | C5: Ребенок проявляет интерес к окружающим предметам и действиям с ними | D5: Ребенок проявляет интерес к животным, птицам, рыбам, растениям | E5: Ребенок проявляет интерес к объектам неживой природы | P5: Ребенок откликается на свое имя | R5: Ребенок эмоционально реагирует на внимание взрослого, проявляет радость в ответ на общение со взрослым | T5: Ребенок выполняет простые просьбы взрослого, понимает и адекватно реагирует на слова, регулирующие поведение (можно/нельзя) | U5: Ребенок положительно реагирует на знакомых людей, имена близких родственников | V5: Ребенок активно действует с игрушками, подражая действиям взрослых (катает машинку, кормит собачку, качает куклу) | W5: Ребенок проявляет двигательную активность в освоении пространственной среды, используя движения хватания, бросания | X5: Ребенок проявляет двигательную активность в освоении пространственной среды, используя движения ползанья, лазанья | Y5: Ребенок начинает осваивать самостоятельную ходьбу. Ребенок при поддержке поднимается, приседает на корточки. | Z5: Ребенок манипулирует предметами (поднимает, переносит, ставит один предмет на другой) | AA5: Ребенок положительно реагирует на прием пищи и гигиенические процедуры | AB5: Ребенок эмоционально откликается при проведении комплекса гимнастики и закаливания | AC5: Ребенок эмоционально откликается на игровые действия
A6: начало года | B6: ='Позн.разв. 1-2 г Н.г '!H34 -> 0 | C6: ='Позн.разв. 1-2 г Н.г '!O34 -> 0 | D6: ='Позн.разв. 1-2 г Н.г '!R34 -> 0 | E6: ='Позн.разв. 1-2 г Н.г '!S34 -> 0 | F6: ='Реч.разв. 1-2 г. Н.г.'!E34 -> 0 | G6: ='Реч.разв. 1-2 г. Н.г.'!F34 -> 0 | H6: ='Реч.разв. 1-2 г. Н.г.'!G34 -> 0 | I6: ='Реч.разв. 1-2 г. Н.г.'!H34 -> 0 | J6: ='Худ.-эст. 1-2 г. Н.г'!E35 -> 0 | K6: ='Худ.-эст. 1-2 г. Н.г'!F35 -> 0 | L6: ='Худ.-эст. 1-2 г. Н.г'!G35 -> 0 | M6: ='Худ.-эст. 1-2 г. Н.г'!H35 -> * | N6: ='Худ.-эст. 1-2 г. Н.г'!I35 -> 0 | O6: ='Худ.-эст. 1-2 г. Н.г'!J35 -> 0 | P6: ='Соц.ком. 1-2 г. Н.г.'!E34 -> 0 | Q6: ='Соц.ком. 1-2 г. Н.г.'!F34 -> * | R6: ='Соц.ком. 1-2 г. Н.г.'!G34 -> 0 | S6: ='Соц.ком. 1-2 г. Н.г.'!H34 -> * | T6: ='Соц.ком. 1-2 г. Н.г.'!I34 -> 0 | U6: ='Соц.ком. 1-2 г. Н.г.'!J34 -> 0 | V6: ='Соц.ком. 1-2 г. Н.г.'!K34 -> 0 | W6: ='Физ.разв. 1-2 г.Н.г.'!E34 -> 0 | X6: ='Физ.разв. 1-2 г.Н.г.'!F34 -> 0 | Y6: ='Физ.разв. 1-2 г.Н.г.'!G34 -> 0 | Z6: ='Физ.разв. 1-2 г.Н.г.'!L34 -> 0 | AA6: ='Физ.разв. 1-2 г.Н.г.'!N34 -> 0 | AB6: ='Физ.разв. 1-2 г.Н.г.'!R34 -> 0 | AC6: ='Физ.разв. 1-2 г.Н.г.'!S34 -> 0
A7: конец года | B7: ='Позн.разв. 1-2 г К.г '!H34 -> 0 | C7: ='Позн.разв. 1-2 г К.г '!O34 -> 0 | D7: ='Позн.разв. 1-2 г К.г '!R34 -> 0 | E7: ='Позн.разв. 1-2 г К.г '!S34 -> 0 | F7: ='Реч.разв. 1-2 г. К.г.'!E34 -> 0 | G7: ='Реч.разв. 1-2 г. К.г.'!F34 -> 0 | H7: ='Реч.разв. 1-2 г. К.г.'!G34 -> 0 | I7: ='Реч.разв. 1-2 г. К.г.'!H34 -> 0 | J7: ='Худ.-эст.1-2 г.К.г.'!E35 -> 0 | K7: ='Худ.-эст.1-2 г.К.г.'!F35 -> 0 | L7: ='Худ.-эст.1-2 г.К.г.'!G35 -> 0 | M7: ='Худ.-эст.1-2 г.К.г.'!H35 -> * | N7: ='Худ.-эст.1-2 г.К.г.'!I35 -> 0 | O7: ='Худ.-эст.1-2 г.К.г.'!J35 -> 0 | P7: ='Соц.ком. 1-2 г. К.г. '!E34 -> 0 | Q7: ='Соц.ком. 1-2 г. К.г. '!F34 -> * | R7: ='Соц.ком. 1-2 г. К.г. '!G34 -> 0 | S7: ='Соц.ком. 1-2 г. К.г. '!H34 -> * | T7: ='Соц.ком. 1-2 г. К.г. '!I34 -> 0 | U7: ='Соц.ком. 1-2 г. К.г. '!J34 -> 0 | V7: ='Соц.ком. 1-2 г. К.г. '!K34 -> 0 | W7: ='Физ.разв. 1-2 г.К.г.'!E34 -> 0 | X7: ='Физ.разв. 1-2 г.К.г.'!F34 -> 0 | Y7: ='Физ.разв. 1-2 г.К.г.'!G34 -> 0 | Z7: ='Физ.разв. 1-2 г.К.г.'!L34 -> 0 | AA7: ='Физ.разв. 1-2 г.К.г.'!N34 -> 0 | AB7: ='Физ.разв. 1-2 г.К.г.'!R34 -> 0 | AC7: ='Физ.разв. 1-2 г.К.г.'!S34 -> 0

Sheet 25
A2: ='Список детей 1-2 года'!B28 -> 0 | B2: Познавательное развитие | F2: Речевое развитие | J2: Художественно-эстетическое развитие (Музыкальная деятельность) | P2: Социльно-коммуникативное развитие | W2: Физическое развитие
B3: Познавательные действия | C3: окружающий мир | D3: Природа | F3: Общее речевое развитие | I3: Формирование словаря | J3: Слушание | K3: Пение | L3: Музыкально-ритмические движения | N3: Игра на детских музыкальных инструментах | P3: Сфера социальных отношений | W3: Крупная моторика. ОВД, ОРУ | Z3: Мелкая моторика | AA3: КГН | AB3: ЗОЖ | AC3: Подвижные игры
C4: Предметный мир | D4: Объекты живой природы | E4: Объекты неживой природы, природные явления | F4: Ребенок понимает речь взрослого | G4: Ребенок откликается на свое имя | H4: Ребенок показывает окружающие предметы по заданию педагога | I4: Ребенок произносит несколько простых, облегченных слов (мама, папа, баба, деда и т.д.), некоторые несут смысловую нагрузку | J4: Ребенок эмоционально реагирует на музыку | K4: Ребенок эмоционально реагирует на пение | L4: Ребенок хлопает в ладоши, притоптывает, слегка приседает, сгибает и разгибает ноги в коленях | N4: Ребенок звенит погремушкой, колокольчиком, бубном, ударяет в барабан | O4: Ребенок прислушивается к звучанию | P4: Отношение к самому себе | R4: Отношение к взрослым | T4: Поведение | U4: Семья | V4: Игровое поведение | W4: Бросание, катание, ловля, метание | X4: Ползанье, лазанье | Y4: Ходьба | Z4: Координация рук и глаз | AA4: Навыки соблюдения чистоты тела (правила личной гигиены)
B5: Ребенок обнаруживает поисковую и познавательную активность по отношению к предметному окружению | C5: Ребенок проявляет интерес к окружающим предметам и действиям с ними | D5: Ребенок проявляет интерес к животным, птицам, рыбам, растениям | E5: Ребенок проявляет интерес к объектам неживой природы | P5: Ребенок откликается на свое имя | R5: Ребенок эмоционально реагирует на внимание взрослого, проявляет радость в ответ на общение со взрослым | T5: Ребенок выполняет простые просьбы взрослого, понимает и адекватно реагирует на слова, регулирующие поведение (можно/нельзя) | U5: Ребенок положительно реагирует на знакомых людей, имена близких родственников | V5: Ребенок активно действует с игрушками, подражая действиям взрослых (катает машинку, кормит собачку, качает куклу) | W5: Ребенок проявляет двигательную активность в освоении пространственной среды, используя движения хватания, бросания | X5: Ребенок проявляет двигательную активность в освоении пространственной среды, используя движения ползанья, лазанья | Y5: Ребенок начинает осваивать самостоятельную ходьбу. Ребенок при поддержке поднимается, приседает на корточки. | Z5: Ребенок манипулирует предметами (поднимает, переносит, ставит один предмет на другой) | AA5: Ребенок положительно реагирует на прием пищи и гигиенические процедуры | AB5: Ребенок эмоционально откликается при проведении комплекса гимнастики и закаливания | AC5: Ребенок эмоционально откликается на игровые действия
A6: начало года | B6: ='Позн.разв. 1-2 г Н.г '!H35 -> 0 | C6: ='Позн.разв. 1-2 г Н.г '!O35 -> 0 | D6: ='Позн.разв. 1-2 г Н.г '!R35 -> 0 | E6: ='Позн.разв. 1-2 г Н.г '!S35 -> 0 | F6: ='Реч.разв. 1-2 г. Н.г.'!E35 -> 0 | G6: ='Реч.разв. 1-2 г. Н.г.'!F35 -> 0 | H6: ='Реч.разв. 1-2 г. Н.г.'!G35 -> 0 | I6: ='Реч.разв. 1-2 г. Н.г.'!H35 -> 0 | J6: ='Худ.-эст. 1-2 г. Н.г'!E36 -> 0 | K6: ='Худ.-эст. 1-2 г. Н.г'!F36 -> 0 | L6: ='Худ.-эст. 1-2 г. Н.г'!G36 -> 0 | M6: ='Худ.-эст. 1-2 г. Н.г'!H36 -> * | N6: ='Худ.-эст. 1-2 г. Н.г'!I36 -> 0 | O6: ='Худ.-эст. 1-2 г. Н.г'!J36 -> 0 | P6: ='Соц.ком. 1-2 г. Н.г.'!E35 -> 0 | Q6: ='Соц.ком. 1-2 г. Н.г.'!F35 -> * | R6: ='Соц.ком. 1-2 г. Н.г.'!G35 -> 0 | S6: ='Соц.ком. 1-2 г. Н.г.'!H35 -> * | T6: ='Соц.ком. 1-2 г. Н.г.'!I35 -> 0 | U6: ='Соц.ком. 1-2 г. Н.г.'!J35 -> 0 | V6: ='Соц.ком. 1-2 г. Н.г.'!K35 -> 0 | W6: ='Физ.разв. 1-2 г.Н.г.'!E35 -> 0 | X6: ='Физ.разв. 1-2 г.Н.г.'!F35 -> 0 | Y6: ='Физ.разв. 1-2 г.Н.г.'!G35 -> 0 | Z6: ='Физ.разв. 1-2 г.Н.г.'!L35 -> 0 | AA6: ='Физ.разв. 1-2 г.Н.г.'!N35 -> 0 | AB6: ='Физ.разв. 1-2 г.Н.г.'!R35 -> 0 | AC6: ='Физ.разв. 1-2 г.Н.г.'!S35 -> 0
A7: конец года | B7: ='Позн.разв. 1-2 г К.г '!H35 -> 0 | C7: ='Позн.разв. 1-2 г К.г '!O35 -> 0 | D7: ='Позн.разв. 1-2 г К.г '!R35 -> 0 | E7: ='Позн.разв. 1-2 г К.г '!S35 -> 0 | F7: ='Реч.разв. 1-2 г. К.г.'!E35 -> 0 | G7: ='Реч.разв. 1-2 г. К.г.'!F35 -> 0 | H7: ='Реч.разв. 1-2 г. К.г.'!G35 -> 0 | I7: ='Реч.разв. 1-2 г. К.г.'!H35 -> 0 | J7: ='Худ.-эст.1-2 г.К.г.'!E36 -> 0 | K7: ='Худ.-эст.1-2 г.К.г.'!F36 -> 0 | L7: ='Худ.-эст.1-2 г.К.г.'!G36 -> 0 | M7: ='Худ.-эст.1-2 г.К.г.'!H36 -> * | N7: ='Худ.-эст.1-2 г.К.г.'!I36 -> 0 | O7: ='Худ.-эст.1-2 г.К.г.'!J36 -> 0 | P7: ='Соц.ком. 1-2 г. К.г. '!E35 -> 0 | Q7: ='Соц.ком. 1-2 г. К.г. '!F35 -> * | R7: ='Соц.ком. 1-2 г. К.г. '!G35 -> 0 | S7: ='Соц.ком. 1-2 г. К.г. '!H35 -> * | T7: ='Соц.ком. 1-2 г. К.г. '!I35 -> 0 | U7: ='Соц.ком. 1-2 г. К.г. '!J35 -> 0 | V7: ='Соц.ком. 1-2 г. К.г. '!K35 -> 0 | W7: ='Физ.разв. 1-2 г.К.г.'!E35 -> 0 | X7: ='Физ.разв. 1-2 г.К.г.'!F35 -> 0 | Y7: ='Физ.разв. 1-2 г.К.г.'!G35 -> 0 | Z7: ='Физ.разв. 1-2 г.К.г.'!L35 -> 0 | AA7: ='Физ.разв. 1-2 г.К.г.'!N35 -> 0 | AB7: ='Физ.разв. 1-2 г.К.г.'!R35 -> 0 | AC7: ='Физ.разв. 1-2 г.К.г.'!S35 -> 0

Sheet 26
A2: ='Список детей 1-2 года'!B29 -> 0 | B2: Познавательное развитие | F2: Речевое развитие | J2: Художественно-эстетическое развитие (Музыкальная деятельность) | P2: Социльно-коммуникативное развитие | W2: Физическое развитие
B3: Познавательные действия | C3: окружающий мир | D3: Природа | F3: Общее речевое развитие | I3: Формирование словаря | J3: Слушание | K3: Пение | L3: Музыкально-ритмические движения | N3: Игра на детских музыкальных инструментах | P3: Сфера социальных отношений | W3: Крупная моторика. ОВД, ОРУ | Z3: Мелкая моторика | AA3: КГН | AB3: ЗОЖ | AC3: Подвижные игры
C4: Предметный мир | D4: Объекты живой природы | E4: Объекты неживой природы, природные явления | F4: Ребенок понимает речь взрослого | G4: Ребенок откликается на свое имя | H4: Ребенок показывает окружающие предметы по заданию педагога | I4: Ребенок произносит несколько простых, облегченных слов (мама, папа, баба, деда и т.д.), некоторые несут смысловую нагрузку | J4: Ребенок эмоционально реагирует на музыку | K4: Ребенок эмоционально реагирует на пение | L4: Ребенок хлопает в ладоши, притоптывает, слегка приседает, сгибает и разгибает ноги в коленях | N4: Ребенок звенит погремушкой, колокольчиком, бубном, ударяет в барабан | O4: Ребенок прислушивается к звучанию | P4: Отношение к самому себе | R4: Отношение к взрослым | T4: Поведение | U4: Семья | V4: Игровое поведение | W4: Бросание, катание, ловля, метание | X4: Ползанье, лазанье | Y4: Ходьба | Z4: Координация рук и глаз | AA4: Навыки соблюдения чистоты тела (правила личной гигиены)
B5: Ребенок обнаруживает поисковую и познавательную активность по отношению к предметному окружению | C5: Ребенок проявляет интерес к окружающим предметам и действиям с ними | D5: Ребенок проявляет интерес к животным, птицам, рыбам, растениям | E5: Ребенок проявляет интерес к объектам неживой природы | P5: Ребенок откликается на свое имя | R5: Ребенок эмоционально реагирует на внимание взрослого, проявляет радость в ответ на общение со взрослым | T5: Ребенок выполняет простые просьбы взрослого, понимает и адекватно реагирует на слова, регулирующие поведение (можно/нельзя) | U5: Ребенок положительно реагирует на знакомых людей, имена близких родственников | V5: Ребенок активно действует с игрушками, подражая действиям взрослых (катает машинку, кормит собачку, качает куклу) | W5: Ребенок проявляет двигательную активность в освоении пространственной среды, используя движения хватания, бросания | X5: Ребенок проявляет двигательную активность в освоении пространственной среды, используя движения ползанья, лазанья | Y5: Ребенок начинает осваивать самостоятельную ходьбу. Ребенок при поддержке поднимается, приседает на корточки. | Z5: Ребенок манипулирует предметами (поднимает, переносит, ставит один предмет на другой) | AA5: Ребенок положительно реагирует на прием пищи и гигиенические процедуры | AB5: Ребенок эмоционально откликается при проведении комплекса гимнастики и закаливания | AC5: Ребенок эмоционально откликается на игровые действия
A6: начало года | B6: ='Позн.разв. 1-2 г Н.г '!H36 -> 0 | C6: ='Позн.разв. 1-2 г Н.г '!O36 -> 0 | D6: ='Позн.разв. 1-2 г Н.г '!R36 -> 0 | E6: ='Позн.разв. 1-2 г Н.г '!S36 -> 0 | F6: ='Реч.разв. 1-2 г. Н.г.'!E36 -> 0 | G6: ='Реч.разв. 1-2 г. Н.г.'!F36 -> 0 | H6: ='Реч.разв. 1-2 г. Н.г.'!G36 -> 0 | I6: ='Реч.разв. 1-2 г. Н.г.'!H36 -> 0 | J6: ='Худ.-эст. 1-2 г. Н.г'!E37 -> 0 | K6: ='Худ.-эст. 1-2 г. Н.г'!F37 -> 0 | L6: ='Худ.-эст. 1-2 г. Н.г'!G37 -> 0 | M6: ='Худ.-эст. 1-2 г. Н.г'!H37 -> * | N6: ='Худ.-эст. 1-2 г. Н.г'!I37 -> 0 | O6: ='Худ.-эст. 1-2 г. Н.г'!J37 -> 0 | P6: ='Соц.ком. 1-2 г. Н.г.'!E36 -> 0 | Q6: ='Соц.ком. 1-2 г. Н.г.'!F36 -> * | R6: ='Соц.ком. 1-2 г. Н.г.'!G36 -> 0 | S6: ='Соц.ком. 1-2 г. Н.г.'!H36 -> * | T6: ='Соц.ком. 1-2 г. Н.г.'!I36 -> 0 | U6: ='Соц.ком. 1-2 г. Н.г.'!J36 -> 0 | V6: ='Соц.ком. 1-2 г. Н.г.'!K36 -> 0 | W6: ='Физ.разв. 1-2 г.Н.г.'!E36 -> 0 | X6: ='Физ.разв. 1-2 г.Н.г.'!F36 -> 0 | Y6: ='Физ.разв. 1-2 г.Н.г.'!G36 -> 0 | Z6: ='Физ.разв. 1-2 г.Н.г.'!L36 -> 0 | AA6: ='Физ.разв. 1-2 г.Н.г.'!N36 -> 0 | AB6: ='Физ.разв. 1-2 г.Н.г.'!R36 -> 0 | AC6: ='Физ.разв. 1-2 г.Н.г.'!S36 -> 0
A7: конец года | B7: ='Позн.разв. 1-2 г К.г '!H36 -> 0 | C7: ='Позн.разв. 1-2 г К.г '!O36 -> 0 | D7: ='Позн.разв. 1-2 г К.г '!R36 -> 0 | E7: ='Позн.разв. 1-2 г К.г '!S36 -> 0 | F7: ='Реч.разв. 1-2 г. К.г.'!E36 -> 0 | G7: ='Реч.разв. 1-2 г. К.г.'!F36 -> 0 | H7: ='Реч.разв. 1-2 г. К.г.'!G36 -> 0 | I7: ='Реч.разв. 1-2 г. К.г.'!H36 -> 0 | J7: ='Худ.-эст.1-2 г.К.г.'!E37 -> 0 | K7: ='Худ.-эст.1-2 г.К.г.'!F37 -> 0 | L7: ='Худ.-эст.1-2 г.К.г.'!G37 -> 0 | M7: ='Худ.-эст.1-2 г.К.г.'!H37 -> * | N7: ='Худ.-эст.1-2 г.К.г.'!I37 -> 0 | O7: ='Худ.-эст.1-2 г.К.г.'!J37 -> 0 | P7: ='Соц.ком. 1-2 г. К.г. '!E36 -> 0 | Q7: ='Соц.ком. 1-2 г. К.г. '!F36 -> * | R7: ='Соц.ком. 1-2 г. К.г. '!G36 -> 0 | S7: ='Соц.ком. 1-2 г. К.г. '!H36 -> * | T7: ='Соц.ком. 1-2 г. К.г. '!I36 -> 0 | U7: ='Соц.ком. 1-2 г. К.г. '!J36 -> 0 | V7: ='Соц.ком. 1-2 г. К.г. '!K36 -> 0 | W7: ='Физ.разв. 1-2 г.К.г.'!E36 -> 0 | X7: ='Физ.разв. 1-2 г.К.г.'!F36 -> 0 | Y7: ='Физ.разв. 1-2 г.К.г.'!G36 -> 0 | Z7: ='Физ.разв. 1-2 г.К.г.'!L36 -> 0 | AA7: ='Физ.разв. 1-2 г.К.г.'!N36 -> 0 | AB7: ='Физ.разв. 1-2 г.К.г.'!R36 -> 0 | AC7: ='Физ.разв. 1-2 г.К.г.'!S36 -> 0

Sheet 27
A2: ='Список детей 1-2 года'!B30 -> 0 | B2: Познавательное развитие | F2: Речевое развитие | J2: Художественно-эстетическое развитие (Музыкальная деятельность) | P2: Социльно-коммуникативное развитие | W2: Физическое развитие
B3: Познавательные действия | C3: окружающий мир | D3: Природа | F3: Общее речевое развитие | I3: Формирование словаря | J3: Слушание | K3: Пение | L3: Музыкально-ритмические движения | N3: Игра на детских музыкальных инструментах | P3: Сфера социальных отношений | W3: Крупная моторика. ОВД, ОРУ | Z3: Мелкая моторика | AA3: КГН | AB3: ЗОЖ | AC3: Подвижные игры
C4: Предметный мир | D4: Объекты живой природы | E4: Объекты неживой природы, природные явления | F4: Ребенок понимает речь взрослого | G4: Ребенок откликается на свое имя | H4: Ребенок показывает окружающие предметы по заданию педагога | I4: Ребенок произносит несколько простых, облегченных слов (мама, папа, баба, деда и т.д.), некоторые несут смысловую нагрузку | J4: Ребенок эмоционально реагирует на музыку | K4: Ребенок эмоционально реагирует на пение | L4: Ребенок хлопает в ладоши, притоптывает, слегка приседает, сгибает и разгибает ноги в коленях | N4: Ребенок звенит погремушкой, колокольчиком, бубном, ударяет в барабан | O4: Ребенок прислушивается к звучанию | P4: Отношение к самому себе | R4: Отношение к взрослым | T4: Поведение | U4: Семья | V4: Игровое поведение | W4: Бросание, катание, ловля, метание | X4: Ползанье, лазанье | Y4: Ходьба | Z4: Координация рук и глаз | AA4: Навыки соблюдения чистоты тела (правила личной гигиены)
B5: Ребенок обнаруживает поисковую и познавательную активность по отношению к предметному окружению | C5: Ребенок проявляет интерес к окружающим предметам и действиям с ними | D5: Ребенок проявляет интерес к животным, птицам, рыбам, растениям | E5: Ребенок проявляет интерес к объектам неживой природы | P5: Ребенок откликается на свое имя | R5: Ребенок эмоционально реагирует на внимание взрослого, проявляет радость в ответ на общение со взрослым | T5: Ребенок выполняет простые просьбы взрослого, понимает и адекватно реагирует на слова, регулирующие поведение (можно/нельзя) | U5: Ребенок положительно реагирует на знакомых людей, имена близких родственников | V5: Ребенок активно действует с игрушками, подражая действиям взрослых (катает машинку, кормит собачку, качает куклу) | W5: Ребенок проявляет двигательную активность в освоении пространственной среды, используя движения хватания, бросания | X5: Ребенок проявляет двигательную активность в освоении пространственной среды, используя движения ползанья, лазанья | Y5: Ребенок начинает осваивать самостоятельную ходьбу. Ребенок при поддержке поднимается, приседает на корточки. | Z5: Ребенок манипулирует предметами (поднимает, переносит, ставит один предмет на другой) | AA5: Ребенок положительно реагирует на прием пищи и гигиенические процедуры | AB5: Ребенок эмоционально откликается при проведении комплекса гимнастики и закаливания | AC5: Ребенок эмоционально откликается на игровые действия
A6: начало года | B6: ='Позн.разв. 1-2 г Н.г '!H37 -> 0 | C6: ='Позн.разв. 1-2 г Н.г '!O37 -> 0 | D6: ='Позн.разв. 1-2 г Н.г '!R37 -> 0 | E6: ='Позн.разв. 1-2 г Н.г '!S37 -> 0 | F6: ='Реч.разв. 1-2 г. Н.г.'!E37 -> 0 | G6: ='Реч.разв. 1-2 г. Н.г.'!F37 -> 0 | H6: ='Реч.разв. 1-2 г. Н.г.'!G37 -> 0 | I6: ='Реч.разв. 1-2 г. Н.г.'!H37 -> 0 | J6: ='Худ.-эст. 1-2 г. Н.г'!E38 -> 0 | K6: ='Худ.-эст. 1-2 г. Н.г'!F38 -> 0 | L6: ='Худ.-эст. 1-2 г. Н.г'!G38 -> 0 | M6: ='Худ.-эст. 1-2 г. Н.г'!H38 -> * | N6: ='Худ.-эст. 1-2 г. Н.г'!I38 -> 0 | O6: ='Худ.-эст. 1-2 г. Н.г'!J38 -> 0 | P6: ='Соц.ком. 1-2 г. Н.г.'!E37 -> 0 | Q6: ='Соц.ком. 1-2 г. Н.г.'!F37 -> * | R6: ='Соц.ком. 1-2 г. Н.г.'!G37 -> 0 | S6: ='Соц.ком. 1-2 г. Н.г.'!H37 -> * | T6: ='Соц.ком. 1-2 г. Н.г.'!I37 -> 0 | U6: ='Соц.ком. 1-2 г. Н.г.'!J37 -> 0 | V6: ='Соц.ком. 1-2 г. Н.г.'!K37 -> 0 | W6: ='Физ.разв. 1-2 г.Н.г.'!E37 -> 0 | X6: ='Физ.разв. 1-2 г.Н.г.'!F37 -> 0 | Y6: ='Физ.разв. 1-2 г.Н.г.'!G37 -> 0 | Z6: ='Физ.разв. 1-2 г.Н.г.'!L37 -> 0 | AA6: ='Физ.разв. 1-2 г.Н.г.'!N37 -> 0 | AB6: ='Физ.разв. 1-2 г.Н.г.'!R37 -> 0 | AC6: ='Физ.разв. 1-2 г.Н.г.'!S37 -> 0
A7: конец года | B7: ='Позн.разв. 1-2 г К.г '!H37 -> 0 | C7: ='Позн.разв. 1-2 г К.г '!O37 -> 0 | D7: ='Позн.разв. 1-2 г К.г '!R37 -> 0 | E7: ='Позн.разв. 1-2 г К.г '!S37 -> 0 | F7: ='Реч.разв. 1-2 г. К.г.'!E37 -> 0 | G7: ='Реч.разв. 1-2 г. К.г.'!F37 -> 0 | H7: ='Реч.разв. 1-2 г. К.г.'!G37 -> 0 | I7: ='Реч.разв. 1-2 г. К.г.'!H37 -> 0 | J7: ='Худ.-эст.1-2 г.К.г.'!E38 -> 0 | K7: ='Худ.-эст.1-2 г.К.г.'!F38 -> 0 | L7: ='Худ.-эст.1-2 г.К.г.'!G38 -> 0 | M7: ='Худ.-эст.1-2 г.К.г.'!H38 -> * | N7: ='Худ.-эст.1-2 г.К.г.'!I38 -> 0 | O7: ='Худ.-эст.1-2 г.К.г.'!J38 -> 0 | P7: ='Соц.ком. 1-2 г. К.г. '!E37 -> 0 | Q7: ='Соц.ком. 1-2 г. К.г. '!F37 -> * | R7: ='Соц.ком. 1-2 г. К.г. '!G37 -> 0 | S7: ='Соц.ком. 1-2 г. К.г. '!H37 -> * | T7: ='Соц.ком. 1-2 г. К.г. '!I37 -> 0 | U7: ='Соц.ком. 1-2 г. К.г. '!J37 -> 0 | V7: ='Соц.ком. 1-2 г. К.г. '!K37 -> 0 | W7: ='Физ.разв. 1-2 г.К.г.'!E37 -> 0 | X7: ='Физ.разв. 1-2 г.К.г.'!F37 -> 0 | Y7: ='Физ.разв. 1-2 г.К.г.'!G37 -> 0 | Z7: ='Физ.разв. 1-2 г.К.г.'!L37 -> 0 | AA7: ='Физ.разв. 1-2 г.К.г.'!N37 -> 0 | AB7: ='Физ.разв. 1-2 г.К.г.'!R37 -> 0 | AC7: ='Физ.разв. 1-2 г.К.г.'!S37 -> 0

Sheet 28
A2: ='Список детей 1-2 года'!B31 -> 0 | B2: Познавательное развитие | F2: Речевое развитие | J2: Художественно-эстетическое развитие (Музыкальная деятельность) | P2: Социльно-коммуникативное развитие | W2: Физическое развитие
B3: Познавательные действия | C3: окружающий мир | D3: Природа | F3: Общее речевое развитие | I3: Формирование словаря | J3: Слушание | K3: Пение | L3: Музыкально-ритмические движения | N3: Игра на детских музыкальных инструментах | P3: Сфера социальных отношений | W3: Крупная моторика. ОВД, ОРУ | Z3: Мелкая моторика | AA3: КГН | AB3: ЗОЖ | AC3: Подвижные игры
C4: Предметный мир | D4: Объекты живой природы | E4: Объекты неживой природы, природные явления | F4: Ребенок понимает речь взрослого | G4: Ребенок откликается на свое имя | H4: Ребенок показывает окружающие предметы по заданию педагога | I4: Ребенок произносит несколько простых, облегченных слов (мама, папа, баба, деда и т.д.), некоторые несут смысловую нагрузку | J4: Ребенок эмоционально реагирует на музыку | K4: Ребенок эмоционально реагирует на пение | L4: Ребенок хлопает в ладоши, притоптывает, слегка приседает, сгибает и разгибает ноги в коленях | N4: Ребенок звенит погремушкой, колокольчиком, бубном, ударяет в барабан | O4: Ребенок прислушивается к звучанию | P4: Отношение к самому себе | R4: Отношение к взрослым | T4: Поведение | U4: Семья | V4: Игровое поведение | W4: Бросание, катание, ловля, метание | X4: Ползанье, лазанье | Y4: Ходьба | Z4: Координация рук и глаз | AA4: Навыки соблюдения чистоты тела (правила личной гигиены)
B5: Ребенок обнаруживает поисковую и познавательную активность по отношению к предметному окружению | C5: Ребенок проявляет интерес к окружающим предметам и действиям с ними | D5: Ребенок проявляет интерес к животным, птицам, рыбам, растениям | E5: Ребенок проявляет интерес к объектам неживой природы | P5: Ребенок откликается на свое имя | R5: Ребенок эмоционально реагирует на внимание взрослого, проявляет радость в ответ на общение со взрослым | T5: Ребенок выполняет простые просьбы взрослого, понимает и адекватно реагирует на слова, регулирующие поведение (можно/нельзя) | U5: Ребенок положительно реагирует на знакомых людей, имена близких родственников | V5: Ребенок активно действует с игрушками, подражая действиям взрослых (катает машинку, кормит собачку, качает куклу) | W5: Ребенок проявляет двигательную активность в освоении пространственной среды, используя движения хватания, бросания | X5: Ребенок проявляет двигательную активность в освоении пространственной среды, используя движения ползанья, лазанья | Y5: Ребенок начинает осваивать самостоятельную ходьбу. Ребенок при поддержке поднимается, приседает на корточки. | Z5: Ребенок манипулирует предметами (поднимает, переносит, ставит один предмет на другой) | AA5: Ребенок положительно реагирует на прием пищи и гигиенические процедуры | AB5: Ребенок эмоционально откликается при проведении комплекса гимнастики и закаливания | AC5: Ребенок эмоционально откликается на игровые действия
A6: начало года | B6: ='Позн.разв. 1-2 г Н.г '!H38 -> 0 | C6: ='Позн.разв. 1-2 г Н.г '!O38 -> 0 | D6: ='Позн.разв. 1-2 г Н.г '!R38 -> 0 | E6: ='Позн.разв. 1-2 г Н.г '!S38 -> 0 | F6: ='Реч.разв. 1-2 г. Н.г.'!E38 -> 0 | G6: ='Реч.разв. 1-2 г. Н.г.'!F38 -> 0 | H6: ='Реч.разв. 1-2 г. Н.г.'!G38 -> 0 | I6: ='Реч.разв. 1-2 г. Н.г.'!H38 -> 0 | J6: ='Худ.-эст. 1-2 г. Н.г'!E39 -> 0 | K6: ='Худ.-эст. 1-2 г. Н.г'!F39 -> 0 | L6: ='Худ.-эст. 1-2 г. Н.г'!G39 -> 0 | M6: ='Худ.-эст. 1-2 г. Н.г'!H39 -> * | N6: ='Худ.-эст. 1-2 г. Н.г'!I39 -> 0 | O6: ='Худ.-эст. 1-2 г. Н.г'!J39 -> 0 | P6: ='Соц.ком. 1-2 г. Н.г.'!E38 -> 0 | Q6: ='Соц.ком. 1-2 г. Н.г.'!F38 -> * | R6: ='Соц.ком. 1-2 г. Н.г.'!G38 -> 0 | S6: ='Соц.ком. 1-2 г. Н.г.'!H38 -> * | T6: ='Соц.ком. 1-2 г. Н.г.'!I38 -> 0 | U6: ='Соц.ком. 1-2 г. Н.г.'!J38 -> 0 | V6: ='Соц.ком. 1-2 г. Н.г.'!K38 -> 0 | W6: ='Физ.разв. 1-2 г.Н.г.'!E38 -> 0 | X6: ='Физ.разв. 1-2 г.Н.г.'!F38 -> 0 | Y6: ='Физ.разв. 1-2 г.Н.г.'!G38 -> 0 | Z6: ='Физ.разв. 1-2 г.Н.г.'!L38 -> 0 | AA6: ='Физ.разв. 1-2 г.Н.г.'!N38 -> 0 | AB6: ='Физ.разв. 1-2 г.Н.г.'!R38 -> 0 | AC6: ='Физ.разв. 1-2 г.Н.г.'!S38 -> 0
A7: конец года | B7: ='Позн.разв. 1-2 г К.г '!H38 -> 0 | C7: ='Позн.разв. 1-2 г К.г '!O38 -> 0 | D7: ='Позн.разв. 1-2 г К.г '!R38 -> 0 | E7: ='Позн.разв. 1-2 г К.г '!S38 -> 0 | F7: ='Реч.разв. 1-2 г. К.г.'!E38 -> 0 | G7: ='Реч.разв. 1-2 г. К.г.'!F38 -> 0 | H7: ='Реч.разв. 1-2 г. К.г.'!G38 -> 0 | I7: ='Реч.разв. 1-2 г. К.г.'!H38 -> 0 | J7: ='Худ.-эст.1-2 г.К.г.'!E39 -> 0 | K7: ='Худ.-эст.1-2 г.К.г.'!F39 -> 0 | L7: ='Худ.-эст.1-2 г.К.г.'!G39 -> 0 | M7: ='Худ.-эст.1-2 г.К.г.'!H39 -> * | N7: ='Худ.-эст.1-2 г.К.г.'!I39 -> 0 | O7: ='Худ.-эст.1-2 г.К.г.'!J39 -> 0 | P7: ='Соц.ком. 1-2 г. К.г. '!E38 -> 0 | Q7: ='Соц.ком. 1-2 г. К.г. '!F38 -> * | R7: ='Соц.ком. 1-2 г. К.г. '!G38 -> 0 | S7: ='Соц.ком. 1-2 г. К.г. '!H38 -> * | T7: ='Соц.ком. 1-2 г. К.г. '!I38 -> 0 | U7: ='Соц.ком. 1-2 г. К.г. '!J38 -> 0 | V7: ='Соц.ком. 1-2 г. К.г. '!K38 -> 0 | W7: ='Физ.разв. 1-2 г.К.г.'!E38 -> 0 | X7: ='Физ.разв. 1-2 г.К.г.'!F38 -> 0 | Y7: ='Физ.разв. 1-2 г.К.г.'!G38 -> 0 | Z7: ='Физ.разв. 1-2 г.К.г.'!L38 -> 0 | AA7: ='Физ.разв. 1-2 г.К.г.'!N38 -> 0 | AB7: ='Физ.разв. 1-2 г.К.г.'!R38 -> 0 | AC7: ='Физ.разв. 1-2 г.К.г.'!S38 -> 0

Sheet 29
A2: ='Список детей 1-2 года'!B32 -> 0 | B2: Познавательное развитие | F2: Речевое развитие | J2: Художественно-эстетическое развитие (Музыкальная деятельность) | P2: Социльно-коммуникативное развитие | W2: Физическое развитие
B3: Познавательные действия | C3: окружающий мир | D3: Природа | F3: Общее речевое развитие | I3: Формирование словаря | J3: Слушание | K3: Пение | L3: Музыкально-ритмические движения | N3: Игра на детских музыкальных инструментах | P3: Сфера социальных отношений | W3: Крупная моторика. ОВД, ОРУ | Z3: Мелкая моторика | AA3: КГН | AB3: ЗОЖ | AC3: Подвижные игры
C4: Предметный мир | D4: Объекты живой природы | E4: Объекты неживой природы, природные явления | F4: Ребенок понимает речь взрослого | G4: Ребенок откликается на свое имя | H4: Ребенок показывает окружающие предметы по заданию педагога | I4: Ребенок произносит несколько простых, облегченных слов (мама, папа, баба, деда и т.д.), некоторые несут смысловую нагрузку | J4: Ребенок эмоционально реагирует на музыку | K4: Ребенок эмоционально реагирует на пение | L4: Ребенок хлопает в ладоши, притоптывает, слегка приседает, сгибает и разгибает ноги в коленях | N4: Ребенок звенит погремушкой, колокольчиком, бубном, ударяет в барабан | O4: Ребенок прислушивается к звучанию | P4: Отношение к самому себе | R4: Отношение к взрослым | T4: Поведение | U4: Семья | V4: Игровое поведение | W4: Бросание, катание, ловля, метание | X4: Ползанье, лазанье | Y4: Ходьба | Z4: Координация рук и глаз | AA4: Навыки соблюдения чистоты тела (правила личной гигиены)
B5: Ребенок обнаруживает поисковую и познавательную активность по отношению к предметному окружению | C5: Ребенок проявляет интерес к окружающим предметам и действиям с ними | D5: Ребенок проявляет интерес к животным, птицам, рыбам, растениям | E5: Ребенок проявляет интерес к объектам неживой природы | P5: Ребенок откликается на свое имя | R5: Ребенок эмоционально реагирует на внимание взрослого, проявляет радость в ответ на общение со взрослым | T5: Ребенок выполняет простые просьбы взрослого, понимает и адекватно реагирует на слова, регулирующие поведение (можно/нельзя) | U5: Ребенок положительно реагирует на знакомых людей, имена близких родственников | V5: Ребенок активно действует с игрушками, подражая действиям взрослых (катает машинку, кормит собачку, качает куклу) | W5: Ребенок проявляет двигательную активность в освоении пространственной среды, используя движения хватания, бросания | X5: Ребенок проявляет двигательную активность в освоении пространственной среды, используя движения ползанья, лазанья | Y5: Ребенок начинает осваивать самостоятельную ходьбу. Ребенок при поддержке поднимается, приседает на корточки. | Z5: Ребенок манипулирует предметами (поднимает, переносит, ставит один предмет на другой) | AA5: Ребенок положительно реагирует на прием пищи и гигиенические процедуры | AB5: Ребенок эмоционально откликается при проведении комплекса гимнастики и закаливания | AC5: Ребенок эмоционально откликается на игровые действия
A6: начало года | B6: ='Позн.разв. 1-2 г Н.г '!H39 -> 0 | C6: ='Позн.разв. 1-2 г Н.г '!O39 -> 0 | D6: ='Позн.разв. 1-2 г Н.г '!R39 -> 0 | E6: ='Позн.разв. 1-2 г Н.г '!S39 -> 0 | F6: ='Реч.разв. 1-2 г. Н.г.'!E39 -> 0 | G6: ='Реч.разв. 1-2 г. Н.г.'!F39 -> 0 | H6: ='Реч.разв. 1-2 г. Н.г.'!G39 -> 0 | I6: ='Реч.разв. 1-2 г. Н.г.'!H39 -> 0 | J6: ='Худ.-эст. 1-2 г. Н.г'!E40 -> 0 | K6: ='Худ.-эст. 1-2 г. Н.г'!F40 -> 0 | L6: ='Худ.-эст. 1-2 г. Н.г'!G40 -> 0 | M6: ='Худ.-эст. 1-2 г. Н.г'!H40 -> * | N6: ='Худ.-эст. 1-2 г. Н.г'!I40 -> 0 | O6: ='Худ.-эст. 1-2 г. Н.г'!J40 -> 0 | P6: ='Соц.ком. 1-2 г. Н.г.'!E39 -> 0 | Q6: ='Соц.ком. 1-2 г. Н.г.'!F39 -> * | R6: ='Соц.ком. 1-2 г. Н.г.'!G39 -> 0 | S6: ='Соц.ком. 1-2 г. Н.г.'!H39 -> * | T6: ='Соц.ком. 1-2 г. Н.г.'!I39 -> 0 | U6: ='Соц.ком. 1-2 г. Н.г.'!J39 -> 0 | V6: ='Соц.ком. 1-2 г. Н.г.'!K39 -> 0 | W6: ='Физ.разв. 1-2 г.Н.г.'!E39 -> 0 | X6: ='Физ.разв. 1-2 г.Н.г.'!F39 -> 0 | Y6: ='Физ.разв. 1-2 г.Н.г.'!G39 -> 0 | Z6: ='Физ.разв. 1-2 г.Н.г.'!L39 -> 0 | AA6: ='Физ.разв. 1-2 г.Н.г.'!N39 -> 0 | AB6: ='Физ.разв. 1-2 г.Н.г.'!R39 -> 0 | AC6: ='Физ.разв. 1-2 г.Н.г.'!S39 -> 0
A7: конец года | B7: ='Позн.разв. 1-2 г К.г '!H39 -> 0 | C7: ='Позн.разв. 1-2 г К.г '!O39 -> 0 | D7: ='Позн.разв. 1-2 г К.г '!R39 -> 0 | E7: ='Позн.разв. 1-2 г К.г '!S39 -> 0 | F7: ='Реч.разв. 1-2 г. К.г.'!E39 -> 0 | G7: ='Реч.разв. 1-2 г. К.г.'!F39 -> 0 | H7: ='Реч.разв. 1-2 г. К.г.'!G39 -> 0 | I7: ='Реч.разв. 1-2 г. К.г.'!H39 -> 0 | J7: ='Худ.-эст.1-2 г.К.г.'!E40 -> 0 | K7: ='Худ.-эст.1-2 г.К.г.'!F40 -> 0 | L7: ='Худ.-эст.1-2 г.К.г.'!G40 -> 0 | M7: ='Худ.-эст.1-2 г.К.г.'!H40 -> * | N7: ='Худ.-эст.1-2 г.К.г.'!I40 -> 0 | O7: ='Худ.-эст.1-2 г.К.г.'!J40 -> 0 | P7: ='Соц.ком. 1-2 г. К.г. '!E39 -> 0 | Q7: ='Соц.ком. 1-2 г. К.г. '!F39 -> * | R7: ='Соц.ком. 1-2 г. К.г. '!G39 -> 0 | S7: ='Соц.ком. 1-2 г. К.г. '!H39 -> * | T7: ='Соц.ком. 1-2 г. К.г. '!I39 -> 0 | U7: ='Соц.ком. 1-2 г. К.г. '!J39 -> 0 | V7: ='Соц.ком. 1-2 г. К.г. '!K39 -> 0 | W7: ='Физ.разв. 1-2 г.К.г.'!E39 -> 0 | X7: ='Физ.разв. 1-2 г.К.г.'!F39 -> 0 | Y7: ='Физ.разв. 1-2 г.К.г.'!G39 -> 0 | Z7: ='Физ.разв. 1-2 г.К.г.'!L39 -> 0 | AA7: ='Физ.разв. 1-2 г.К.г.'!N39 -> 0 | AB7: ='Физ.разв. 1-2 г.К.г.'!R39 -> 0 | AC7: ='Физ.разв. 1-2 г.К.г.'!S39 -> 0

Sheet 30
A2: ='Список детей 1-2 года'!B33 -> 0 | B2: Познавательное развитие | F2: Речевое развитие | J2: Художественно-эстетическое развитие (Музыкальная деятельность) | P2: Социльно-коммуникативное развитие | W2: Физическое развитие
B3: Познавательные действия | C3: окружающий мир | D3: Природа | F3: Общее речевое развитие | I3: Формирование словаря | J3: Слушание | K3: Пение | L3: Музыкально-ритмические движения | N3: Игра на детских музыкальных инструментах | P3: Сфера социальных отношений | W3: Крупная моторика. ОВД, ОРУ | Z3: Мелкая моторика | AA3: КГН | AB3: ЗОЖ | AC3: Подвижные игры
